BEGIN:VCALENDAR
VERSION:2.0
PRODID:-//Rainmakers - ECPv6.15.17.1//NONSGML v1.0//EN
CALSCALE:GREGORIAN
METHOD:PUBLISH
X-ORIGINAL-URL:https://gorainmakers.com
X-WR-CALDESC:Events for Rainmakers
REFRESH-INTERVAL;VALUE=DURATION:PT1H
X-Robots-Tag:noindex
X-PUBLISHED-TTL:PT1H
BEGIN:VTIMEZONE
TZID:America/Indiana/Indianapolis
BEGIN:DAYLIGHT
TZOFFSETFROM:-0500
TZOFFSETTO:-0400
TZNAME:EDT
DTSTART:20170312T070000
END:DAYLIGHT
BEGIN:STANDARD
TZOFFSETFROM:-0400
TZOFFSETTO:-0500
TZNAME:EST
DTSTART:20171105T060000
END:STANDARD
BEGIN:DAYLIGHT
TZOFFSETFROM:-0500
TZOFFSETTO:-0400
TZNAME:EDT
DTSTART:20180311T070000
END:DAYLIGHT
BEGIN:STANDARD
TZOFFSETFROM:-0400
TZOFFSETTO:-0500
TZNAME:EST
DTSTART:20181104T060000
END:STANDARD
BEGIN:DAYLIGHT
TZOFFSETFROM:-0500
TZOFFSETTO:-0400
TZNAME:EDT
DTSTART:20190310T070000
END:DAYLIGHT
BEGIN:STANDARD
TZOFFSETFROM:-0400
TZOFFSETTO:-0500
TZNAME:EST
DTSTART:20191103T060000
END:STANDARD
END:VTIMEZONE
BEGIN:VEVENT
DTSTART;TZID=America/Indiana/Indianapolis:20180221T073000
DTEND;TZID=America/Indiana/Indianapolis:20180221T090000
DTSTAMP:20260423T181801
CREATED:20171211T195417Z
LAST-MODIFIED:20180310T013423Z
UID:121371-1519198200-1519203600@gorainmakers.com
SUMMARY:LinkedIN Prospecting Roundtable DOWNTOWN
DESCRIPTION:Rainmakers LinkedIn Roundtables are a Members Exclusive opportunity.\nLeverage your LinkedIn account by sharing your needs with fellow Rainmakers and helping them with their ideal connections. Get the meetings you need to be successful in your business! \nThis is an opportunity to do group prospecting. To fully participate you must know how to use LinkedIn and you must bring your own laptop. \nBreakfast is included with this unique networking opportunity sponsored by Jeff Crane w/Entrepreneur’s Source. \nSeating is limited so reserve your seat today! \nLooking for a LinkedIn roundtable at a different location? Go to our calendar and type in LinkedIn Roundtable in the search bar to view all locations and times.
URL:https://gorainmakers.com/event/linkedin-prospecting-roundtable-downtown/2018-02-21/
LOCATION:Skyline Club\, 1 American Square\, 36th Floor\, Indianapolis \, 46282\, United States
ATTACH;FMTTYPE=image/jpeg:https://gorainmakers.com/wp-content/uploads/2015/09/LIRoundtableevent.jpg
GEO:39.7709058;-86.1609916
X-APPLE-STRUCTURED-LOCATION;VALUE=URI;X-ADDRESS=Skyline Club 1 American Square 36th Floor Indianapolis  46282 United States;X-APPLE-RADIUS=500;X-TITLE=1 American Square\, 36th Floor:geo:-86.1609916,39.7709058
END:VEVENT
BEGIN:VEVENT
DTSTART;TZID=America/Indiana/Indianapolis:20180221T083000
DTEND;TZID=America/Indiana/Indianapolis:20180221T090000
DTSTAMP:20260423T181801
CREATED:20171211T201749Z
LAST-MODIFIED:20180310T010504Z
UID:121382-1519201800-1519203600@gorainmakers.com
SUMMARY:Virtual Networking
DESCRIPTION:Meet new members without leaving your home or office. It’s simple; sign up for a 30 minute session and network via your webcam. This is a moderated networking session where you share your name\, elevator pitch\, ideal client profile and something unique about yourself. If you have a specific ask\, you can throw that out there too! \nMeet up to 9 Rainmakers members per session. After the session\, we’ll send the contact information of the participants so you can follow up. Cheers to efficiency in the game of helping others! \nParticipation is limited to 9 people. You must have a webcam to participate. \nThis is a members only event.
URL:https://gorainmakers.com/event/virtual-networking-4-2018-02-21/2018-02-21/
CATEGORIES:Virtual Networking
ATTACH;FMTTYPE=image/jpeg:https://gorainmakers.com/wp-content/uploads/2017/10/Virtual-Networking.jpg
END:VEVENT
END:VCALENDAR