BEGIN:VCALENDAR
VERSION:2.0
PRODID:-//Rainmakers - ECPv6.15.17.1//NONSGML v1.0//EN
CALSCALE:GREGORIAN
METHOD:PUBLISH
X-WR-CALNAME:Rainmakers
X-ORIGINAL-URL:https://gorainmakers.com
X-WR-CALDESC:Events for Rainmakers
REFRESH-INTERVAL;VALUE=DURATION:PT1H
X-Robots-Tag:noindex
X-PUBLISHED-TTL:PT1H
BEGIN:VTIMEZONE
TZID:America/Indiana/Indianapolis
BEGIN:DAYLIGHT
TZOFFSETFROM:-0500
TZOFFSETTO:-0400
TZNAME:EDT
DTSTART:20170312T070000
END:DAYLIGHT
BEGIN:STANDARD
TZOFFSETFROM:-0400
TZOFFSETTO:-0500
TZNAME:EST
DTSTART:20171105T060000
END:STANDARD
BEGIN:DAYLIGHT
TZOFFSETFROM:-0500
TZOFFSETTO:-0400
TZNAME:EDT
DTSTART:20180311T070000
END:DAYLIGHT
BEGIN:STANDARD
TZOFFSETFROM:-0400
TZOFFSETTO:-0500
TZNAME:EST
DTSTART:20181104T060000
END:STANDARD
BEGIN:DAYLIGHT
TZOFFSETFROM:-0500
TZOFFSETTO:-0400
TZNAME:EDT
DTSTART:20190310T070000
END:DAYLIGHT
BEGIN:STANDARD
TZOFFSETFROM:-0400
TZOFFSETTO:-0500
TZNAME:EST
DTSTART:20191103T060000
END:STANDARD
END:VTIMEZONE
BEGIN:VEVENT
DTSTART;TZID=America/Indiana/Indianapolis:20180424T080000
DTEND;TZID=America/Indiana/Indianapolis:20180424T093000
DTSTAMP:20260423T074304
CREATED:20171211T193134Z
LAST-MODIFIED:20180310T021045Z
UID:121363-1524556800-1524562200@gorainmakers.com
SUMMARY:Christian Professionals (RCP)
DESCRIPTION:Recognizing our workplace is also our mission field\, we are here to encourage one another as we learn and apply biblical principles at work. \nRainmakers Christian Professionals (RCP) is an intimate networking experience for Christian business professionals. Every monthly event provides teaching and small group discussion. RCP is a platform to build and strengthen your relationship with God and your relationships with people. \nTopic: Lessons from the Wilderness: What God Taught Me Through 16 Years of Rejection and How it Prepared Me for Success \n \nSpeaker Gary Varvel is a nationally syndicated Christian\, conservative editorial cartoonist for IndyStar and Creators Syndicate. Varvel’s work is nationally syndicated through Creators Syndicate. His cartoons have appeared on CNN\, FoxNews and in Newsweek\, Time\, The New York Times\, The Washington Post\, USA Today\, Washington Times\, National Review and Sports Illustrated. His cartoons have also been reprinted in many college and high school text books.
URL:https://gorainmakers.com/event/christian-professionals-rcp-2-2018-02-27-2018-03-27-2018-04-24/
LOCATION:Indiana Wesleyan University – Indianapolis North campus\, 3777 Priority Way South Drive\, Indianapolis\, IN\, 46240\, United States
CATEGORIES:Faith Based
ATTACH;FMTTYPE=image/jpeg:https://gorainmakers.com/wp-content/uploads/2015/08/RCP1.jpg
GEO:39.9191828;-86.1018606
X-APPLE-STRUCTURED-LOCATION;VALUE=URI;X-ADDRESS=Indiana Wesleyan University – Indianapolis North campus 3777 Priority Way South Drive Indianapolis IN 46240 United States;X-APPLE-RADIUS=500;X-TITLE=3777 Priority Way South Drive:geo:-86.1018606,39.9191828
END:VEVENT
BEGIN:VEVENT
DTSTART;TZID=America/Indiana/Indianapolis:20180424T163000
DTEND;TZID=America/Indiana/Indianapolis:20180424T180000
DTSTAMP:20260423T074304
CREATED:20171108T000917Z
LAST-MODIFIED:20180405T140922Z
UID:121297-1524587400-1524592800@gorainmakers.com
SUMMARY:Eat + Drink
DESCRIPTION:Rainmakers Eat + Drink is our monthly social event. We travel all around the city to experience Indy’s best independent restaurant establishments. We conduct a short icebreaker activity to help everyone meet. Bring a friend or colleague and participate in a relaxed networking environment while enjoying the great tastes of Indy. \nNote: We’re responsible for finding a great restaurant! You’re responsible for your food and drink!  \nRainmakers Eat + Drink has a new format: join us for cocktails\, join us for dinner or join us for both! See schedule.\nExplore this month’s restaurant pick: Barbeque and Bourbon \nEveryone is invited to Barbeque and Bourbon Rainmakers Eat + Drink\, EVERYONE. Bring family\, friends\, acquaintances\, buddies\, colleagues\, that person you have been meaning to ‘get together with’ to meet and mingle with others.
URL:https://gorainmakers.com/event/eat-drink-9-2018-04-24/
LOCATION:Barbeque and Bourbon\, 1414 Main Street\, Speedway\, 46224\, United States
CATEGORIES:Social
ATTACH;FMTTYPE=image/jpeg:https://gorainmakers.com/wp-content/uploads/2015/08/EatDrinkeventtemplate.jpg
GEO:39.7854938;-86.2412927
X-APPLE-STRUCTURED-LOCATION;VALUE=URI;X-ADDRESS=Barbeque and Bourbon 1414 Main Street Speedway 46224 United States;X-APPLE-RADIUS=500;X-TITLE=1414 Main Street:geo:-86.2412927,39.7854938
END:VEVENT
END:VCALENDAR