BEGIN:VCALENDAR
VERSION:2.0
PRODID:-//Rainmakers - ECPv6.15.17.1//NONSGML v1.0//EN
CALSCALE:GREGORIAN
METHOD:PUBLISH
X-WR-CALNAME:Rainmakers
X-ORIGINAL-URL:https://gorainmakers.com
X-WR-CALDESC:Events for Rainmakers
REFRESH-INTERVAL;VALUE=DURATION:PT1H
X-Robots-Tag:noindex
X-PUBLISHED-TTL:PT1H
BEGIN:VTIMEZONE
TZID:America/Indiana/Indianapolis
BEGIN:DAYLIGHT
TZOFFSETFROM:-0500
TZOFFSETTO:-0400
TZNAME:EDT
DTSTART:20170312T070000
END:DAYLIGHT
BEGIN:STANDARD
TZOFFSETFROM:-0400
TZOFFSETTO:-0500
TZNAME:EST
DTSTART:20171105T060000
END:STANDARD
BEGIN:DAYLIGHT
TZOFFSETFROM:-0500
TZOFFSETTO:-0400
TZNAME:EDT
DTSTART:20180311T070000
END:DAYLIGHT
BEGIN:STANDARD
TZOFFSETFROM:-0400
TZOFFSETTO:-0500
TZNAME:EST
DTSTART:20181104T060000
END:STANDARD
BEGIN:DAYLIGHT
TZOFFSETFROM:-0500
TZOFFSETTO:-0400
TZNAME:EDT
DTSTART:20190310T070000
END:DAYLIGHT
BEGIN:STANDARD
TZOFFSETFROM:-0400
TZOFFSETTO:-0500
TZNAME:EST
DTSTART:20191103T060000
END:STANDARD
END:VTIMEZONE
BEGIN:VEVENT
DTSTART;TZID=America/Indiana/Indianapolis:20180626T080000
DTEND;TZID=America/Indiana/Indianapolis:20180626T093000
DTSTAMP:20260423T030850
CREATED:20171211T193134Z
LAST-MODIFIED:20180614T154150Z
UID:121365-1530000000-1530005400@gorainmakers.com
SUMMARY:Christian Professionals (RCP)
DESCRIPTION:Recognizing our workplace is also our mission field\, we are here to encourage one another as we learn and apply biblical principles at work. \nRainmakers Christian Professionals (RCP) is an intimate networking experience for Christian business professionals. Every monthly event provides teaching and small group discussion. RCP is a platform to build and strengthen your relationship with God and your relationships with people. \nThis month’s topic – Faith of an Entrepreneur: Anything is possible with Faith. Take the time to invest in gathering enough knowledge. Put in the effort and never give up. \nOur speaker\, Remington Ramsey\, created what is known as ‘Real Producers\,’ in 2015. The publication grew quickly and is now in over 60 territories nationwide. Also\, Remington founded and created Mastermind Indy. Mastermind Indy is a monthly event that brings 100+ REALTORS and affiliates from all over Indy together to gain local real estate-related knowledge straight from some of Indy’s best.
URL:https://gorainmakers.com/event/christian-professionals-rcp-2-2018-02-27-2018-03-27-2018-06-26/
LOCATION:Indiana Wesleyan University – Indianapolis North campus\, 3777 Priority Way South Drive\, Indianapolis\, IN\, 46240\, United States
CATEGORIES:Faith Based
ATTACH;FMTTYPE=image/jpeg:https://gorainmakers.com/wp-content/uploads/2017/12/Christian-Professionals-LOGO-WEB.jpg
GEO:39.9191828;-86.1018606
X-APPLE-STRUCTURED-LOCATION;VALUE=URI;X-ADDRESS=Indiana Wesleyan University – Indianapolis North campus 3777 Priority Way South Drive Indianapolis IN 46240 United States;X-APPLE-RADIUS=500;X-TITLE=3777 Priority Way South Drive:geo:-86.1018606,39.9191828
END:VEVENT
BEGIN:VEVENT
DTSTART;TZID=America/Indiana/Indianapolis:20180626T170000
DTEND;TZID=America/Indiana/Indianapolis:20180626T180000
DTSTAMP:20260423T030851
CREATED:20171211T182009Z
LAST-MODIFIED:20180530T215809Z
UID:121472-1530032400-1530036000@gorainmakers.com
SUMMARY:Eat + Drink June
DESCRIPTION:Rainmakers Eat + Drink is our monthly social event. We travel all around the city to experience Indy’s best independent restaurant establishments. We conduct a short icebreaker activity to help everyone meet. Bring a friend or colleague and participate in a relaxed networking environment while enjoying the great tastes of Indy. \nNote: We’re responsible for finding a great restaurant! You’re responsible for your food and drink! \nExplore this month’s restaurant pick: Mama Carolla’s Old Italian Restaurant
URL:https://gorainmakers.com/event/eat-drink-june/
LOCATION:Mama Carolla’s Old Italian Restaurant\, 1031 E 54th Street\, Indianapolis\, IN\, 46205\, United States
CATEGORIES:Social
ATTACH;FMTTYPE=image/jpeg:https://gorainmakers.com/wp-content/uploads/2017/12/Eat-DrinkWEB.jpg
GEO:39.8508246;-86.1408785
X-APPLE-STRUCTURED-LOCATION;VALUE=URI;X-ADDRESS=Mama Carolla’s Old Italian Restaurant 1031 E 54th Street Indianapolis IN 46205 United States;X-APPLE-RADIUS=500;X-TITLE=1031 E 54th Street:geo:-86.1408785,39.8508246
END:VEVENT
END:VCALENDAR