BEGIN:VCALENDAR
VERSION:2.0
PRODID:-//Rainmakers - ECPv6.15.17.1//NONSGML v1.0//EN
CALSCALE:GREGORIAN
METHOD:PUBLISH
X-WR-CALNAME:Rainmakers
X-ORIGINAL-URL:https://gorainmakers.com
X-WR-CALDESC:Events for Rainmakers
REFRESH-INTERVAL;VALUE=DURATION:PT1H
X-Robots-Tag:noindex
X-PUBLISHED-TTL:PT1H
BEGIN:VTIMEZONE
TZID:America/Indiana/Indianapolis
BEGIN:DAYLIGHT
TZOFFSETFROM:-0500
TZOFFSETTO:-0400
TZNAME:EDT
DTSTART:20170312T070000
END:DAYLIGHT
BEGIN:STANDARD
TZOFFSETFROM:-0400
TZOFFSETTO:-0500
TZNAME:EST
DTSTART:20171105T060000
END:STANDARD
BEGIN:DAYLIGHT
TZOFFSETFROM:-0500
TZOFFSETTO:-0400
TZNAME:EDT
DTSTART:20180311T070000
END:DAYLIGHT
BEGIN:STANDARD
TZOFFSETFROM:-0400
TZOFFSETTO:-0500
TZNAME:EST
DTSTART:20181104T060000
END:STANDARD
BEGIN:DAYLIGHT
TZOFFSETFROM:-0500
TZOFFSETTO:-0400
TZNAME:EDT
DTSTART:20190310T070000
END:DAYLIGHT
BEGIN:STANDARD
TZOFFSETFROM:-0400
TZOFFSETTO:-0500
TZNAME:EST
DTSTART:20191103T060000
END:STANDARD
END:VTIMEZONE
BEGIN:VEVENT
DTSTART;TZID=America/Indiana/Indianapolis:20180913T173000
DTEND;TZID=America/Indiana/Indianapolis:20180913T190000
DTSTAMP:20260422T235323
CREATED:20180628T161530Z
LAST-MODIFIED:20180906T234410Z
UID:121622-1536859800-1536865200@gorainmakers.com
SUMMARY:Rainmakers Downtown
DESCRIPTION:Downtown Rainmakers is a quarterly event for professionals\, executives and business owners whose market place and/or related activities has a center of commerce from the downtown area. This event features top city leaders and business people with influence in the Indianapolis business community. Extend your professional network\, meet others who focus on the downtown marketplace\, learn from knowledgeable guest speakers\, and participate in the ever changing business landscape of Indianapolis! \nSeptember Speaker: Andrew Carty \n \nAndrew Carty serves as the regional director for the Central Indiana SBDC. With national management experience in community\, workforce\, and economic development\, Andrew’s passion is to help small businesses better understand and leverage their ecosystem. \n \nDennis Wimer is the Director of the Old National Bank Center for Closely Held Business. His role as the Director is to lead the Center in its mission to provide training\, education\, mentoring\, and networking opportunities to privately-owned businesses throughout Indiana to help them succeed.
URL:https://gorainmakers.com/event/rainmakers-downtown-4/2018-09-13/
LOCATION:Speak Easy Downtown\, 47 South Meridian Street\, IN\, 46204\, United States
CATEGORIES:Downtown Indy
ATTACH;FMTTYPE=image/jpeg:https://gorainmakers.com/wp-content/uploads/2018/04/RainmakersDowntownWEB.jpg
GEO:39.765831;-86.157617
X-APPLE-STRUCTURED-LOCATION;VALUE=URI;X-ADDRESS=Speak Easy Downtown 47 South Meridian Street IN 46204 United States;X-APPLE-RADIUS=500;X-TITLE=47 South Meridian Street:geo:-86.157617,39.765831
END:VEVENT
END:VCALENDAR