BEGIN:VCALENDAR
VERSION:2.0
PRODID:-//Rainmakers - ECPv6.15.17.1//NONSGML v1.0//EN
CALSCALE:GREGORIAN
METHOD:PUBLISH
X-WR-CALNAME:Rainmakers
X-ORIGINAL-URL:https://gorainmakers.com
X-WR-CALDESC:Events for Rainmakers
REFRESH-INTERVAL;VALUE=DURATION:PT1H
X-Robots-Tag:noindex
X-PUBLISHED-TTL:PT1H
BEGIN:VTIMEZONE
TZID:America/Indiana/Indianapolis
BEGIN:DAYLIGHT
TZOFFSETFROM:-0500
TZOFFSETTO:-0400
TZNAME:EDT
DTSTART:20170312T070000
END:DAYLIGHT
BEGIN:STANDARD
TZOFFSETFROM:-0400
TZOFFSETTO:-0500
TZNAME:EST
DTSTART:20171105T060000
END:STANDARD
BEGIN:DAYLIGHT
TZOFFSETFROM:-0500
TZOFFSETTO:-0400
TZNAME:EDT
DTSTART:20180311T070000
END:DAYLIGHT
BEGIN:STANDARD
TZOFFSETFROM:-0400
TZOFFSETTO:-0500
TZNAME:EST
DTSTART:20181104T060000
END:STANDARD
BEGIN:DAYLIGHT
TZOFFSETFROM:-0500
TZOFFSETTO:-0400
TZNAME:EDT
DTSTART:20190310T070000
END:DAYLIGHT
BEGIN:STANDARD
TZOFFSETFROM:-0400
TZOFFSETTO:-0500
TZNAME:EST
DTSTART:20191103T060000
END:STANDARD
END:VTIMEZONE
BEGIN:VEVENT
DTSTART;TZID=America/Indiana/Indianapolis:20181010T083000
DTEND;TZID=America/Indiana/Indianapolis:20181010T100000
DTSTAMP:20260422T220110
CREATED:20171211T183639Z
LAST-MODIFIED:20180930T201251Z
UID:121352-1539160200-1539165600@gorainmakers.com
SUMMARY:Business Blaze October
DESCRIPTION:An event for business owners and executives\, Business Blaze presents topics relevant to current and future business operations as well as issues that may impact the Indianapolis business community. This quarterly event features top-notch\, industry speakers and an opportunity for meaningful dialogue. \n  \nSpeaker: Abdul-Hakim Shabazz. Abdul-Hakim Shabazz is an attorney and political broadcaster. He is the editor of the award-winning IndyPolitics.Org website\, as well as a radio talk show host at WIBC Radio and practices with the law firm of Lewis & Wilkins. He has covered politics in Indiana\, as well as Illinois\, for more than 20 years. \n \nTopic: The Impact of the Election on Indiana’s Businesses
URL:https://gorainmakers.com/event/business-blaze-july-2018-10-10/
LOCATION:PARC\, 550 E. 96th Street\, Indianapolis\, IN\, 46240\, United States
CATEGORIES:Business Blaze
ATTACH;FMTTYPE=image/jpeg:https://gorainmakers.com/wp-content/uploads/2017/12/Business-Blaze-1.jpg
GEO:39.9271897;-86.1476493
X-APPLE-STRUCTURED-LOCATION;VALUE=URI;X-ADDRESS=PARC 550 E. 96th Street Indianapolis IN 46240 United States;X-APPLE-RADIUS=500;X-TITLE=550 E. 96th Street:geo:-86.1476493,39.9271897
END:VEVENT
END:VCALENDAR