BEGIN:VCALENDAR
VERSION:2.0
PRODID:-//Rainmakers - ECPv6.15.17.1//NONSGML v1.0//EN
CALSCALE:GREGORIAN
METHOD:PUBLISH
X-ORIGINAL-URL:https://gorainmakers.com
X-WR-CALDESC:Events for Rainmakers
REFRESH-INTERVAL;VALUE=DURATION:PT1H
X-Robots-Tag:noindex
X-PUBLISHED-TTL:PT1H
BEGIN:VTIMEZONE
TZID:America/Indiana/Indianapolis
BEGIN:DAYLIGHT
TZOFFSETFROM:-0500
TZOFFSETTO:-0400
TZNAME:EDT
DTSTART:20170312T070000
END:DAYLIGHT
BEGIN:STANDARD
TZOFFSETFROM:-0400
TZOFFSETTO:-0500
TZNAME:EST
DTSTART:20171105T060000
END:STANDARD
BEGIN:DAYLIGHT
TZOFFSETFROM:-0500
TZOFFSETTO:-0400
TZNAME:EDT
DTSTART:20180311T070000
END:DAYLIGHT
BEGIN:STANDARD
TZOFFSETFROM:-0400
TZOFFSETTO:-0500
TZNAME:EST
DTSTART:20181104T060000
END:STANDARD
BEGIN:DAYLIGHT
TZOFFSETFROM:-0500
TZOFFSETTO:-0400
TZNAME:EDT
DTSTART:20190310T070000
END:DAYLIGHT
BEGIN:STANDARD
TZOFFSETFROM:-0400
TZOFFSETTO:-0500
TZNAME:EST
DTSTART:20191103T060000
END:STANDARD
END:VTIMEZONE
BEGIN:VEVENT
DTSTART;TZID=America/Indiana/Indianapolis:20181018T083000
DTEND;TZID=America/Indiana/Indianapolis:20181018T103000
DTSTAMP:20260422T221546
CREATED:20171211T200243Z
LAST-MODIFIED:20181017T223831Z
UID:121636-1539851400-1539858600@gorainmakers.com
SUMMARY:Business Owner Roundtable
DESCRIPTION:At this roundtable\, you will identify your top-of-mind challenges and search for solutions. Each month\, Tommy Richardson\, Director of Training and Development\, will feature a new discussion topic in the areas of people\, processes\, leadership and general topics relevant to business owners. Build relationships and get insight on key topics that affect you and your business. \nThis month: Time Management \nWikipedia’s definition of time management is the process of planning and exercising conscious control of time spent on specific activities\, especially to increase effectiveness\, efficiency or productivity. \nThis business owners roundtable will explore this topic and provide ready to use tools and techniques that will help accelerate your productivity. \n  \n 
URL:https://gorainmakers.com/event/business-owner-roundtable-3-2018-03-15-2018-04-19-2018-05-17-2018-10-18/
LOCATION:Lushin & Associates\, 5655 Castle Creek Pkwy N Dr\, Indianapolis\, 46250\, United States
CATEGORIES:Roundtable
ATTACH;FMTTYPE=image/jpeg:https://gorainmakers.com/wp-content/uploads/2017/12/Business-Owner-Roundtable.jpg
GEO:39.9148242;-86.071145
X-APPLE-STRUCTURED-LOCATION;VALUE=URI;X-ADDRESS=Lushin & Associates 5655 Castle Creek Pkwy N Dr Indianapolis 46250 United States;X-APPLE-RADIUS=500;X-TITLE=5655 Castle Creek Pkwy N Dr:geo:-86.071145,39.9148242
END:VEVENT
END:VCALENDAR