BEGIN:VCALENDAR
VERSION:2.0
PRODID:-//Rainmakers - ECPv6.15.17.1//NONSGML v1.0//EN
CALSCALE:GREGORIAN
METHOD:PUBLISH
X-WR-CALNAME:Rainmakers
X-ORIGINAL-URL:https://gorainmakers.com
X-WR-CALDESC:Events for Rainmakers
REFRESH-INTERVAL;VALUE=DURATION:PT1H
X-Robots-Tag:noindex
X-PUBLISHED-TTL:PT1H
BEGIN:VTIMEZONE
TZID:America/Indiana/Indianapolis
BEGIN:DAYLIGHT
TZOFFSETFROM:-0500
TZOFFSETTO:-0400
TZNAME:EDT
DTSTART:20170312T070000
END:DAYLIGHT
BEGIN:STANDARD
TZOFFSETFROM:-0400
TZOFFSETTO:-0500
TZNAME:EST
DTSTART:20171105T060000
END:STANDARD
BEGIN:DAYLIGHT
TZOFFSETFROM:-0500
TZOFFSETTO:-0400
TZNAME:EDT
DTSTART:20180311T070000
END:DAYLIGHT
BEGIN:STANDARD
TZOFFSETFROM:-0400
TZOFFSETTO:-0500
TZNAME:EST
DTSTART:20181104T060000
END:STANDARD
BEGIN:DAYLIGHT
TZOFFSETFROM:-0500
TZOFFSETTO:-0400
TZNAME:EDT
DTSTART:20190310T070000
END:DAYLIGHT
BEGIN:STANDARD
TZOFFSETFROM:-0400
TZOFFSETTO:-0500
TZNAME:EST
DTSTART:20191103T060000
END:STANDARD
END:VTIMEZONE
BEGIN:VEVENT
DTSTART;TZID=America/Indiana/Indianapolis:20181206T083000
DTEND;TZID=America/Indiana/Indianapolis:20181206T100000
DTSTAMP:20260422T192110
CREATED:20181015T210807Z
LAST-MODIFIED:20181015T210807Z
UID:121723-1544085000-1544090400@gorainmakers.com
SUMMARY:Social Selling Code: Using LinkedIn and Facebook to Sell
DESCRIPTION:By now\, most sales-minded CEOs\, business owners\, presidents\, managers\, and account executives realize there are sales opportunities rotting away on social media sites such as LinkedIn and Facebook. And they have either tried and failed\, or not tried at all\, to access these opportunities. If you are frustrated with social selling\, are looking to crack the social selling code\, and believe there are deals to be mined in the digital abyss\, join us for this 90-minute interactive workshop. \nThis session is especially for those who prefer to sell in a non-salesy\, non-pitchy\, and non-abrasive manner. We will discuss ….. \nDISCLAIMER: This is NOT a 90-minute sales pitch for a digital marketing program or agency. This is an interactive workshop and no products or services will be pitched to participants.
URL:https://gorainmakers.com/event/social-selling-code-using-linkedin-and-facebook-to-sell/
LOCATION:Lushin & Associates\, 5655 Castle Creek Pkwy N Dr\, Indianapolis\, 46250\, United States
GEO:39.9148242;-86.071145
X-APPLE-STRUCTURED-LOCATION;VALUE=URI;X-ADDRESS=Lushin & Associates 5655 Castle Creek Pkwy N Dr Indianapolis 46250 United States;X-APPLE-RADIUS=500;X-TITLE=5655 Castle Creek Pkwy N Dr:geo:-86.071145,39.9148242
END:VEVENT
END:VCALENDAR