BEGIN:VCALENDAR
VERSION:2.0
PRODID:-//Rainmakers - ECPv6.15.17.1//NONSGML v1.0//EN
CALSCALE:GREGORIAN
METHOD:PUBLISH
X-WR-CALNAME:Rainmakers
X-ORIGINAL-URL:https://gorainmakers.com
X-WR-CALDESC:Events for Rainmakers
REFRESH-INTERVAL;VALUE=DURATION:PT1H
X-Robots-Tag:noindex
X-PUBLISHED-TTL:PT1H
BEGIN:VTIMEZONE
TZID:America/Indiana/Indianapolis
BEGIN:DAYLIGHT
TZOFFSETFROM:-0500
TZOFFSETTO:-0400
TZNAME:EDT
DTSTART:20180311T070000
END:DAYLIGHT
BEGIN:STANDARD
TZOFFSETFROM:-0400
TZOFFSETTO:-0500
TZNAME:EST
DTSTART:20181104T060000
END:STANDARD
BEGIN:DAYLIGHT
TZOFFSETFROM:-0500
TZOFFSETTO:-0400
TZNAME:EDT
DTSTART:20190310T070000
END:DAYLIGHT
BEGIN:STANDARD
TZOFFSETFROM:-0400
TZOFFSETTO:-0500
TZNAME:EST
DTSTART:20191103T060000
END:STANDARD
BEGIN:DAYLIGHT
TZOFFSETFROM:-0500
TZOFFSETTO:-0400
TZNAME:EDT
DTSTART:20200308T070000
END:DAYLIGHT
BEGIN:STANDARD
TZOFFSETFROM:-0400
TZOFFSETTO:-0500
TZNAME:EST
DTSTART:20201101T060000
END:STANDARD
END:VTIMEZONE
BEGIN:VEVENT
DTSTART;TZID=America/Indiana/Indianapolis:20190109T083000
DTEND;TZID=America/Indiana/Indianapolis:20190109T100000
DTSTAMP:20260422T172626
CREATED:20181022T233355Z
LAST-MODIFIED:20181214T153024Z
UID:121740-1547022600-1547028000@gorainmakers.com
SUMMARY:Business Blaze January
DESCRIPTION:An event for business owners and executives\, Business Blaze presents topics relevant to current and future business operations as well as issues that may impact the Indianapolis business community. This quarterly event features top-notch\, industry speakers and an opportunity for meaningful dialogue. \nNeed more referrals for your business? Want to find an angel investor for your business? \nWant to learn about the current state of Indiana Business and how that can benefit your\nbusiness growth in 2019? You’re Invited to join us! \nTopic: The current state of Indiana Business and how this can help catapult your business growth and sales in 2019. \nTop 5 reasons why you’ll be glad you attended the Rainmakers Business Blaze networking event: \n\nDiscover the top 2 business niches that are experiencing explosive growth\nLooking for capital? Learn the top 3 things angel investors look for when choosing a business to invest in.\nThe Rainmakers Business Blaze event has historically been one of Rainmakers premier events that attract the largest number of attendees.\nConnect with strategic partners and have an opportunity to give and receive referrals this week with structured networking.\nWe gather together some of the top leaders\, influencers and successful business owners in the city who have a “giving” mindset.\n\n \n Bruce Kidd\, Regional Sales Director\, Mesirow Financial \nBruce has spent the vast majority of his 30-year professional career working for and/or advising privately held companies. Bruce will share his view on the current state of the local investment community from Angel Investors to Venture Capital to Private Equity and M&A trends. Indiana has ranked for the past 10 years as one of the top 10 states in the country to start and grow and business. The number of entrepreneurial and technology-related companies has continued to grow over that same 10 year period. \nWhat kinds of companies fit each source\, what are those capital sources looking for in new investments\, and what should a business owner know before accepting an investment from each type?
URL:https://gorainmakers.com/event/business-blaze-january/
LOCATION:HRD Advisory Group\, 11711 North Meridian Street\, Suite 170\, Carmel\, IN\, 46032\, United States
ATTACH;FMTTYPE=image/jpeg:https://gorainmakers.com/wp-content/uploads/2017/12/Business-Blaze-1.jpg
END:VEVENT
END:VCALENDAR