BEGIN:VCALENDAR
VERSION:2.0
PRODID:-//Rainmakers - ECPv6.15.17.1//NONSGML v1.0//EN
CALSCALE:GREGORIAN
METHOD:PUBLISH
X-WR-CALNAME:Rainmakers
X-ORIGINAL-URL:https://gorainmakers.com
X-WR-CALDESC:Events for Rainmakers
REFRESH-INTERVAL;VALUE=DURATION:PT1H
X-Robots-Tag:noindex
X-PUBLISHED-TTL:PT1H
BEGIN:VTIMEZONE
TZID:America/Indiana/Indianapolis
BEGIN:DAYLIGHT
TZOFFSETFROM:-0500
TZOFFSETTO:-0400
TZNAME:EDT
DTSTART:20180311T070000
END:DAYLIGHT
BEGIN:STANDARD
TZOFFSETFROM:-0400
TZOFFSETTO:-0500
TZNAME:EST
DTSTART:20181104T060000
END:STANDARD
BEGIN:DAYLIGHT
TZOFFSETFROM:-0500
TZOFFSETTO:-0400
TZNAME:EDT
DTSTART:20190310T070000
END:DAYLIGHT
BEGIN:STANDARD
TZOFFSETFROM:-0400
TZOFFSETTO:-0500
TZNAME:EST
DTSTART:20191103T060000
END:STANDARD
BEGIN:DAYLIGHT
TZOFFSETFROM:-0500
TZOFFSETTO:-0400
TZNAME:EDT
DTSTART:20200308T070000
END:DAYLIGHT
BEGIN:STANDARD
TZOFFSETFROM:-0400
TZOFFSETTO:-0500
TZNAME:EST
DTSTART:20201101T060000
END:STANDARD
END:VTIMEZONE
BEGIN:VEVENT
DTSTART;TZID=America/Indiana/Indianapolis:20190122T080000
DTEND;TZID=America/Indiana/Indianapolis:20190122T093000
DTSTAMP:20260422T172507
CREATED:20181217T131356Z
LAST-MODIFIED:20190121T021752Z
UID:121877-1548144000-1548149400@gorainmakers.com
SUMMARY:Rainmakers Christian Professionals (RCP)
DESCRIPTION:Recognizing our workplace is also our mission field\, we are here to encourage one another as we learn and apply biblical principles at work. \nRainmakers Christian Professionals (RCP) is an intimate networking experience for Christian business professionals. Every monthly event provides teaching and small group discussion. RCP is a platform to build and strengthen your relationship with God and your relationships with people. \nJanuary Topic:  \n“What Box?!” Cultural-Participatory Christian Leadership \nLeaders interpret cultures. Translators explain distinctive\, decisions\, dominant themes\, discussions\, and directions in every leadership enterprise. Next-Gen Christian leaders are cultural exegetes. \n  \nSpeaker  \nDr. Mark Eckel \n Dr. Mark Eckel (ThM\, Old Testament\, Ph.D.\, Social Science) is President of The Comenius Institute\, a 501(c)(3) non-profit\, and teaches for Indiana Wesleyan\, Capital Seminary & Graduate School\, and IUPUI. For 35 years Dr. Eckel has served the education community as a high school teacher\, college professor\, grad school lecturer\, published author\, curriculum writer\, and international speaker. \n  \n\n  \nOur Featured Non-Profit Organization \nThe Comenius Institute \n\n \nThe Comenius Institute is a Christian educational institute that will engage in the teaching-learning craft. In doing so\, the organization will encourage study\, discussion\, research\, and collaboration of students and scholars in the pursuit of theological truth with academic excellence.
URL:https://gorainmakers.com/event/rainmakers-christian-professionals-rcp-3/
LOCATION:Indiana Wesleyan University – Indianapolis North campus\, 3777 Priority Way South Drive\, Indianapolis\, IN\, 46240\, United States
CATEGORIES:Faith Based
ATTACH;FMTTYPE=image/jpeg:https://gorainmakers.com/wp-content/uploads/2017/12/Christian-Professionals-LOGO-WEB.jpg
GEO:39.9191828;-86.1018606
X-APPLE-STRUCTURED-LOCATION;VALUE=URI;X-ADDRESS=Indiana Wesleyan University – Indianapolis North campus 3777 Priority Way South Drive Indianapolis IN 46240 United States;X-APPLE-RADIUS=500;X-TITLE=3777 Priority Way South Drive:geo:-86.1018606,39.9191828
END:VEVENT
END:VCALENDAR