BEGIN:VCALENDAR
VERSION:2.0
PRODID:-//Rainmakers - ECPv6.15.17.1//NONSGML v1.0//EN
CALSCALE:GREGORIAN
METHOD:PUBLISH
X-ORIGINAL-URL:https://gorainmakers.com
X-WR-CALDESC:Events for Rainmakers
REFRESH-INTERVAL;VALUE=DURATION:PT1H
X-Robots-Tag:noindex
X-PUBLISHED-TTL:PT1H
BEGIN:VTIMEZONE
TZID:America/Indiana/Indianapolis
BEGIN:DAYLIGHT
TZOFFSETFROM:-0500
TZOFFSETTO:-0400
TZNAME:EDT
DTSTART:20180311T070000
END:DAYLIGHT
BEGIN:STANDARD
TZOFFSETFROM:-0400
TZOFFSETTO:-0500
TZNAME:EST
DTSTART:20181104T060000
END:STANDARD
BEGIN:DAYLIGHT
TZOFFSETFROM:-0500
TZOFFSETTO:-0400
TZNAME:EDT
DTSTART:20190310T070000
END:DAYLIGHT
BEGIN:STANDARD
TZOFFSETFROM:-0400
TZOFFSETTO:-0500
TZNAME:EST
DTSTART:20191103T060000
END:STANDARD
BEGIN:DAYLIGHT
TZOFFSETFROM:-0500
TZOFFSETTO:-0400
TZNAME:EDT
DTSTART:20200308T070000
END:DAYLIGHT
BEGIN:STANDARD
TZOFFSETFROM:-0400
TZOFFSETTO:-0500
TZNAME:EST
DTSTART:20201101T060000
END:STANDARD
END:VTIMEZONE
BEGIN:VEVENT
DTSTART;TZID=America/Indiana/Indianapolis:20190205T083000
DTEND;TZID=America/Indiana/Indianapolis:20190205T103000
DTSTAMP:20260422T172805
CREATED:20181028T023019Z
LAST-MODIFIED:20190114T132619Z
UID:121761-1549355400-1549362600@gorainmakers.com
SUMMARY:Rainmakers Orientation
DESCRIPTION:As a newer member of Rainmakers\, you’ll want to make sure that you fully understand how to leverage your membership. We recommend attending this live orientation. \nGet highlights on all program opportunities and learn how to achieve your goals using our platform. \nDiscussion topics include: \nOn-Boarding Process Review\nNetworking Events\nRoundtable Sessions\nEmail Introductions\nEducational Sessions (live + virtual)\nCommunity Service Projects\nMentorU \nYou’ll walk away with new ideas and a plan to leverage your membership! This is a members-only event.
URL:https://gorainmakers.com/event/rainmakers-orientation-5/
LOCATION:Trustpointe Inc.\, 6626 E 75th Street\, Suite 150\, Indianapolis\, 46250\, United States
CATEGORIES:Training
ATTACH;FMTTYPE=image/png:https://gorainmakers.com/wp-content/uploads/2017/12/Orientation.png
GEO:39.8906828;-86.0524716
X-APPLE-STRUCTURED-LOCATION;VALUE=URI;X-ADDRESS=Trustpointe Inc. 6626 E 75th Street Suite 150 Indianapolis 46250 United States;X-APPLE-RADIUS=500;X-TITLE=6626 E 75th Street\, Suite 150:geo:-86.0524716,39.8906828
END:VEVENT
END:VCALENDAR