BEGIN:VCALENDAR
VERSION:2.0
PRODID:-//Rainmakers - ECPv6.15.17.1//NONSGML v1.0//EN
CALSCALE:GREGORIAN
METHOD:PUBLISH
X-ORIGINAL-URL:https://gorainmakers.com
X-WR-CALDESC:Events for Rainmakers
REFRESH-INTERVAL;VALUE=DURATION:PT1H
X-Robots-Tag:noindex
X-PUBLISHED-TTL:PT1H
BEGIN:VTIMEZONE
TZID:America/Indiana/Indianapolis
BEGIN:DAYLIGHT
TZOFFSETFROM:-0500
TZOFFSETTO:-0400
TZNAME:EDT
DTSTART:20180311T070000
END:DAYLIGHT
BEGIN:STANDARD
TZOFFSETFROM:-0400
TZOFFSETTO:-0500
TZNAME:EST
DTSTART:20181104T060000
END:STANDARD
BEGIN:DAYLIGHT
TZOFFSETFROM:-0500
TZOFFSETTO:-0400
TZNAME:EDT
DTSTART:20190310T070000
END:DAYLIGHT
BEGIN:STANDARD
TZOFFSETFROM:-0400
TZOFFSETTO:-0500
TZNAME:EST
DTSTART:20191103T060000
END:STANDARD
BEGIN:DAYLIGHT
TZOFFSETFROM:-0500
TZOFFSETTO:-0400
TZNAME:EDT
DTSTART:20200308T070000
END:DAYLIGHT
BEGIN:STANDARD
TZOFFSETFROM:-0400
TZOFFSETTO:-0500
TZNAME:EST
DTSTART:20201101T060000
END:STANDARD
END:VTIMEZONE
BEGIN:VEVENT
DTSTART;TZID=America/Indiana/Indianapolis:20190206T083000
DTEND;TZID=America/Indiana/Indianapolis:20190206T100000
DTSTAMP:20260422T161713
CREATED:20181210T154627Z
LAST-MODIFIED:20190204T131610Z
UID:121818-1549441800-1549447200@gorainmakers.com
SUMMARY:Putting Your Best Words Forward
DESCRIPTION:Building a network is critical to all business leaders. Let’s take a strategic approach to transform a simple introduction into a conversation that builds relationships\, referrals\, and sales results.\n\n\nWhat do you say when someone asks you about your business?\nHow are you different from others who offer the same product or service?\nDo you ramble on and on and stumble as you try to express the benefits of your product or service?\nOr\, do you have a succinct and powerful answer that quickly and clearly conveys what makes your company stand out from your competitors? \n\nJoin Lisa Hudson\, Rainmaker\, President of The Growth Coach of Carmel\, as she leads a roundtable focused on the art of developing a USP (Unique Selling Proposition) and 60-second introductions to encourage others to want to learn more about you and your business.
URL:https://gorainmakers.com/event/putting-your-best-words-forward-3/2019-02-06/
LOCATION:Lushin & Associates\, 5655 Castle Creek Pkwy N Dr\, Indianapolis\, 46250\, United States
CATEGORIES:Training
ATTACH;FMTTYPE=image/jpeg:https://gorainmakers.com/wp-content/uploads/2018/01/USPfor-Website.jpg
GEO:39.9148242;-86.071145
X-APPLE-STRUCTURED-LOCATION;VALUE=URI;X-ADDRESS=Lushin & Associates 5655 Castle Creek Pkwy N Dr Indianapolis 46250 United States;X-APPLE-RADIUS=500;X-TITLE=5655 Castle Creek Pkwy N Dr:geo:-86.071145,39.9148242
END:VEVENT
END:VCALENDAR