BEGIN:VCALENDAR
VERSION:2.0
PRODID:-//Rainmakers - ECPv6.15.17.1//NONSGML v1.0//EN
CALSCALE:GREGORIAN
METHOD:PUBLISH
X-WR-CALNAME:Rainmakers
X-ORIGINAL-URL:https://gorainmakers.com
X-WR-CALDESC:Events for Rainmakers
REFRESH-INTERVAL;VALUE=DURATION:PT1H
X-Robots-Tag:noindex
X-PUBLISHED-TTL:PT1H
BEGIN:VTIMEZONE
TZID:America/Indiana/Indianapolis
BEGIN:DAYLIGHT
TZOFFSETFROM:-0500
TZOFFSETTO:-0400
TZNAME:EDT
DTSTART:20180311T070000
END:DAYLIGHT
BEGIN:STANDARD
TZOFFSETFROM:-0400
TZOFFSETTO:-0500
TZNAME:EST
DTSTART:20181104T060000
END:STANDARD
BEGIN:DAYLIGHT
TZOFFSETFROM:-0500
TZOFFSETTO:-0400
TZNAME:EDT
DTSTART:20190310T070000
END:DAYLIGHT
BEGIN:STANDARD
TZOFFSETFROM:-0400
TZOFFSETTO:-0500
TZNAME:EST
DTSTART:20191103T060000
END:STANDARD
BEGIN:DAYLIGHT
TZOFFSETFROM:-0500
TZOFFSETTO:-0400
TZNAME:EDT
DTSTART:20200308T070000
END:DAYLIGHT
BEGIN:STANDARD
TZOFFSETFROM:-0400
TZOFFSETTO:-0500
TZNAME:EST
DTSTART:20201101T060000
END:STANDARD
END:VTIMEZONE
BEGIN:VEVENT
DTSTART;TZID=America/Indiana/Indianapolis:20190208T103000
DTEND;TZID=America/Indiana/Indianapolis:20190208T120000
DTSTAMP:20260422T161431
CREATED:20181028T020433Z
LAST-MODIFIED:20190121T025400Z
UID:121825-1549621800-1549627200@gorainmakers.com
SUMMARY:Empowering Women Roundtable
DESCRIPTION:Rainmakers Empowering Women Roundtable is for women to meet\, develop and strengthen relationships. Rainmakers\, as an organization\, is passionate about helping professionals build authentic relationships that enable them to reach new levels of success in their business and personal lives. This session is for women of all ages and stages of professional accomplishment. Each month we will spend time getting to know each other and our business needs while engaging in a meaningful discussion topic. \nFebruary Topic: Confidence \nLisa Hudson\, our facilitator and The Growth Coach of Carmel\, specializes in affordable One on One and Group Coaching Workshops for Business Owners\, Management Teams\, Sales Teams\, and Executives. Lisa has over 26 years of experience in coaching others to meet their full potential and drive their business results with clear vision\, action planning\, and ongoing accountability. Lisa is certified in Strategic Leadership Coaching\, Scorecard Coaching\, and DISC Assessment Leadership. \nThis event occurs monthly on the 2nd Friday
URL:https://gorainmakers.com/event/empowering-women-roundtable-4-2019-02-08/
LOCATION:Tilly’s Tea Room\, 8701 Keystone Crossing\, 3rd Fl. Saks Dept. Store\, Indianapolis\, IN\, 46240
CATEGORIES:Roundtable
ATTACH;FMTTYPE=image/jpeg:https://gorainmakers.com/wp-content/uploads/2016/08/Empowering-Women-Option2.jpg
GEO:39.9143623;-86.1072716
X-APPLE-STRUCTURED-LOCATION;VALUE=URI;X-ADDRESS=Tilly’s Tea Room 8701 Keystone Crossing 3rd Fl. Saks Dept. Store Indianapolis IN 46240;X-APPLE-RADIUS=500;X-TITLE=8701 Keystone Crossing\, 3rd Fl. Saks Dept. Store:geo:-86.1072716,39.9143623
END:VEVENT
END:VCALENDAR