BEGIN:VCALENDAR
VERSION:2.0
PRODID:-//Rainmakers - ECPv6.15.17.1//NONSGML v1.0//EN
CALSCALE:GREGORIAN
METHOD:PUBLISH
X-ORIGINAL-URL:https://gorainmakers.com
X-WR-CALDESC:Events for Rainmakers
REFRESH-INTERVAL;VALUE=DURATION:PT1H
X-Robots-Tag:noindex
X-PUBLISHED-TTL:PT1H
BEGIN:VTIMEZONE
TZID:America/Indiana/Indianapolis
BEGIN:DAYLIGHT
TZOFFSETFROM:-0500
TZOFFSETTO:-0400
TZNAME:EDT
DTSTART:20180311T070000
END:DAYLIGHT
BEGIN:STANDARD
TZOFFSETFROM:-0400
TZOFFSETTO:-0500
TZNAME:EST
DTSTART:20181104T060000
END:STANDARD
BEGIN:DAYLIGHT
TZOFFSETFROM:-0500
TZOFFSETTO:-0400
TZNAME:EDT
DTSTART:20190310T070000
END:DAYLIGHT
BEGIN:STANDARD
TZOFFSETFROM:-0400
TZOFFSETTO:-0500
TZNAME:EST
DTSTART:20191103T060000
END:STANDARD
BEGIN:DAYLIGHT
TZOFFSETFROM:-0500
TZOFFSETTO:-0400
TZNAME:EDT
DTSTART:20200308T070000
END:DAYLIGHT
BEGIN:STANDARD
TZOFFSETFROM:-0400
TZOFFSETTO:-0500
TZNAME:EST
DTSTART:20201101T060000
END:STANDARD
END:VTIMEZONE
BEGIN:VEVENT
DTSTART;TZID=America/Indiana/Indianapolis:20190221T083000
DTEND;TZID=America/Indiana/Indianapolis:20190221T103000
DTSTAMP:20260422T160226
CREATED:20181028T015858Z
LAST-MODIFIED:20190304T224158Z
UID:121748-1550737800-1550745000@gorainmakers.com
SUMMARY:Business Owner Roundtable
DESCRIPTION:At this roundtable\, you will identify your top-of-mind challenges and search for solutions. Each month\, Tommy Richardson\, Director of Training and Development\, will feature a new discussion topic in the areas of people\, processes\, leadership and general topics relevant to business owners. Build relationships and get insight on key topics that affect you and your business. \nThis month:  \n\nMarch Topic \nThe Power of Purpose:\n\nWhat you will learn!\n*  Why research shows the #1 reason businesses reach their objectives\n*  6 Benefits of having a clearly written purpose statement\n*  What are the key elements in writing a Life Purpose Statement\n*  The difference between Purpose and A Mission (why both are important)\nDon’t miss the 3rd Thursday every month! \n\n \n  \n  \nTHANK YOU TO OUR HOST \n \nThe experienced sales and management consultants at Lushin provide expert advice on strategy\, staffing\, structure\, and organizational skills training that business leaders need to achieve their goals. The team will help you determine opportunities for improvement—and we’ll give you the tools and confidence to make the most of them. Tailored to address your company’s challenges and specific needs.
URL:https://gorainmakers.com/event/business-owner-roundtable-4/2019-02-21/
LOCATION:Lushin & Associates\, 5655 Castle Creek Pkwy N Dr\, Indianapolis\, 46250\, United States
CATEGORIES:Roundtable
ATTACH;FMTTYPE=image/jpeg:https://gorainmakers.com/wp-content/uploads/2017/12/Business-Owner-Roundtable.jpg
GEO:39.9148242;-86.071145
X-APPLE-STRUCTURED-LOCATION;VALUE=URI;X-ADDRESS=Lushin & Associates 5655 Castle Creek Pkwy N Dr Indianapolis 46250 United States;X-APPLE-RADIUS=500;X-TITLE=5655 Castle Creek Pkwy N Dr:geo:-86.071145,39.9148242
END:VEVENT
BEGIN:VEVENT
DTSTART;TZID=America/Indiana/Indianapolis:20190221T173000
DTEND;TZID=America/Indiana/Indianapolis:20190221T190000
DTSTAMP:20260422T160226
CREATED:20181028T030706Z
LAST-MODIFIED:20190222T130146Z
UID:121766-1550770200-1550775600@gorainmakers.com
SUMMARY:Rainmakers Technology for Business Growth
DESCRIPTION:Four Day Ray Brewing\nThis useful and new networking event was created for business owners to learn how technology can increase their growth and success. Speakers featured at each quarterly event will focus on tools that enable business owners to alleviate day to day challenges associated with running a small business. \nTopic: Post-It Notes Make a Terrible CRM \nSpeaker \nNick Carter \n \nNick has founded or co-founded no less than 7 startups. in 1999 (at 16) he opened an eBay store. In 2005 he started consulting as “Carter & Co.” In 2006 he co-founded AgentGrade.org. All of these businesses closed. \nNick’s a slow learner. But he does learn. \nIn 2008\, he launched AddressTwo and became a MIRA finalist for fastest-growing Indiana tech company. In 2009\, he launched BeTweeted and sold it for cash. In 2011\, he made history with Meat the Rabbit\, Indiana’s first state-inspected rabbit meat processor. In 2013\, Nick co-founded Husk and brought locally grown sweet corn to market. Husk was successfully acquired in 2015 by an organic farming operation. \nToday\, Nick is working on his latest tech startup in the food industry: MarketWagon.com\, where his passion and tech skills coalesce to enable food producers to thrive in their local and regional markets.
URL:https://gorainmakers.com/event/rainmakers-technology-for-business-growth-2/
LOCATION:Four Day Ray Brewing\, 11671 Lantern Road\, Fishers\, IN\, 46038\, United States
CATEGORIES:Technology
ATTACH;FMTTYPE=image/jpeg:https://gorainmakers.com/wp-content/uploads/2018/08/TechnologyBusinessEventWEB.jpg
END:VEVENT
END:VCALENDAR