BEGIN:VCALENDAR
VERSION:2.0
PRODID:-//Rainmakers - ECPv6.15.17.1//NONSGML v1.0//EN
CALSCALE:GREGORIAN
METHOD:PUBLISH
X-ORIGINAL-URL:https://gorainmakers.com
X-WR-CALDESC:Events for Rainmakers
REFRESH-INTERVAL;VALUE=DURATION:PT1H
X-Robots-Tag:noindex
X-PUBLISHED-TTL:PT1H
BEGIN:VTIMEZONE
TZID:America/Indiana/Indianapolis
BEGIN:DAYLIGHT
TZOFFSETFROM:-0500
TZOFFSETTO:-0400
TZNAME:EDT
DTSTART:20180311T070000
END:DAYLIGHT
BEGIN:STANDARD
TZOFFSETFROM:-0400
TZOFFSETTO:-0500
TZNAME:EST
DTSTART:20181104T060000
END:STANDARD
BEGIN:DAYLIGHT
TZOFFSETFROM:-0500
TZOFFSETTO:-0400
TZNAME:EDT
DTSTART:20190310T070000
END:DAYLIGHT
BEGIN:STANDARD
TZOFFSETFROM:-0400
TZOFFSETTO:-0500
TZNAME:EST
DTSTART:20191103T060000
END:STANDARD
BEGIN:DAYLIGHT
TZOFFSETFROM:-0500
TZOFFSETTO:-0400
TZNAME:EDT
DTSTART:20200308T070000
END:DAYLIGHT
BEGIN:STANDARD
TZOFFSETFROM:-0400
TZOFFSETTO:-0500
TZNAME:EST
DTSTART:20201101T060000
END:STANDARD
END:VTIMEZONE
BEGIN:VEVENT
DTSTART;TZID=America/Indiana/Indianapolis:20190222T080000
DTEND;TZID=America/Indiana/Indianapolis:20190222T100000
DTSTAMP:20260422T161840
CREATED:20190118T140431Z
LAST-MODIFIED:20190211T122503Z
UID:121977-1550822400-1550829600@gorainmakers.com
SUMMARY:Psychology Behind The Sale
DESCRIPTION:New Rainmakers Workshop Series \nPsychology Behind The Sale \nFebruary Topic \n Avoiding Commoditization: A Learning Workshop \n Are you in the “already got it” business? Meaning\, do your prospects communicate a lack of interest in your offering with statements like: \n\n“We’re happy with our current set up.”\n“We’ve been with our current supplier since the Bronze Age.”\n“We already have that.”\n\nOr are you always going head to head with a single or multiple competitors? \nIf so\, you’re likely being commoditized. \nIf commoditization is a sales sticking point\, join us on February 22nd and learn: \n\nWhy your prospects work so hard to commoditize you and why they’re incentivized to do so\nHow to Diffuse these common objections before they manifest in your prospect’s mind\nHow to help the prospect uncover and understand why they may be better served by you and your company\, product\, or service\nHow to ultimately avoid commoditization altogether\n\n8 a.m. – 8:30 a.m. Networking \n8:30 a.m. – 10 a.m. Workshop \n This workshop will be facilitated by Rob Lime with Lushin and Associates.
URL:https://gorainmakers.com/event/rainmakers-workshop/
LOCATION:Lushin & Associates\, 5655 Castle Creek Pkwy N Dr\, Indianapolis\, 46250\, United States
CATEGORIES:Education
GEO:39.9148242;-86.071145
X-APPLE-STRUCTURED-LOCATION;VALUE=URI;X-ADDRESS=Lushin & Associates 5655 Castle Creek Pkwy N Dr Indianapolis 46250 United States;X-APPLE-RADIUS=500;X-TITLE=5655 Castle Creek Pkwy N Dr:geo:-86.071145,39.9148242
END:VEVENT
END:VCALENDAR