BEGIN:VCALENDAR
VERSION:2.0
PRODID:-//Rainmakers - ECPv6.15.17.1//NONSGML v1.0//EN
CALSCALE:GREGORIAN
METHOD:PUBLISH
X-WR-CALNAME:Rainmakers
X-ORIGINAL-URL:https://gorainmakers.com
X-WR-CALDESC:Events for Rainmakers
REFRESH-INTERVAL;VALUE=DURATION:PT1H
X-Robots-Tag:noindex
X-PUBLISHED-TTL:PT1H
BEGIN:VTIMEZONE
TZID:America/Indiana/Indianapolis
BEGIN:DAYLIGHT
TZOFFSETFROM:-0500
TZOFFSETTO:-0400
TZNAME:EDT
DTSTART:20180311T070000
END:DAYLIGHT
BEGIN:STANDARD
TZOFFSETFROM:-0400
TZOFFSETTO:-0500
TZNAME:EST
DTSTART:20181104T060000
END:STANDARD
BEGIN:DAYLIGHT
TZOFFSETFROM:-0500
TZOFFSETTO:-0400
TZNAME:EDT
DTSTART:20190310T070000
END:DAYLIGHT
BEGIN:STANDARD
TZOFFSETFROM:-0400
TZOFFSETTO:-0500
TZNAME:EST
DTSTART:20191103T060000
END:STANDARD
BEGIN:DAYLIGHT
TZOFFSETFROM:-0500
TZOFFSETTO:-0400
TZNAME:EDT
DTSTART:20200308T070000
END:DAYLIGHT
BEGIN:STANDARD
TZOFFSETFROM:-0400
TZOFFSETTO:-0500
TZNAME:EST
DTSTART:20201101T060000
END:STANDARD
END:VTIMEZONE
BEGIN:VEVENT
DTSTART;TZID=America/Indiana/Indianapolis:20190321T083000
DTEND;TZID=America/Indiana/Indianapolis:20190321T103000
DTSTAMP:20260422T144150
CREATED:20181028T015858Z
LAST-MODIFIED:20190318T204644Z
UID:121750-1553157000-1553164200@gorainmakers.com
SUMMARY:Business Owner Roundtable
DESCRIPTION:At this roundtable\, you will identify your top-of-mind challenges and search for solutions. Each month\, Tommy Richardson\, Director of Training and Development\, will feature a new discussion topic in the areas of people\, processes\, leadership and general topics relevant to business owners. Build relationships and get insight on key topics that affect you and your business. \n\nMarch Topic: The Power of Purpose \nWhat you will learn!\n*  Why research shows the #1 reason businesses reach their objectives\n*  6 Benefits of having a clearly written purpose statement\n*  What are the key elements in writing a Life Purpose Statement\n*  The difference between Purpose and A Mission (why both are important)\nDon’t miss the 3rd Thursday every month! \n\n \n  \n  \nTHANK YOU TO OUR HOST \n \nThe experienced sales and management consultants at Lushin provide expert advice on strategy\, staffing\, structure\, and organizational skills training that business leaders need to achieve their goals. The team will help you determine opportunities for improvement—and we’ll give you the tools and confidence to make the most of them. Tailored to address your company’s challenges and specific needs.
URL:https://gorainmakers.com/event/business-owner-roundtable-4-2019-03-21/
LOCATION:Jarred Bunch\, 3625 East 96th Street\, Indianapolis\, IN\, 46240\, United States
CATEGORIES:Roundtable
ATTACH;FMTTYPE=image/jpeg:https://gorainmakers.com/wp-content/uploads/2017/12/Business-Owner-Roundtable.jpg
END:VEVENT
END:VCALENDAR