BEGIN:VCALENDAR
VERSION:2.0
PRODID:-//Rainmakers - ECPv6.15.17.1//NONSGML v1.0//EN
CALSCALE:GREGORIAN
METHOD:PUBLISH
X-WR-CALNAME:Rainmakers
X-ORIGINAL-URL:https://gorainmakers.com
X-WR-CALDESC:Events for Rainmakers
REFRESH-INTERVAL;VALUE=DURATION:PT1H
X-Robots-Tag:noindex
X-PUBLISHED-TTL:PT1H
BEGIN:VTIMEZONE
TZID:America/Indiana/Indianapolis
BEGIN:DAYLIGHT
TZOFFSETFROM:-0500
TZOFFSETTO:-0400
TZNAME:EDT
DTSTART:20180311T070000
END:DAYLIGHT
BEGIN:STANDARD
TZOFFSETFROM:-0400
TZOFFSETTO:-0500
TZNAME:EST
DTSTART:20181104T060000
END:STANDARD
BEGIN:DAYLIGHT
TZOFFSETFROM:-0500
TZOFFSETTO:-0400
TZNAME:EDT
DTSTART:20190310T070000
END:DAYLIGHT
BEGIN:STANDARD
TZOFFSETFROM:-0400
TZOFFSETTO:-0500
TZNAME:EST
DTSTART:20191103T060000
END:STANDARD
BEGIN:DAYLIGHT
TZOFFSETFROM:-0500
TZOFFSETTO:-0400
TZNAME:EDT
DTSTART:20200308T070000
END:DAYLIGHT
BEGIN:STANDARD
TZOFFSETFROM:-0400
TZOFFSETTO:-0500
TZNAME:EST
DTSTART:20201101T060000
END:STANDARD
END:VTIMEZONE
BEGIN:VEVENT
DTSTART;TZID=America/Indiana/Indianapolis:20190408T090000
DTEND;TZID=America/Indiana/Indianapolis:20190408T093000
DTSTAMP:20260422T132025
CREATED:20190104T025413Z
LAST-MODIFIED:20190319T175335Z
UID:121952-1554714000-1554715800@gorainmakers.com
SUMMARY:Monday Fire Webinar
DESCRIPTION:Topic: Host Powerful Meetings \n\n\nRelationship marketing or networking is the most impactful channel into the sales process. When we are in control of an environment that helps others and ourselves to intentionally make meaningful connections\, it is enjoyable and results- focused. Let’s discuss the details to pull off a powerful event or gathering.Some of the key takeaways include:\n\n\nClearly define the WHO and WHY\nIncorporating highly attractive agenda items\nImpactful calls- to- action and follow up\n\n\n\n\nJoin Nikki Lewallen\, CEO of Rainmakers\, as she shares 10 life and business best practices to maximize your life in 2019. Looking for peak performance in business? Want more energy? Want to make a lifestyle change or build a strong habit? Join in! She will share the inside scoop and we will set aside time for questions. All in 30 minutes! \nThis webinar will be held on the second Monday of each month with a different topic each month.
URL:https://gorainmakers.com/event/monday-fire-webinar-2019-02-04-2019-04-08/
LOCATION:IN\, Indianapolis\, IN
CATEGORIES:Education,Training,Webinar
ATTACH;FMTTYPE=image/png:https://gorainmakers.com/wp-content/uploads/2019/01/Monday-Fire_2ndMonday.png
END:VEVENT
END:VCALENDAR