BEGIN:VCALENDAR
VERSION:2.0
PRODID:-//Rainmakers - ECPv6.15.17.1//NONSGML v1.0//EN
CALSCALE:GREGORIAN
METHOD:PUBLISH
X-ORIGINAL-URL:https://gorainmakers.com
X-WR-CALDESC:Events for Rainmakers
REFRESH-INTERVAL;VALUE=DURATION:PT1H
X-Robots-Tag:noindex
X-PUBLISHED-TTL:PT1H
BEGIN:VTIMEZONE
TZID:America/Indiana/Indianapolis
BEGIN:DAYLIGHT
TZOFFSETFROM:-0500
TZOFFSETTO:-0400
TZNAME:EDT
DTSTART:20180311T070000
END:DAYLIGHT
BEGIN:STANDARD
TZOFFSETFROM:-0400
TZOFFSETTO:-0500
TZNAME:EST
DTSTART:20181104T060000
END:STANDARD
BEGIN:DAYLIGHT
TZOFFSETFROM:-0500
TZOFFSETTO:-0400
TZNAME:EDT
DTSTART:20190310T070000
END:DAYLIGHT
BEGIN:STANDARD
TZOFFSETFROM:-0400
TZOFFSETTO:-0500
TZNAME:EST
DTSTART:20191103T060000
END:STANDARD
BEGIN:DAYLIGHT
TZOFFSETFROM:-0500
TZOFFSETTO:-0400
TZNAME:EDT
DTSTART:20200308T070000
END:DAYLIGHT
BEGIN:STANDARD
TZOFFSETFROM:-0400
TZOFFSETTO:-0500
TZNAME:EST
DTSTART:20201101T060000
END:STANDARD
END:VTIMEZONE
BEGIN:VEVENT
DTSTART;TZID=America/Indiana/Indianapolis:20190418T083000
DTEND;TZID=America/Indiana/Indianapolis:20190418T103000
DTSTAMP:20260422T132318
CREATED:20181028T015858Z
LAST-MODIFIED:20190508T223507Z
UID:122136-1555576200-1555583400@gorainmakers.com
SUMMARY:Business Owner Roundtable
DESCRIPTION:Each month\, the Business Owners Roundtable helps you identify top-of-mind business challenges and helps you learn innovative and foundational solutions. Tommy Richardson\, Rainmakers Director of Training and Development\, features a new discussion topic at each event\, which addresses people\, processes\, leadership\, and relevant general business topics. This is your opportunity to build relationships while gaining insights into key topics that affect you and your business.  This roundtable is intended for Business Owners. \n\n\nTopic:Building Our Business – Attributes that are Critical\n\n\nCriteria – Credibility\nHow to Mindmap – Learning and Presenting Tools\nLet’s Kill What’s Killing You!\n\n\n\nWhat’s holding you back from excellence in your business and personal life?\nThe one thing responsible for preventing your excellence and success. What is it and how do I overcome it? \n\n\nDon’t miss this session! Guaranteed to stretch your business and personal growth!\n\nBe The Exception!!!\n\n\n\n\nDon’t miss the 3rd Thursday every month!
URL:https://gorainmakers.com/event/business-owner-roundtable-4-2019-04-18/
LOCATION:Jarred Bunch\, 3625 East 96th Street\, Indianapolis\, IN\, 46240\, United States
CATEGORIES:Roundtable
ATTACH;FMTTYPE=image/png:https://gorainmakers.com/wp-content/uploads/2018/10/BUSINESS-OWNERS-rountable.png
END:VEVENT
END:VCALENDAR