BEGIN:VCALENDAR
VERSION:2.0
PRODID:-//Rainmakers - ECPv6.15.17.1//NONSGML v1.0//EN
CALSCALE:GREGORIAN
METHOD:PUBLISH
X-ORIGINAL-URL:https://gorainmakers.com
X-WR-CALDESC:Events for Rainmakers
REFRESH-INTERVAL;VALUE=DURATION:PT1H
X-Robots-Tag:noindex
X-PUBLISHED-TTL:PT1H
BEGIN:VTIMEZONE
TZID:America/Indiana/Indianapolis
BEGIN:DAYLIGHT
TZOFFSETFROM:-0500
TZOFFSETTO:-0400
TZNAME:EDT
DTSTART:20180311T070000
END:DAYLIGHT
BEGIN:STANDARD
TZOFFSETFROM:-0400
TZOFFSETTO:-0500
TZNAME:EST
DTSTART:20181104T060000
END:STANDARD
BEGIN:DAYLIGHT
TZOFFSETFROM:-0500
TZOFFSETTO:-0400
TZNAME:EDT
DTSTART:20190310T070000
END:DAYLIGHT
BEGIN:STANDARD
TZOFFSETFROM:-0400
TZOFFSETTO:-0500
TZNAME:EST
DTSTART:20191103T060000
END:STANDARD
BEGIN:DAYLIGHT
TZOFFSETFROM:-0500
TZOFFSETTO:-0400
TZNAME:EDT
DTSTART:20200308T070000
END:DAYLIGHT
BEGIN:STANDARD
TZOFFSETFROM:-0400
TZOFFSETTO:-0500
TZNAME:EST
DTSTART:20201101T060000
END:STANDARD
END:VTIMEZONE
BEGIN:VEVENT
DTSTART;TZID=America/Indiana/Indianapolis:20190510T103000
DTEND;TZID=America/Indiana/Indianapolis:20190510T120000
DTSTAMP:20260422T115503
CREATED:20181028T020433Z
LAST-MODIFIED:20190508T225319Z
UID:121829-1557484200-1557489600@gorainmakers.com
SUMMARY:Empowering Women Roundtable
DESCRIPTION:Rainmakers Empowering Women Roundtable is for women to meet\, develop and strengthen relationships. Rainmakers\, as an organization\, is passionate about helping professionals build authentic relationships that enable them to reach new levels of success in their business and personal lives. This session is for women of all ages and stages of professional accomplishment. Each month we will spend time getting to know each other and our business needs while engaging in a meaningful discussion topic. \n\nMay Topic: Overcoming Overwhelm \n\n\nAre you overwhelmed by… \n\ntrying to balance it all\nthe constant demands of home and work\nhaving to decide what to focus on\nthe thought of change\nnot having enough time or energy to do what you WANT to do\nnever reaching your goals\nchoices!\n\nThis workshop\, for those who are feeling overwhelmed or stuck\, provides learning on how to create the clarity and purposeful thinking they need to move forward toward their desired outcomes in their business\, career and daily schedule. \n\n\n\nYou will learn how to:\n\n\nIdentify your current reality\nClarify your desired future\nDetermine what is holding you back and why you are stuck\nUse a new framework to turn thoughts into actions\nAchieve the desired result\n\n\nGet from your current reality to your desired future. It all starts with your thinking.\n\n\n\n\n\nYou will receive: \n\nA guide to “think on purpose”\nRelevant action steps to find clarity and eliminate overwhelm\nThe opportunity to meet like-minded individuals\n\n  \n\n\nFacilitator: Andrea Liebross\n\n\n\nAndrea is a Possibilities Coach who works\nwith workplace teams and individuals to\nempower them to see things from a fresh\nperspective and to discover their power to\ncreate new possibilities in their business\,\ncareer and daily schedule. Andrea drives\nher clients to be creators of their own\nfutures; “thinking on purpose” is the key to\nget to the next level.\n\nThis event occurs monthly on the 2nd Friday
URL:https://gorainmakers.com/event/empowering-women-roundtable-4-2019-05-10/
LOCATION:Tilly’s Tea Room\, 8701 Keystone Crossing\, 3rd Fl. Saks Dept. Store\, Indianapolis\, IN\, 46240
CATEGORIES:Roundtable
GEO:39.9143623;-86.1072716
X-APPLE-STRUCTURED-LOCATION;VALUE=URI;X-ADDRESS=Tilly’s Tea Room 8701 Keystone Crossing 3rd Fl. Saks Dept. Store Indianapolis IN 46240;X-APPLE-RADIUS=500;X-TITLE=8701 Keystone Crossing\, 3rd Fl. Saks Dept. Store:geo:-86.1072716,39.9143623
END:VEVENT
END:VCALENDAR