BEGIN:VCALENDAR
VERSION:2.0
PRODID:-//Rainmakers - ECPv6.15.17.1//NONSGML v1.0//EN
CALSCALE:GREGORIAN
METHOD:PUBLISH
X-WR-CALNAME:Rainmakers
X-ORIGINAL-URL:https://gorainmakers.com
X-WR-CALDESC:Events for Rainmakers
REFRESH-INTERVAL;VALUE=DURATION:PT1H
X-Robots-Tag:noindex
X-PUBLISHED-TTL:PT1H
BEGIN:VTIMEZONE
TZID:America/Indiana/Indianapolis
BEGIN:DAYLIGHT
TZOFFSETFROM:-0500
TZOFFSETTO:-0400
TZNAME:EDT
DTSTART:20180311T070000
END:DAYLIGHT
BEGIN:STANDARD
TZOFFSETFROM:-0400
TZOFFSETTO:-0500
TZNAME:EST
DTSTART:20181104T060000
END:STANDARD
BEGIN:DAYLIGHT
TZOFFSETFROM:-0500
TZOFFSETTO:-0400
TZNAME:EDT
DTSTART:20190310T070000
END:DAYLIGHT
BEGIN:STANDARD
TZOFFSETFROM:-0400
TZOFFSETTO:-0500
TZNAME:EST
DTSTART:20191103T060000
END:STANDARD
BEGIN:DAYLIGHT
TZOFFSETFROM:-0500
TZOFFSETTO:-0400
TZNAME:EDT
DTSTART:20200308T070000
END:DAYLIGHT
BEGIN:STANDARD
TZOFFSETFROM:-0400
TZOFFSETTO:-0500
TZNAME:EST
DTSTART:20201101T060000
END:STANDARD
END:VTIMEZONE
BEGIN:VEVENT
DTSTART;TZID=America/Indiana/Indianapolis:20190516T173000
DTEND;TZID=America/Indiana/Indianapolis:20190516T190000
DTSTAMP:20260422T114241
CREATED:20181028T030706Z
LAST-MODIFIED:20190520T125039Z
UID:121880-1558027800-1558033200@gorainmakers.com
SUMMARY:Rainmakers Business Tech Forward
DESCRIPTION:This useful networking event was created for business owners to learn how technology can increase their growth and success. Speakers featured at each quarterly event will focus on tools that help business owners grow revenues\, reduce costs\, and improve execution. Visit us to learn how technology can help the business owner. \n  \nJoin us for a panel discussion about \nCyber Security \n  \nOur Panel: \nChris Collins \n \nFormer FBI Special Agent-Cyber Crime Task Force \nPresident-Infragard Indiana Members Alliance \n  \nSgt. Jeremy Brice \n \nNetwork Intrusion and Exploitation Investigator \nIndiana State Police \nIntelligence & Investigative Technologies \nCyber Crimes Unit \n  \nMark Clausman \n \nOwner\, Steryln Group \nSecurity Chair of the Indiana Security & Privacy Network \n  \nJerry Johnson \n \nPresident\, Egis IT Securit \nITIL and CISSP certified\, and a member of the joint \nFBI and private sector InfraGard association. \n  \nRoss Wimmersberger \n\n\nFounder/President at 4CIT\n\n4CIT specializes in ethical hacking\, pen testing\, and daily\nIT tasks to keep companies safe\, secure\, and compliant.
URL:https://gorainmakers.com/event/rainmakers-technology-for-business-growth-2-2019-05-16/2019-05-16/
LOCATION:Four Day Ray\, 11671 LANTERN ROAD\, Fishers\, IN\, 46038\, United States
CATEGORIES:Small Business,Technology
ATTACH;FMTTYPE=image/png:https://gorainmakers.com/wp-content/uploads/2018/10/BusinessTech.png
GEO:39.9580802;-86.0137119
X-APPLE-STRUCTURED-LOCATION;VALUE=URI;X-ADDRESS=Four Day Ray 11671 LANTERN ROAD Fishers IN 46038 United States;X-APPLE-RADIUS=500;X-TITLE=11671 LANTERN ROAD:geo:-86.0137119,39.9580802
END:VEVENT
END:VCALENDAR