BEGIN:VCALENDAR
VERSION:2.0
PRODID:-//Rainmakers - ECPv6.15.17.1//NONSGML v1.0//EN
CALSCALE:GREGORIAN
METHOD:PUBLISH
X-WR-CALNAME:Rainmakers
X-ORIGINAL-URL:https://gorainmakers.com
X-WR-CALDESC:Events for Rainmakers
REFRESH-INTERVAL;VALUE=DURATION:PT1H
X-Robots-Tag:noindex
X-PUBLISHED-TTL:PT1H
BEGIN:VTIMEZONE
TZID:America/Indiana/Indianapolis
BEGIN:DAYLIGHT
TZOFFSETFROM:-0500
TZOFFSETTO:-0400
TZNAME:EDT
DTSTART:20180311T070000
END:DAYLIGHT
BEGIN:STANDARD
TZOFFSETFROM:-0400
TZOFFSETTO:-0500
TZNAME:EST
DTSTART:20181104T060000
END:STANDARD
BEGIN:DAYLIGHT
TZOFFSETFROM:-0500
TZOFFSETTO:-0400
TZNAME:EDT
DTSTART:20190310T070000
END:DAYLIGHT
BEGIN:STANDARD
TZOFFSETFROM:-0400
TZOFFSETTO:-0500
TZNAME:EST
DTSTART:20191103T060000
END:STANDARD
BEGIN:DAYLIGHT
TZOFFSETFROM:-0500
TZOFFSETTO:-0400
TZNAME:EDT
DTSTART:20200308T070000
END:DAYLIGHT
BEGIN:STANDARD
TZOFFSETFROM:-0400
TZOFFSETTO:-0500
TZNAME:EST
DTSTART:20201101T060000
END:STANDARD
END:VTIMEZONE
BEGIN:VEVENT
DTSTART;TZID=America/Indiana/Indianapolis:20190523T173000
DTEND;TZID=America/Indiana/Indianapolis:20190523T190000
DTSTAMP:20260422T114241
CREATED:20190307T174536Z
LAST-MODIFIED:20190513T230613Z
UID:122181-1558632600-1558638000@gorainmakers.com
SUMMARY:Downtown Meet & Greet
DESCRIPTION:Downtown Rainmakers is a quarterly event for professionals\, executives and business owners whose market place and/or related activities has a center of commerce from the downtown area. This event features top city leaders and business people with influence in the Indianapolis business community. Extend your professional network\, meet others who focus on the downtown marketplace\, learn from knowledgeable guest speakers\, and participate in the ever changing business landscape of Indianapolis! \n  \nWe’re at it again with Rainmakers Downtown! Every once in a while we explore a new location to foster new opportunities. \nJoin us for a casual gathering of business professionals. \nRainmakers Downtown Meet & Greet\non\nMay 23rd \nat \nNeidhammer Events Center\nfrom\n5:30 p.m. to 7 p.m. \n  \nDo you want to find new clients and grow your business downtown?\nAre you looking to build strategic relationships with other professionals downtown?\nDo you need to grow your brand presence in Downtown Indy?\nLight appetizers and a cash bar will be available. \n  \n \n  \nOur Featured Non-Profit \nThe Alzheimer’s Association \n \nThe Alzheimer’s Association mission is to eliminate Alzheimer’s disease through the advancement of research; to provide and enhance care and support for all affected; and to reduce the risk of dementia through the promotion of brain health. The Greater Indiana Chapter provides services in 73 Indiana counties\, in support of the 110\,000 Hoosiers living with Alzheimer’s disease and their 340\,000 unpaid caregivers. All of our services are free of charge thanks in large part to our signature event\, the Walk to End Alzheimer’s.
URL:https://gorainmakers.com/event/downtown-meet-greet/
LOCATION:Neidhammer Events Center\, 2102 East Washington Street\, Indianapolis\, IN\, 46201
CATEGORIES:Downtown Indy
END:VEVENT
END:VCALENDAR