BEGIN:VCALENDAR
VERSION:2.0
PRODID:-//Rainmakers - ECPv6.15.17.1//NONSGML v1.0//EN
CALSCALE:GREGORIAN
METHOD:PUBLISH
X-WR-CALNAME:Rainmakers
X-ORIGINAL-URL:https://gorainmakers.com
X-WR-CALDESC:Events for Rainmakers
REFRESH-INTERVAL;VALUE=DURATION:PT1H
X-Robots-Tag:noindex
X-PUBLISHED-TTL:PT1H
BEGIN:VTIMEZONE
TZID:America/Indiana/Indianapolis
BEGIN:DAYLIGHT
TZOFFSETFROM:-0500
TZOFFSETTO:-0400
TZNAME:EDT
DTSTART:20180311T070000
END:DAYLIGHT
BEGIN:STANDARD
TZOFFSETFROM:-0400
TZOFFSETTO:-0500
TZNAME:EST
DTSTART:20181104T060000
END:STANDARD
BEGIN:DAYLIGHT
TZOFFSETFROM:-0500
TZOFFSETTO:-0400
TZNAME:EDT
DTSTART:20190310T070000
END:DAYLIGHT
BEGIN:STANDARD
TZOFFSETFROM:-0400
TZOFFSETTO:-0500
TZNAME:EST
DTSTART:20191103T060000
END:STANDARD
BEGIN:DAYLIGHT
TZOFFSETFROM:-0500
TZOFFSETTO:-0400
TZNAME:EDT
DTSTART:20200308T070000
END:DAYLIGHT
BEGIN:STANDARD
TZOFFSETFROM:-0400
TZOFFSETTO:-0500
TZNAME:EST
DTSTART:20201101T060000
END:STANDARD
END:VTIMEZONE
BEGIN:VEVENT
DTSTART;TZID=America/Indiana/Indianapolis:20190528T080000
DTEND;TZID=America/Indiana/Indianapolis:20190528T093000
DTSTAMP:20260418T180816
CREATED:20181028T021109Z
LAST-MODIFIED:20190520T131201Z
UID:121862-1559030400-1559035800@gorainmakers.com
SUMMARY:Rainmakers Christian Professionals (RCP)
DESCRIPTION:Recognizing our workplace is also our mission field\, we are here to encourage one another as we learn and apply biblical principles at work. \nRainmakers Christian Professionals (RCP) is an intimate networking experience for Christian business professionals. Every monthly event provides teaching and small group discussion. RCP is a platform to build and strengthen your relationship with God and your relationships with people. \nMay Topic: \nHow to become an employer of choice by cultivating empathy in the workplace.   \n\nWhen your employees experience disruptive life events\, it can be difficult to know what to do or what to say.  As a manager or a co-worker\, how can you help someone survive\, stabilize\, and thrive in the aftermath of something hard?  Liesel shares her story of how faith\, community\, and meaningful support helped her continue on after the death of her daughter\, Mercy\, and the recurring hospitalizations of her young son\, Moses.  She shares actionable steps that you can take to create cadences of care within your organization.\n\nSpeaker:\nLiesel Mertes\n\n\n\n“I believe that creating organizational cadences of care is essential to employee retention and satisfaction. As a workplace empathy consultant\, I partner with businesses to support employees as they experience disruptive life events (death\, returning to work postpartum\, a diagnosis\, relationship transitions etc.). My personal journey with loss: the death of a young daughter and the ongoing cardiac care of my son\, powerfully inform my vocation.  I am a consultant\, writer\, speaker\, and podcaster.”\n\n\n\n\nFacebook:  https://www.facebook.com/liesel.mertes \nTwitter: https://twitter.com/lieselmertes\nLinkedIn: linkedin.com/in/lieselmertes\nWebsite: lieselmertes.com\nInstagram: https://www.instagram.com/lieseljoy/
URL:https://gorainmakers.com/event/rainmakers-christian-professionals-rcp-2019-05-28/
LOCATION:Indiana Wesleyan University – Indianapolis North campus\, 3777 Priority Way South Drive\, Indianapolis\, IN\, 46240\, United States
CATEGORIES:Faith Based
ATTACH;FMTTYPE=image/jpeg:https://gorainmakers.com/wp-content/uploads/2018/10/RCP.jpg
GEO:39.9191828;-86.1018606
X-APPLE-STRUCTURED-LOCATION;VALUE=URI;X-ADDRESS=Indiana Wesleyan University – Indianapolis North campus 3777 Priority Way South Drive Indianapolis IN 46240 United States;X-APPLE-RADIUS=500;X-TITLE=3777 Priority Way South Drive:geo:-86.1018606,39.9191828
END:VEVENT
END:VCALENDAR