BEGIN:VCALENDAR
VERSION:2.0
PRODID:-//Rainmakers - ECPv6.15.17.1//NONSGML v1.0//EN
CALSCALE:GREGORIAN
METHOD:PUBLISH
X-WR-CALNAME:Rainmakers
X-ORIGINAL-URL:https://gorainmakers.com
X-WR-CALDESC:Events for Rainmakers
REFRESH-INTERVAL;VALUE=DURATION:PT1H
X-Robots-Tag:noindex
X-PUBLISHED-TTL:PT1H
BEGIN:VTIMEZONE
TZID:America/Indiana/Indianapolis
BEGIN:DAYLIGHT
TZOFFSETFROM:-0500
TZOFFSETTO:-0400
TZNAME:EDT
DTSTART:20180311T070000
END:DAYLIGHT
BEGIN:STANDARD
TZOFFSETFROM:-0400
TZOFFSETTO:-0500
TZNAME:EST
DTSTART:20181104T060000
END:STANDARD
BEGIN:DAYLIGHT
TZOFFSETFROM:-0500
TZOFFSETTO:-0400
TZNAME:EDT
DTSTART:20190310T070000
END:DAYLIGHT
BEGIN:STANDARD
TZOFFSETFROM:-0400
TZOFFSETTO:-0500
TZNAME:EST
DTSTART:20191103T060000
END:STANDARD
BEGIN:DAYLIGHT
TZOFFSETFROM:-0500
TZOFFSETTO:-0400
TZNAME:EDT
DTSTART:20200308T070000
END:DAYLIGHT
BEGIN:STANDARD
TZOFFSETFROM:-0400
TZOFFSETTO:-0500
TZNAME:EST
DTSTART:20201101T060000
END:STANDARD
END:VTIMEZONE
BEGIN:VEVENT
DTSTART;TZID=America/Indiana/Indianapolis:20190718T083000
DTEND;TZID=America/Indiana/Indianapolis:20190718T103000
DTSTAMP:20260422T080124
CREATED:20181028T015858Z
LAST-MODIFIED:20190715T142950Z
UID:122139-1563438600-1563445800@gorainmakers.com
SUMMARY:Business Owner Roundtable
DESCRIPTION:Each month\, the Business Owners Roundtable helps you identify top-of-mind business challenges and helps you learn innovative and foundational solutions. Tommy Richardson\, Rainmakers Director of Training and Development\, features a new discussion topic at each event\, which addresses people\, processes\, leadership\, and relevant general business topics. This is your opportunity to build relationships while gaining insights into key topics that affect you and your business.  This roundtable is intended for Business Owners. \n\n \n\nExplore What’s Holding You Back in Reaching Your Potential!\n\n\n\nA Check-Up from the Neck Up. Half of the year is gone\, let’s take a few minutes and check up on our business and personal objectives for the year\n\n\nContinue to study Presence\, Personal Magnetism\, Charisma\n\nQuestion: how strong is your charisma\, how can you strengthen it?\n\n\n\n\nContinue to study Influence\n\n#1 critical factor for our ability to influence persuade and convince others is to be part of what we are sharing\n\n\n\n  \n\n\n\nThe purpose of the Business Owners Roundtable is to:  Learn & Plan in an Accelerated Environment (Growth Minded) to Increase your Business and Personal Growth.\n\n\n\n\nDon’t miss this session! Guaranteed to stretch your business and personal growth!\n\nBe The Exception!!!\n\n\n\nDon’t miss the 3rd Thursday every month!
URL:https://gorainmakers.com/event/business-owner-roundtable-4-2019-04-18-2019-06-20-2019-07-18/
LOCATION:Morales Group\, 5628 W. 74th St.\, Indianapolis\, IN\, 46278
CATEGORIES:Roundtable
ATTACH;FMTTYPE=image/png:https://gorainmakers.com/wp-content/uploads/2018/10/BUSINESS-OWNERS-rountable.png
END:VEVENT
END:VCALENDAR