BEGIN:VCALENDAR
VERSION:2.0
PRODID:-//Rainmakers - ECPv6.15.17.1//NONSGML v1.0//EN
CALSCALE:GREGORIAN
METHOD:PUBLISH
X-WR-CALNAME:Rainmakers
X-ORIGINAL-URL:https://gorainmakers.com
X-WR-CALDESC:Events for Rainmakers
REFRESH-INTERVAL;VALUE=DURATION:PT1H
X-Robots-Tag:noindex
X-PUBLISHED-TTL:PT1H
BEGIN:VTIMEZONE
TZID:America/Indiana/Indianapolis
BEGIN:DAYLIGHT
TZOFFSETFROM:-0500
TZOFFSETTO:-0400
TZNAME:EDT
DTSTART:20180311T070000
END:DAYLIGHT
BEGIN:STANDARD
TZOFFSETFROM:-0400
TZOFFSETTO:-0500
TZNAME:EST
DTSTART:20181104T060000
END:STANDARD
BEGIN:DAYLIGHT
TZOFFSETFROM:-0500
TZOFFSETTO:-0400
TZNAME:EDT
DTSTART:20190310T070000
END:DAYLIGHT
BEGIN:STANDARD
TZOFFSETFROM:-0400
TZOFFSETTO:-0500
TZNAME:EST
DTSTART:20191103T060000
END:STANDARD
BEGIN:DAYLIGHT
TZOFFSETFROM:-0500
TZOFFSETTO:-0400
TZNAME:EDT
DTSTART:20200308T070000
END:DAYLIGHT
BEGIN:STANDARD
TZOFFSETFROM:-0400
TZOFFSETTO:-0500
TZNAME:EST
DTSTART:20201101T060000
END:STANDARD
END:VTIMEZONE
BEGIN:VEVENT
DTSTART;TZID=America/Indiana/Indianapolis:20190722T100000
DTEND;TZID=America/Indiana/Indianapolis:20190722T100000
DTSTAMP:20260422T080124
CREATED:20190104T025413Z
LAST-MODIFIED:20190717T165958Z
UID:121955-1563789600-1563789600@gorainmakers.com
SUMMARY:Monday Fire Webinar
DESCRIPTION:This Month… \nEfficiency \n\nThis session will be fireside chat style on the topic of efficiency. Gain more time back and be happy with what you say yes to when you implement some new ideas that you will learn on this virtual discussion. Top performers are efficient professionals!\n\n-How to prioritize\n-Best practices for planning well\n-Saying No\n-Reflect and sharpen\nJoin Nikki Lewallen\, CEO of Rainmakers\, as she shares 10 life and business best practices to maximize your life in 2019. Looking for peak performance in business? Want more energy? Want to make a lifestyle change or build a strong habit? Join in! She will share the inside scoop and we will set aside time for questions. All in 30 minutes! \n  \nThis webinar will be held on the second Monday of each month with a different topic each month. \n  \n \nNikki Lewallen \nCEO\,Rainmakers
URL:https://gorainmakers.com/event/monday-fire-webinar-2019-02-04-2019-04-08-2019-05-13-2019-06-10-2019-07-08/
LOCATION:Zoom Webinar\, Indianapolis\, IN
CATEGORIES:Education,Training,Webinar
ATTACH;FMTTYPE=image/png:https://gorainmakers.com/wp-content/uploads/2019/01/monday-fire.png
END:VEVENT
END:VCALENDAR