BEGIN:VCALENDAR
VERSION:2.0
PRODID:-//Rainmakers - ECPv6.15.17.1//NONSGML v1.0//EN
CALSCALE:GREGORIAN
METHOD:PUBLISH
X-WR-CALNAME:Rainmakers
X-ORIGINAL-URL:https://gorainmakers.com
X-WR-CALDESC:Events for Rainmakers
REFRESH-INTERVAL;VALUE=DURATION:PT1H
X-Robots-Tag:noindex
X-PUBLISHED-TTL:PT1H
BEGIN:VTIMEZONE
TZID:America/Indiana/Indianapolis
BEGIN:DAYLIGHT
TZOFFSETFROM:-0500
TZOFFSETTO:-0400
TZNAME:EDT
DTSTART:20180311T070000
END:DAYLIGHT
BEGIN:STANDARD
TZOFFSETFROM:-0400
TZOFFSETTO:-0500
TZNAME:EST
DTSTART:20181104T060000
END:STANDARD
BEGIN:DAYLIGHT
TZOFFSETFROM:-0500
TZOFFSETTO:-0400
TZNAME:EDT
DTSTART:20190310T070000
END:DAYLIGHT
BEGIN:STANDARD
TZOFFSETFROM:-0400
TZOFFSETTO:-0500
TZNAME:EST
DTSTART:20191103T060000
END:STANDARD
BEGIN:DAYLIGHT
TZOFFSETFROM:-0500
TZOFFSETTO:-0400
TZNAME:EDT
DTSTART:20200308T070000
END:DAYLIGHT
BEGIN:STANDARD
TZOFFSETFROM:-0400
TZOFFSETTO:-0500
TZNAME:EST
DTSTART:20201101T060000
END:STANDARD
END:VTIMEZONE
BEGIN:VEVENT
DTSTART;TZID=America/Indiana/Indianapolis:20190730T163000
DTEND;TZID=America/Indiana/Indianapolis:20190730T200000
DTSTAMP:20260422T065318
CREATED:20181028T022018Z
LAST-MODIFIED:20190723T023044Z
UID:122206-1564504200-1564516800@gorainmakers.com
SUMMARY:Eat + Drink
DESCRIPTION:Rainmakers Eat + Drink is our monthly social event. We travel all around the city to experience Indy’s best independent restaurant establishments.  Everyone welcome! Bring a friend or colleague and participate in a relaxed networking environment while enjoying the great tastes of Indy. \nRainmakers July Eat + Drink \nat \nThe North End Barbecue & Moonshine \n  \n Join us for cocktails\, dinner or both! \n 4:30 p.m. to 6:00 p.m. Cocktail Hour \n 6:00 p.m. Dinner \nNote: We’re responsible for finding a great restaurant! You’re responsible for your food and drink! \n  Tuesday afternoons need some love too!  Let’s support a local restaurant\, get to know other folks\, and have great food and beverages all at the same time! \nCheers to Tuesday! \n_____________ \n  \n \nAbout The North End Barbecue & Moonshine: \nWe believe that if our country had a national cuisine\, it is most assuredly Barbecue. \nThe North End Barbecue and Moonshine features American regional barbecue that aims to honor the great technique and tradition of our favorite food. We support farms that raise their beef\, pork\, chicken and turkey naturally without the use of anti-biotics\, hormones or GMO Feed. \nThe North End features local beers\, an extensive bourbon list\, craft cocktails and a hand selected wine list. An emphasis is placed on genuine hospitality and professional service that anticipates our guests needs. \nThe North End is perfect for a night out with the family\, business dinners in one of our two private dining rooms or grabbing drinks with friends in the bar. We also have a patio for outdoor dining with a retractable roof\, lounge seating and an outdoor fireplace. \n  \n__________________________________________ \n  \nTHANK YOU TO OUR SPONSOR\n \nThank you to  Nathan Pfahler & The Pfahler Group for sponsoring Rainmakers Eat + Drink!  ‘We consider ourselves more of a “boutique” real estate brokerage- with the ability to shift as the market demands\, and stay at the forefront of the latest marketing initiatives to better serve our clients!
URL:https://gorainmakers.com/event/eat-drink-9-2019-03-26-2019-04-23-2019-04-30-2019-07-30/
LOCATION:The North End Barbecue & Moonshine\, 1250 East 86th Street\, Indianapolis\, IN\, 46240
CATEGORIES:Social
ATTACH;FMTTYPE=image/png:https://gorainmakers.com/wp-content/uploads/2018/10/eatdrinkF.png
END:VEVENT
END:VCALENDAR