BEGIN:VCALENDAR
VERSION:2.0
PRODID:-//Rainmakers - ECPv6.15.17.1//NONSGML v1.0//EN
CALSCALE:GREGORIAN
METHOD:PUBLISH
X-WR-CALNAME:Rainmakers
X-ORIGINAL-URL:https://gorainmakers.com
X-WR-CALDESC:Events for Rainmakers
REFRESH-INTERVAL;VALUE=DURATION:PT1H
X-Robots-Tag:noindex
X-PUBLISHED-TTL:PT1H
BEGIN:VTIMEZONE
TZID:America/Indiana/Indianapolis
BEGIN:DAYLIGHT
TZOFFSETFROM:-0500
TZOFFSETTO:-0400
TZNAME:EDT
DTSTART:20180311T070000
END:DAYLIGHT
BEGIN:STANDARD
TZOFFSETFROM:-0400
TZOFFSETTO:-0500
TZNAME:EST
DTSTART:20181104T060000
END:STANDARD
BEGIN:DAYLIGHT
TZOFFSETFROM:-0500
TZOFFSETTO:-0400
TZNAME:EDT
DTSTART:20190310T070000
END:DAYLIGHT
BEGIN:STANDARD
TZOFFSETFROM:-0400
TZOFFSETTO:-0500
TZNAME:EST
DTSTART:20191103T060000
END:STANDARD
BEGIN:DAYLIGHT
TZOFFSETFROM:-0500
TZOFFSETTO:-0400
TZNAME:EDT
DTSTART:20200308T070000
END:DAYLIGHT
BEGIN:STANDARD
TZOFFSETFROM:-0400
TZOFFSETTO:-0500
TZNAME:EST
DTSTART:20201101T060000
END:STANDARD
END:VTIMEZONE
BEGIN:VEVENT
DTSTART;TZID=America/Indiana/Indianapolis:20190815T083000
DTEND;TZID=America/Indiana/Indianapolis:20190815T103000
DTSTAMP:20260422T065424
CREATED:20181028T015858Z
LAST-MODIFIED:20190725T121752Z
UID:122140-1565857800-1565865000@gorainmakers.com
SUMMARY:Business Owner Roundtable
DESCRIPTION:Each month\, the Business Owners Roundtable helps you identify top-of-mind business challenges and helps you learn innovative and foundational solutions. Tommy Richardson\, Rainmakers Director of Training and Development\, features a new discussion topic at each event\, which addresses people\, processes\, leadership\, and relevant general business topics. This is your opportunity to build relationships while gaining insights into key topics that affect you and your business.  This roundtable is intended for Business Owners. \n\n\nBuild Your Business – 4 Critical Ways\n \n1.  Marketing:  Digging deeper to find your niche. Study 5 generations – – What’s your primary niche? Who? Why? – How to present opportunities to them.\n \n2.  Presence\, Persuasion\, Negotiation:  What’s the #1 attribute for being believable?\, worthy of trust?\, confident?  6 Factors that make it up!\n \n3.  What’s Holding You Back? – Let’s Kill What’s Killing You! Is it fear? Procrastination? Confidence?\n \n4.  Self-Management\, Time Management:  What’s the secret for “getting it all done?” How to optimize and maximize your day!\n \nDon’t Miss It!!!  You will meet new people! Learn & practice business development! Topics you will not get anywhere else is in a 2-hour program!\n \nBe A Learner!!! Bring A Guest!!!\n\n\nThe purpose of the Business Owners Roundtable is to:  Learn & Plan in an Accelerated Environment (Growth Minded) to Increase your Business and Personal Growth.\n\n\n\n\nDon’t miss this session! Guaranteed to stretch your business and personal growth!\n\nBe The Exception!!!\n\n\n\nDon’t miss the 3rd Thursday every month!
URL:https://gorainmakers.com/event/business-owner-roundtable-4-2019-04-18-2019-06-20-2019-07-18-2019-08-15/
LOCATION:Morales Group\, 5628 W. 74th St.\, Indianapolis\, IN\, 46278
CATEGORIES:Roundtable
ATTACH;FMTTYPE=image/png:https://gorainmakers.com/wp-content/uploads/2018/10/BUSINESS-OWNERS-rountable.png
END:VEVENT
BEGIN:VEVENT
DTSTART;TZID=America/Indiana/Indianapolis:20190815T173000
DTEND;TZID=America/Indiana/Indianapolis:20190815T190000
DTSTAMP:20260422T065424
CREATED:20181028T030706Z
LAST-MODIFIED:20190813T191638Z
UID:122220-1565890200-1565895600@gorainmakers.com
SUMMARY:Rainmakers Business Tech Forward
DESCRIPTION:This useful networking event was created for business owners to learn how technology can increase their growth and success. Speakers featured at each quarterly event will focus on tools that help business owners grow revenues\, reduce costs\, and improve execution. Visit us to learn how technology can help the business owner. \n  \nTopic: IaaS\, PaaS\, & SaaS! Oh My! \nTogether we will explore the history of business technology and the birth of the cloud. We will then discuss the types of cloud\, deciphering the somewhat confusing array of acronyms. Finally\, we will take a look at who is using the cloud. \nKey takeaways: \n\nThe drivers that lead companies to the cloud\nThe types of cloud-delivery options\nWho is using cloud\n\n  \n\nOur Speaker:\nJeffery S. Ton\n\n\nJeff Ton is a sought-after Information Technology speaker\, author and thought leader\, having led powerful teams and built successful IT departments for the past 25 years. In more than two decades\, Jeff has served as Chief Information Officer with Goodwill Industries of Central Indiana and Lauth Property Group\, as well as 14 years in various technology roles with Thomson Multimedia (RCA). In his current role as Senior Vice President of Product and Strategic Alliances at InterVision\, Jeff thrives on developing people while driving the company’s product strategy\, service vision and strategic approach. \nSpeaking to audiences from 5 to 1\,000\, Jeff has mastered the art of simplifying complex IT issues and is always looking for opportunities to drive value in organizations now and in the future. \nJeff is the author of Amplify Your Value (2018) and is a frequent keynote speaker on topics related to the evolving IT landscape and the changing role of the CIO. \n \n  \nLearn more at www.JeffreySTon.com \n\nFind Jeff on social media:    Facebook | LinkedIn | Twitter \n\n  \n_______________________________ \n  \nTHANK YOU TO OUR SPONSOR\n\n\n\n\nYou focus on growing your business.\nWe’ll focus on keeping it running.\nAIS is an Indianapolis-based IT Consulting\, Strategy & Security company. We begin our\nrelationships with a comprehensive and in-depth assessment of your IT landscape.\nWe analyze your pain points\, identify organizational issues and offer innovative solutions.\nWe then optimize your IT infrastructure—streamlining processes\, implementing best\npractices\, managing compliance\, mitigating risks and maintaining systems. AIS helps you\nalign your technology with your business goals.\n\n\nSteve Summerville\, AIS\nssummerville@aisllp.com | 317.608.0813\n\n\n_______________________________ \n  \nOur Featured Non-Profit \n \nGoodwill of Central & Southern Indiana changes lives every day by empowering people to increase their independence and reach their potential through education\, health and employment. The organization serves 39 Indiana counties and operates more than 70 retail locations\, as well as charter schools for adults and youth\, a maternal-child health program\, a child care center and more.
URL:https://gorainmakers.com/event/rainmakers-technology-for-business-growth-2-2019-05-16-2019-08-15/
LOCATION:Blind Owl Brewery\, 5014 East 62nd Street \, Indianapolis\, 46220
CATEGORIES:Small Business,Technology
ATTACH;FMTTYPE=image/png:https://gorainmakers.com/wp-content/uploads/2018/10/BusinessTech.png
GEO:39.8686681;-86.084833
X-APPLE-STRUCTURED-LOCATION;VALUE=URI;X-ADDRESS=Blind Owl Brewery 5014 East 62nd Street  Indianapolis 46220;X-APPLE-RADIUS=500;X-TITLE=5014 East 62nd Street:geo:-86.084833,39.8686681
END:VEVENT
END:VCALENDAR