BEGIN:VCALENDAR
VERSION:2.0
PRODID:-//Rainmakers - ECPv6.15.17.1//NONSGML v1.0//EN
CALSCALE:GREGORIAN
METHOD:PUBLISH
X-WR-CALNAME:Rainmakers
X-ORIGINAL-URL:https://gorainmakers.com
X-WR-CALDESC:Events for Rainmakers
REFRESH-INTERVAL;VALUE=DURATION:PT1H
X-Robots-Tag:noindex
X-PUBLISHED-TTL:PT1H
BEGIN:VTIMEZONE
TZID:America/Indiana/Indianapolis
BEGIN:DAYLIGHT
TZOFFSETFROM:-0500
TZOFFSETTO:-0400
TZNAME:EDT
DTSTART:20180311T070000
END:DAYLIGHT
BEGIN:STANDARD
TZOFFSETFROM:-0400
TZOFFSETTO:-0500
TZNAME:EST
DTSTART:20181104T060000
END:STANDARD
BEGIN:DAYLIGHT
TZOFFSETFROM:-0500
TZOFFSETTO:-0400
TZNAME:EDT
DTSTART:20190310T070000
END:DAYLIGHT
BEGIN:STANDARD
TZOFFSETFROM:-0400
TZOFFSETTO:-0500
TZNAME:EST
DTSTART:20191103T060000
END:STANDARD
BEGIN:DAYLIGHT
TZOFFSETFROM:-0500
TZOFFSETTO:-0400
TZNAME:EDT
DTSTART:20200308T070000
END:DAYLIGHT
BEGIN:STANDARD
TZOFFSETFROM:-0400
TZOFFSETTO:-0500
TZNAME:EST
DTSTART:20201101T060000
END:STANDARD
END:VTIMEZONE
BEGIN:VEVENT
DTSTART;TZID=America/Indiana/Indianapolis:20190924T080000
DTEND;TZID=America/Indiana/Indianapolis:20190924T093000
DTSTAMP:20260422T051642
CREATED:20181028T021109Z
LAST-MODIFIED:20190920T141218Z
UID:121866-1569312000-1569317400@gorainmakers.com
SUMMARY:Rainmakers Christian Professionals (RCP)
DESCRIPTION:Recognizing our workplace is also our mission field\, we are here to encourage one another as we learn and apply biblical principles at work. \nRainmakers Christian Professionals (RCP) is an intimate networking experience for Christian business professionals. Every monthly event provides teaching and small group discussion. RCP is a platform to build and strengthen your relationship with God and your relationships with people. \n  \nSeptember Topic: Culture Change \nOur Worldview is largely determined by our Culture\, Background\, and Experience.  Apart from a transformational experience with Jesus Christ\, our experience will take us either in the direction of the culture in which we grew up or away from it. \nOnly a change in our Worldview allows us to break the cycles of our past\, lead us to a new set of values\, a new set of Habits\, and Results that glorify God. \nCommitment to the Values of God’s Word is the key to success in this life\, and the solution to failure. \nWhat do we need to do to change the negatives of our past to positives in the next generation? \n  \nOur Speaker: Eldon Kibbey \n \nEldon has been the Indiana Director for CBMC\, Christian Business Men’s Connection\, since 1998.  His job is to establish\, equip\, and mobilize teams of businessmen to carry out the Great Commission.  He has been a mentor in both business and CBMC for over 45 years. \nEldon received his education in the field of Metallurgical Engineering\, which he applied in the aerospace industry with McDonnell Aircraft Corporation\, followed by a tour of duty with the US Air Force Materials Laboratory at Wright-Patterson AFB\, Ohio. \nHe was owner/manager of a commercial services business for 26 years in Indianapolis\, during which time he was involved with CBMC. \nEldon and his wife\, Sandy\, married since 1971\, are the parents of five children\, and grandparents of four. \n  \n__________________________ \n  \nOur Featured Non-Profit: \n \nThe Purpose of Christian Business Men’s Connection:\nReaching businessmen right where they are to help them become the men God designed them to be. \nCBMC (Christian Business Men’s Connection) of Indiana is a men’s ministry for business and professional leaders\, encouraging them toward: spiritual development\, personal integrity\, principled leadership\, and a desire to impact and mentor business leaders. The goal is to connect businesses and the marketplace to Christ. \nWe need help in building spiritual disciplines\,not only in the home\, but in the workplace as well. The apostle Paul said to Timothy\, “Train yourself to be godly…godliness has value for all things holding promise for the present life and in the life to come.” (I Timothy 4:7) \nJesus Christ commissioned us to go into the world and make disciples\, teaching them to obey the commandments He has given us. \n  \nLearn more about CBMC Indiana \n  \nFind CBMC on Social Media: Facebook | LinkedIn \n#callingALLmen #cbmc #youngprofessionals \n  \n__________________________ \n  \nOur Spotlight Sponsor \n \nAllan Smith\, Chief Technology Strategist \n \nCode Vapor is an IT support company dedicated only to helping small businesses with their technology needs.  With over 35 years’ experience in managing large corporate IT environments\, Code Vapor provides these same services at a fraction of the cost. \nWith high integrity as our core value\, we act as your trusted advisor providing targeted solutions that can grow with your business. Whether you have 1 PC or 30\, we have worry-free solutions that will save you money\, increase your efficiency and protect you from cyber-crime.
URL:https://gorainmakers.com/event/rainmakers-christian-professionals-rcp-2019-09-24/
LOCATION:Indiana Wesleyan University – Indianapolis North campus\, 3777 Priority Way South Drive\, Indianapolis\, IN\, 46240\, United States
CATEGORIES:Faith Based
ATTACH;FMTTYPE=image/jpeg:https://gorainmakers.com/wp-content/uploads/2018/10/RCP.jpg
GEO:39.9191828;-86.1018606
X-APPLE-STRUCTURED-LOCATION;VALUE=URI;X-ADDRESS=Indiana Wesleyan University – Indianapolis North campus 3777 Priority Way South Drive Indianapolis IN 46240 United States;X-APPLE-RADIUS=500;X-TITLE=3777 Priority Way South Drive:geo:-86.1018606,39.9191828
END:VEVENT
BEGIN:VEVENT
DTSTART;TZID=America/Indiana/Indianapolis:20190924T180000
DTEND;TZID=America/Indiana/Indianapolis:20190924T203000
DTSTAMP:20260422T051642
CREATED:20181028T022018Z
LAST-MODIFIED:20190903T171320Z
UID:122150-1569348000-1569357000@gorainmakers.com
SUMMARY:Eat + Drink
DESCRIPTION:Rainmakers Eat + Drink is our monthly social event. We travel all around the city to experience Indy’s best independent restaurant establishments.  Everyone welcome! Bring a friend or colleague and participate in a relaxed networking environment while enjoying the great tastes of Indy. \nRainmakers Eat + Drink \nThis is different than we have done in the past! \n  \nChampagne Soiree \nYou are cordially invited to Rainmakers Eat + Drink event with champagne from Moet & Chandon\, cocktails from Henessy\, and light hors d’oeuvres. \n  \nTuesday\, September 24th\, 2019\, 6:00 pm \nMatteo’s Ristorante \n40 N. 9th Street\, Noblesville\, IN 46060 \n  \nTickets $20 \nPlease call to RSVP 317-774-9771 \n  \nCome for the Champagne Soiree \nor \nCome for Dinner \nor \nCome for Champagne Soiree AND dinner \n  \nNote: We’re responsible for finding a great restaurant! You’re responsible for your food and drink! \n  Tuesday afternoons need some love too!  Let’s support a local restaurant\, get to know other folks\, and have great food and beverages all at the same time! \nCheers to Tuesday! \n  \n_____________________________________ \n  \nTHANK YOU TO OUR SPONSOR\n \nThank you to  Nathan Pfahler & The Pfahler Group for sponsoring Rainmakers Eat + Drink!  ‘We consider ourselves more of a “boutique” real estate brokerage- with the ability to shift as the market demands\, and stay at the forefront of the latest marketing initiatives to better serve our clients!
URL:https://gorainmakers.com/event/eat-drink-9-2019-03-26-2019-04-23-2019-04-30-2019-07-30-2019-09-24/
LOCATION:Matteo’s Italian Restaurant\, 40 N 9th St.\, Noblesville\, IN\, 46060\, United States
CATEGORIES:Social
ATTACH;FMTTYPE=image/png:https://gorainmakers.com/wp-content/uploads/2018/10/eatdrinkF.png
END:VEVENT
END:VCALENDAR