BEGIN:VCALENDAR
VERSION:2.0
PRODID:-//Rainmakers - ECPv6.15.17.1//NONSGML v1.0//EN
CALSCALE:GREGORIAN
METHOD:PUBLISH
X-WR-CALNAME:Rainmakers
X-ORIGINAL-URL:https://gorainmakers.com
X-WR-CALDESC:Events for Rainmakers
REFRESH-INTERVAL;VALUE=DURATION:PT1H
X-Robots-Tag:noindex
X-PUBLISHED-TTL:PT1H
BEGIN:VTIMEZONE
TZID:America/Indiana/Indianapolis
BEGIN:DAYLIGHT
TZOFFSETFROM:-0500
TZOFFSETTO:-0400
TZNAME:EDT
DTSTART:20180311T070000
END:DAYLIGHT
BEGIN:STANDARD
TZOFFSETFROM:-0400
TZOFFSETTO:-0500
TZNAME:EST
DTSTART:20181104T060000
END:STANDARD
BEGIN:DAYLIGHT
TZOFFSETFROM:-0500
TZOFFSETTO:-0400
TZNAME:EDT
DTSTART:20190310T070000
END:DAYLIGHT
BEGIN:STANDARD
TZOFFSETFROM:-0400
TZOFFSETTO:-0500
TZNAME:EST
DTSTART:20191103T060000
END:STANDARD
BEGIN:DAYLIGHT
TZOFFSETFROM:-0500
TZOFFSETTO:-0400
TZNAME:EDT
DTSTART:20200308T070000
END:DAYLIGHT
BEGIN:STANDARD
TZOFFSETFROM:-0400
TZOFFSETTO:-0500
TZNAME:EST
DTSTART:20201101T060000
END:STANDARD
END:VTIMEZONE
BEGIN:VEVENT
DTSTART;TZID=America/Indiana/Indianapolis:20191009T083000
DTEND;TZID=America/Indiana/Indianapolis:20191009T100000
DTSTAMP:20260422T035749
CREATED:20190322T001307Z
LAST-MODIFIED:20190917T203647Z
UID:122225-1570609800-1570615200@gorainmakers.com
SUMMARY:Business Blaze
DESCRIPTION:An event for business owners and executives\, Business Blaze presents topics relevant to current and future business operations as well as issues that may impact the Indianapolis business community. This quarterly event features top-notch\, industry speakers and an opportunity for meaningful dialogue. \nJoin us October 9th \nTopic: The Great Equalizer \n“The Great Equalizer” centers around those who consider themselves “underdogs” in their chosen arenas. Maybe it’s down to not having the right education\, finances\, support\, etc…\, but I’m here to tell you there is ALWAYS a way to even out the playing field. Kristian will focus on the things each of us can do in pursuit of our goals that our biggest competitors haven’t even thought of! \nOur Speaker: Kristian Aleixo \n \nKristian Aleixo is a professional race car driver on IndyCar’s “Road to Indy” ladder; one day\, he aspires to compete in the Indianapolis 500. Beyond this\, Kristian has authored the autobiography\, “My Life in Story: The Outside Groove\,” with a foreword by Willy T. Ribbs\, and the children’s book\, “Faster and Faster\,” with an introduction by Robby Unser. In addition\, he stars in his own reality TV show\, produced by Sharp Entertainment\, the makers of “Jersey Shore\,” and “90 Day Fiancé.” Kristian hopes to use this platform to bring much needed attention to his off-track passions\, including homelessness (which Kristian suffered throughout high school after losing his mother to diabetes when he was age 13)\, Type-1 diabetes (which Kristian was diagnosed with during a tour of duty in Iraq)\, and mental health for veterans (Kristian served in the U.S. Army). Furthermore\, Kristian is a regular volunteer at the Children’s Bureau and various children’s hospitals; in addition\, he is working on a foundation for kids with disabilities who want to become professional athletes. \n \nFind Kristian on Facebook \n  \n_______________________________ \n  \nOur Featured Non-Profit: \n \n  \nGleaners Food Bank \nLeading the Fight Against Hunger. \nGleaners is leading the fight against hunger in Indiana by distributing food to more than 210 partner agencies in 21 Indiana counties: food pantries\, soup kitchens\, and shelters. \nWe also provide direct services to those struggling with hunger\, through programs such as BackSacks: Weekend Food for Kids\, School-Based Pantry\, C.A.R.E. Mobile Pantry\, and Community Cupboard. \nIf you are interested in volunteering with Gleaners\, please see our current volunteer opportunities or complete our volunteer interest form. \n\n_______________________________ \n  \nOUR SPOTLIGHT SPONSOR \n  \nPaul McCoy \nCertified Business Coach \n \nPaul McCoy is a Certified Business Coach for ActionCoach\, the #1 Business Coaching Firm in the world\, with over 25 years of experience as a business leader working with small businesses and Fortune 500 companies. Paul’s unique blend of business experiences that range from program management; through engineering to business improvement and financial management that enables him to provide flexible\, practical advice to businesses. \nPaul is passionate about helping businesses increase sales and working with leaders to improve operational efficiency.  He brings energy and enthusiasm to his work and strives to partner with businesses to make positive\, cost-effective\, and pragmatic changes.  He also knows that getting the right people on the team is critical to growing a business\, as a Certified Innermetrix Consultant (CIC) he works with leaders to utilize behavioral assessment tools to hire the right people. \nPaul is impassioned about enhancing education in the community.  He currently serves as Treasurer for Communities in Schools of Indiana\, a not for profit organization that provides students with a community of support\, empowering them to stay in school and achieve in life\, and is a Certified Rugby Coach and coaches the Zionsville High School Rugby Club. \nIf you want to regain control of your business\, and not let it control you\, call Paul for a complimentary coaching session: \npaulmccoy@actioncoach.com \n317-832-0912 \nFind Paul on social media: LinkedIn | Instagram
URL:https://gorainmakers.com/event/business-blaze-3/
LOCATION:HRD Advisory Group\, 11711 North Meridian Street\, Suite 170\, Carmel\, IN\, 46032\, United States
CATEGORIES:Business Blaze
END:VEVENT
END:VCALENDAR