BEGIN:VCALENDAR
VERSION:2.0
PRODID:-//Rainmakers - ECPv6.15.17.1//NONSGML v1.0//EN
CALSCALE:GREGORIAN
METHOD:PUBLISH
X-ORIGINAL-URL:https://gorainmakers.com
X-WR-CALDESC:Events for Rainmakers
REFRESH-INTERVAL;VALUE=DURATION:PT1H
X-Robots-Tag:noindex
X-PUBLISHED-TTL:PT1H
BEGIN:VTIMEZONE
TZID:America/Indiana/Indianapolis
BEGIN:DAYLIGHT
TZOFFSETFROM:-0500
TZOFFSETTO:-0400
TZNAME:EDT
DTSTART:20180311T070000
END:DAYLIGHT
BEGIN:STANDARD
TZOFFSETFROM:-0400
TZOFFSETTO:-0500
TZNAME:EST
DTSTART:20181104T060000
END:STANDARD
BEGIN:DAYLIGHT
TZOFFSETFROM:-0500
TZOFFSETTO:-0400
TZNAME:EDT
DTSTART:20190310T070000
END:DAYLIGHT
BEGIN:STANDARD
TZOFFSETFROM:-0400
TZOFFSETTO:-0500
TZNAME:EST
DTSTART:20191103T060000
END:STANDARD
BEGIN:DAYLIGHT
TZOFFSETFROM:-0500
TZOFFSETTO:-0400
TZNAME:EDT
DTSTART:20200308T070000
END:DAYLIGHT
BEGIN:STANDARD
TZOFFSETFROM:-0400
TZOFFSETTO:-0500
TZNAME:EST
DTSTART:20201101T060000
END:STANDARD
END:VTIMEZONE
BEGIN:VEVENT
DTSTART;TZID=America/Indiana/Indianapolis:20191011T103000
DTEND;TZID=America/Indiana/Indianapolis:20191011T120000
DTSTAMP:20260418T223336
CREATED:20181028T020433Z
LAST-MODIFIED:20190930T200531Z
UID:121834-1570789800-1570795200@gorainmakers.com
SUMMARY:Empowering Women Roundtable
DESCRIPTION:Rainmakers Empowering Women Roundtable is for women to meet\, develop and strengthen relationships. Rainmakers\, as an organization\, is passionate about helping professionals build authentic relationships that enable them to reach new levels of success in their business and personal lives. This session is for women of all ages and stages of professional accomplishment. Each month we will spend time getting to know each other and our business needs while engaging in a meaningful discussion topic. \nThis event occurs monthly on the 2nd Friday \n  \nOctober Topic: A Perfect Bra Is The Foundation of Your Inner Superwoman \nIs ripping off your bra the best part of your day? Do you suffer from straps that slip off your shoulders\, underwires that burst out of their channel or the dreaded back fat? Do you just wish you could find your perfect bra? Ali Cudby\, the bestselling author of Busted! and Fit My Bras runs the world’s leading bra fit training and certification program. At this talk you will learn the secrets for finding your perfect bra – for the rest of your life. Ali will also explain why your bra is more than an item of clothing – it’s the foundation of your inner superwoman! \n  \nOur Speaker: Ali Cudby \n \nAli Cudby wrote the book on customer retention – literally. A bestselling author\, Ali brings her engaging approach to business advisory\, workshops and speaking to companies around the globe. \nAli honed her approach to customer retention at her company\, Fab Foundations\, where she created the world’s leading training and certification program for the art and science of bra fitting. \nBefore becoming an entrepreneur\, Ali worked at The New York Times Company\, Golf Digest Magazine Group and Animal Planet TV Network. She received her MBA from The Wharton School. \nThese days\, Ali teaches Entrepreneurship at Purdue University and works with clients worldwide to incorporate her innovative customer retention strategies through her company\, Your Iconic Brand. \n \n 
URL:https://gorainmakers.com/event/empowering-women-roundtable-4-2019-10-11/
LOCATION:Tilly’s Tea Room\, 8701 Keystone Crossing\, 3rd Fl. Saks Dept. Store\, Indianapolis\, IN\, 46240
CATEGORIES:Roundtable
GEO:39.9143623;-86.1072716
X-APPLE-STRUCTURED-LOCATION;VALUE=URI;X-ADDRESS=Tilly’s Tea Room 8701 Keystone Crossing 3rd Fl. Saks Dept. Store Indianapolis IN 46240;X-APPLE-RADIUS=500;X-TITLE=8701 Keystone Crossing\, 3rd Fl. Saks Dept. Store:geo:-86.1072716,39.9143623
END:VEVENT
END:VCALENDAR