BEGIN:VCALENDAR
VERSION:2.0
PRODID:-//Rainmakers - ECPv6.15.17.1//NONSGML v1.0//EN
CALSCALE:GREGORIAN
METHOD:PUBLISH
X-WR-CALNAME:Rainmakers
X-ORIGINAL-URL:https://gorainmakers.com
X-WR-CALDESC:Events for Rainmakers
REFRESH-INTERVAL;VALUE=DURATION:PT1H
X-Robots-Tag:noindex
X-PUBLISHED-TTL:PT1H
BEGIN:VTIMEZONE
TZID:America/Indiana/Indianapolis
BEGIN:DAYLIGHT
TZOFFSETFROM:-0500
TZOFFSETTO:-0400
TZNAME:EDT
DTSTART:20180311T070000
END:DAYLIGHT
BEGIN:STANDARD
TZOFFSETFROM:-0400
TZOFFSETTO:-0500
TZNAME:EST
DTSTART:20181104T060000
END:STANDARD
BEGIN:DAYLIGHT
TZOFFSETFROM:-0500
TZOFFSETTO:-0400
TZNAME:EDT
DTSTART:20190310T070000
END:DAYLIGHT
BEGIN:STANDARD
TZOFFSETFROM:-0400
TZOFFSETTO:-0500
TZNAME:EST
DTSTART:20191103T060000
END:STANDARD
BEGIN:DAYLIGHT
TZOFFSETFROM:-0500
TZOFFSETTO:-0400
TZNAME:EDT
DTSTART:20200308T070000
END:DAYLIGHT
BEGIN:STANDARD
TZOFFSETFROM:-0400
TZOFFSETTO:-0500
TZNAME:EST
DTSTART:20201101T060000
END:STANDARD
END:VTIMEZONE
BEGIN:VEVENT
DTSTART;TZID=America/Indiana/Indianapolis:20191024T083000
DTEND;TZID=America/Indiana/Indianapolis:20191024T103000
DTSTAMP:20260422T035724
CREATED:20191001T173352Z
LAST-MODIFIED:20191003T164537Z
UID:122566-1571905800-1571913000@gorainmakers.com
SUMMARY:Rainmakers Workshop
DESCRIPTION:A workshop on succession planning challenges. \nPlanning to transition a complex asset\, like a privately held business\, works best with a solid team and planning. This workshop is designed to introduce individuals or companies that are looking to start or complete an ownership transition to key concepts\, challenges\, and opportunities. This workshop will provide introductory information from three perspectives:  process management\, wealth planning\, and legal counsel. \nPresenters: \n \nStefan Kirk\nPrincipal at Kirk Law Office\n__________\n\n\n\nTodd Polackin\, CFP\nFinancial Advisor at Polackin Wealth Management of Raymond James\n\n__________\n\n\n\n\n\nPaul McCoy \nAction Coach \nBusiness and Executive Coaching \npaulmccoy.actioncoach.com
URL:https://gorainmakers.com/event/rainmakers-workshop-2/
LOCATION:Platform 24\, 12400 N Meridian St\, Two Meridian Park Place\, Suite 150\, Carmel\, 46032
ATTACH;FMTTYPE=image/png:https://gorainmakers.com/wp-content/uploads/2019/10/Workshop-Logo.png
END:VEVENT
END:VCALENDAR