BEGIN:VCALENDAR
VERSION:2.0
PRODID:-//Rainmakers - ECPv6.15.17.1//NONSGML v1.0//EN
CALSCALE:GREGORIAN
METHOD:PUBLISH
X-WR-CALNAME:Rainmakers
X-ORIGINAL-URL:https://gorainmakers.com
X-WR-CALDESC:Events for Rainmakers
REFRESH-INTERVAL;VALUE=DURATION:PT1H
X-Robots-Tag:noindex
X-PUBLISHED-TTL:PT1H
BEGIN:VTIMEZONE
TZID:America/Indiana/Indianapolis
BEGIN:DAYLIGHT
TZOFFSETFROM:-0500
TZOFFSETTO:-0400
TZNAME:EDT
DTSTART:20190310T070000
END:DAYLIGHT
BEGIN:STANDARD
TZOFFSETFROM:-0400
TZOFFSETTO:-0500
TZNAME:EST
DTSTART:20191103T060000
END:STANDARD
BEGIN:DAYLIGHT
TZOFFSETFROM:-0500
TZOFFSETTO:-0400
TZNAME:EDT
DTSTART:20200308T070000
END:DAYLIGHT
BEGIN:STANDARD
TZOFFSETFROM:-0400
TZOFFSETTO:-0500
TZNAME:EST
DTSTART:20201101T060000
END:STANDARD
BEGIN:DAYLIGHT
TZOFFSETFROM:-0500
TZOFFSETTO:-0400
TZNAME:EDT
DTSTART:20210314T070000
END:DAYLIGHT
BEGIN:STANDARD
TZOFFSETFROM:-0400
TZOFFSETTO:-0500
TZNAME:EST
DTSTART:20211107T060000
END:STANDARD
END:VTIMEZONE
BEGIN:VEVENT
DTSTART;TZID=America/Indiana/Indianapolis:20200114T083000
DTEND;TZID=America/Indiana/Indianapolis:20200114T103000
DTSTAMP:20260421T223818
CREATED:20191009T130705Z
LAST-MODIFIED:20191024T142203Z
UID:122586-1578990600-1578997800@gorainmakers.com
SUMMARY:LinkedIn Prospecting Roundtable
DESCRIPTION:Rainmakers LinkedIn Roundtables are a Members Exclusive opportunity.\nLeverage your LinkedIn account by sharing your needs with fellow Rainmakers and helping them with their ideal connections. Get the meetings you need to be successful in your business! \nThis is an opportunity to do group prospecting. It is NOT a LinkedIn training session.  To fully participate you must know how to use LinkedIn and you must bring your own laptop. \nSeating is limited so reserve your seat today! \nLooking for a LinkedIn roundtable at a different location? Go to our calendar and type in LinkedIn Roundtable in the search bar to view all locations and times.
URL:https://gorainmakers.com/event/linkedin-prospecting-roundtable-3/
LOCATION:MASSMUTUAL MIDWEST\, 900 East 96th Street\, Suite 300\, Indianapolis\, 46240
CATEGORIES:LinkedIn Roundtable,Roundtable
ATTACH;FMTTYPE=image/png:https://gorainmakers.com/wp-content/uploads/2019/03/LinkedIn-rountable.png
END:VEVENT
END:VCALENDAR