BEGIN:VCALENDAR
VERSION:2.0
PRODID:-//Rainmakers - ECPv6.15.17.1//NONSGML v1.0//EN
CALSCALE:GREGORIAN
METHOD:PUBLISH
X-WR-CALNAME:Rainmakers
X-ORIGINAL-URL:https://gorainmakers.com
X-WR-CALDESC:Events for Rainmakers
REFRESH-INTERVAL;VALUE=DURATION:PT1H
X-Robots-Tag:noindex
X-PUBLISHED-TTL:PT1H
BEGIN:VTIMEZONE
TZID:America/Indiana/Indianapolis
BEGIN:DAYLIGHT
TZOFFSETFROM:-0500
TZOFFSETTO:-0400
TZNAME:EDT
DTSTART:20190310T070000
END:DAYLIGHT
BEGIN:STANDARD
TZOFFSETFROM:-0400
TZOFFSETTO:-0500
TZNAME:EST
DTSTART:20191103T060000
END:STANDARD
BEGIN:DAYLIGHT
TZOFFSETFROM:-0500
TZOFFSETTO:-0400
TZNAME:EDT
DTSTART:20200308T070000
END:DAYLIGHT
BEGIN:STANDARD
TZOFFSETFROM:-0400
TZOFFSETTO:-0500
TZNAME:EST
DTSTART:20201101T060000
END:STANDARD
BEGIN:DAYLIGHT
TZOFFSETFROM:-0500
TZOFFSETTO:-0400
TZNAME:EDT
DTSTART:20210314T070000
END:DAYLIGHT
BEGIN:STANDARD
TZOFFSETFROM:-0400
TZOFFSETTO:-0500
TZNAME:EST
DTSTART:20211107T060000
END:STANDARD
END:VTIMEZONE
BEGIN:VEVENT
DTSTART;TZID=America/Indiana/Indianapolis:20200120T113000
DTEND;TZID=America/Indiana/Indianapolis:20200120T133000
DTSTAMP:20260421T153552
CREATED:20200106T190958Z
LAST-MODIFIED:20200110T141725Z
UID:122806-1579519800-1579527000@gorainmakers.com
SUMMARY:We Have A Dream; An MLK Jr. Legacy Event
DESCRIPTION:Bridge Builder Strategies would like to invite you to our Martin Luther King Jr. event “We have A Dream…” This event is a public luncheon with dynamic speakers sharing their dreams and vision for Indiana’s education\, health & aging\, and economic development. Come hear each leader’s vision and see what YOU can do to make transformational change in our community. \nIn Partnership with \nNexus Impact Center Co-Working Space \n9511 Angola Court \nIndianapolis\, Indiana 46268 \n317.207.0222 \nwww.nexusimpactcenter.org
URL:https://gorainmakers.com/event/we-have-a-dream-a-mlk-jr-legacy-event/
LOCATION:Mercy Road Church – Northwest\, 9511 Angola Court\, Indianapolis\, 46268
ATTACH;FMTTYPE=image/jpeg:https://gorainmakers.com/wp-content/uploads/2020/01/We-Have-a-Dream.jpg
END:VEVENT
END:VCALENDAR