BEGIN:VCALENDAR
VERSION:2.0
PRODID:-//Rainmakers - ECPv6.15.17.1//NONSGML v1.0//EN
CALSCALE:GREGORIAN
METHOD:PUBLISH
X-WR-CALNAME:Rainmakers
X-ORIGINAL-URL:https://gorainmakers.com
X-WR-CALDESC:Events for Rainmakers
REFRESH-INTERVAL;VALUE=DURATION:PT1H
X-Robots-Tag:noindex
X-PUBLISHED-TTL:PT1H
BEGIN:VTIMEZONE
TZID:America/Indiana/Indianapolis
BEGIN:DAYLIGHT
TZOFFSETFROM:-0500
TZOFFSETTO:-0400
TZNAME:EDT
DTSTART:20190310T070000
END:DAYLIGHT
BEGIN:STANDARD
TZOFFSETFROM:-0400
TZOFFSETTO:-0500
TZNAME:EST
DTSTART:20191103T060000
END:STANDARD
BEGIN:DAYLIGHT
TZOFFSETFROM:-0500
TZOFFSETTO:-0400
TZNAME:EDT
DTSTART:20200308T070000
END:DAYLIGHT
BEGIN:STANDARD
TZOFFSETFROM:-0400
TZOFFSETTO:-0500
TZNAME:EST
DTSTART:20201101T060000
END:STANDARD
BEGIN:DAYLIGHT
TZOFFSETFROM:-0500
TZOFFSETTO:-0400
TZNAME:EDT
DTSTART:20210314T070000
END:DAYLIGHT
BEGIN:STANDARD
TZOFFSETFROM:-0400
TZOFFSETTO:-0500
TZNAME:EST
DTSTART:20211107T060000
END:STANDARD
END:VTIMEZONE
BEGIN:VEVENT
DTSTART;TZID=America/Indiana/Indianapolis:20200213T083000
DTEND;TZID=America/Indiana/Indianapolis:20200213T100000
DTSTAMP:20260421T205515
CREATED:20191202T161600Z
LAST-MODIFIED:20200127T161742Z
UID:122729-1581582600-1581588000@gorainmakers.com
SUMMARY:Building Employees
DESCRIPTION:Rainmakers is excited to offer a monthly roundtable for small business leaders to convene on workplace talent topics. It is more important than ever to be strategic in attracting\, engaging and developing employees in order to build a healthy company.\n\n\nIdeal attendees for this session are small business owners or human resource managers. \nSessions are 90 minutes and include introductions and networking along with a workplace talent learning topic and interactive roundtable discussion. All participants share their key takeaways in action steps prior to the conclusion of the session. \n\n\nSpecial February Topic Featuring John Maxwell:\nThe Leaders Greatest Return: Attracting\, Developing\, and Multiplying Leaders\, Part 1\nIdentify how leaders achieve the greatest return on their time through developing the leaders around them.\n\nBased on his newest book\, John C. Maxwell will communicate practical ways that leaders can seek out and develop those around them. Some of these lessons may include: knowing what potential leaders look like\, how to attract leaders\, how to equip and empower leaders\, how to position leaders to build a winning team\, how to coach leaders to higher levels and make them leadership developers themselves.\n\nThis event will be facilitated by Jack Klemeyer and Tommy Richardson.\n\n_________________________________________ \nTHANK YOU TO OUR SPONSOR \n \nSince 1986\, Insperity has been showing companies how to harness the power of HR to improve business success. We’ve grown from two people sharing a one-room office to a $3.3 billion company with more than 70 offices across the U.S \nWe love helping clients strengthen and streamline their businesses. Our proven approach helps you better manage costs and minimize risk. You’ll get the ready-to-use HR infrastructure that your business needs to be more efficient and profitable. \nTo bring out the best in your people\, we’ll show you how to maximize their performance and productivity. That’s our inspiration and purpose.
URL:https://gorainmakers.com/event/building-employees-2020-02-13/
LOCATION:Insperity\, 8801 River Crossing Blvd - Suite 160\, Indianapolis \, IN\, 46240\, United States
CATEGORIES:Roundtable
GEO:39.9148161;-86.1064974
X-APPLE-STRUCTURED-LOCATION;VALUE=URI;X-ADDRESS=Insperity 8801 River Crossing Blvd - Suite 160 Indianapolis  IN 46240 United States;X-APPLE-RADIUS=500;X-TITLE=8801 River Crossing Blvd - Suite 160:geo:-86.1064974,39.9148161
END:VEVENT
BEGIN:VEVENT
DTSTART;TZID=America/Indiana/Indianapolis:20200213T113000
DTEND;TZID=America/Indiana/Indianapolis:20200213T130000
DTSTAMP:20260421T205515
CREATED:20200124T200909Z
LAST-MODIFIED:20200131T175611Z
UID:122860-1581593400-1581598800@gorainmakers.com
SUMMARY:Leverage LinkedIn to Grow Your Business
DESCRIPTION:How to cash in on the world’s biggest directory of business professionals in 2020.\nProvided by Kennected.org\n\nLearn how to start leveraging LinkedIn to grow your business in 2020.\n\nHow To Use The World’s Biggest Directory Of Business Owners To Land Dream Clients.\n Our Sales Process For LinkedIn and How You Can Use It Too: The LinkedIn Sales Funnel.\nHow We Optimize A LinkedIn Profile.\nHow We Leverage Automation To Put Our Outreach On Autopilot and Scale To Levels You Wouldn’t Imagine.\n\n  \nAbout Kennected: \n \nKennected is a software / consulting company based out of Indianapolis\, Indiana. They help businesses capture hard-to-reach\, ideal leads through LinkedIn automation and marketing strategies. Currently serving six thousand clients worldwide\, their mission is to help 1 million business owners simplify and automate lead generation.\n\nFind Kennected on social media: YouTube | Instagram\n\n\nOur Facilitator:\n\nElliot Drake\nCMO/Co-Founder\, Kennected\n\nElliot is a 21-year-old entrepreneur who has founded multiple successful companies that help businesses grow. He has experience working with some of the largest enterprise and personal brands in the world. From an early age\, Elliot dealt with the struggles of drug addiction within a family\, which is where he found his love for mentorship and serving others. Through his four years of business\, he developed the purpose of helping 1 million entrepreneurs take their life and business to where they want to be. He co-founder of Kennected\, which is a LinkedIn based software that simplifies and automates lead generation to help entrepreneurs get back there most valuable asset\, which is time.\n\nFind Elliot on social media: YouTube | Instagram
URL:https://gorainmakers.com/event/leverage-linkedin-to-grow-your-business/
LOCATION:Zoom Webinar\, Indianapolis\, IN
CATEGORIES:Webinar
END:VEVENT
END:VCALENDAR