BEGIN:VCALENDAR
VERSION:2.0
PRODID:-//Rainmakers - ECPv6.15.17.1//NONSGML v1.0//EN
CALSCALE:GREGORIAN
METHOD:PUBLISH
X-WR-CALNAME:Rainmakers
X-ORIGINAL-URL:https://gorainmakers.com
X-WR-CALDESC:Events for Rainmakers
REFRESH-INTERVAL;VALUE=DURATION:PT1H
X-Robots-Tag:noindex
X-PUBLISHED-TTL:PT1H
BEGIN:VTIMEZONE
TZID:America/Indiana/Indianapolis
BEGIN:DAYLIGHT
TZOFFSETFROM:-0500
TZOFFSETTO:-0400
TZNAME:EDT
DTSTART:20190310T070000
END:DAYLIGHT
BEGIN:STANDARD
TZOFFSETFROM:-0400
TZOFFSETTO:-0500
TZNAME:EST
DTSTART:20191103T060000
END:STANDARD
BEGIN:DAYLIGHT
TZOFFSETFROM:-0500
TZOFFSETTO:-0400
TZNAME:EDT
DTSTART:20200308T070000
END:DAYLIGHT
BEGIN:STANDARD
TZOFFSETFROM:-0400
TZOFFSETTO:-0500
TZNAME:EST
DTSTART:20201101T060000
END:STANDARD
BEGIN:DAYLIGHT
TZOFFSETFROM:-0500
TZOFFSETTO:-0400
TZNAME:EDT
DTSTART:20210314T070000
END:DAYLIGHT
BEGIN:STANDARD
TZOFFSETFROM:-0400
TZOFFSETTO:-0500
TZNAME:EST
DTSTART:20211107T060000
END:STANDARD
END:VTIMEZONE
BEGIN:VEVENT
DTSTART;TZID=America/Indiana/Indianapolis:20200225T083000
DTEND;TZID=America/Indiana/Indianapolis:20200225T103000
DTSTAMP:20260418T100817
CREATED:20200205T024551Z
LAST-MODIFIED:20200205T024551Z
UID:122901-1582619400-1582626600@gorainmakers.com
SUMMARY:Rainmakers IMPACT - Orientation
DESCRIPTION:In this Rainmakers IMPACT session\, we will ensure that you have all the knowledge and resources to leverage your membership\, in order to get maximum results. Participants will gain a complete overview of all that Rainmakers provides; from educational opportunities and networking events to follow up lists and service opportunities. In addition\, participants will learn the secret ingredients to building a business that meets all of your desires and creates successful outcomes. The intended audience for this workshop includes prospective and new Rainmakers members. Existing members are always welcome as we are consistently enhancing this session. All attendees will receive a complimentary Business Strategy Session to be scheduled with one of our coaches. \nThe benefits of this workshop include: \n\nGreater awareness of Rainmakers membership opportunities available\nClarity on your vision and goals\nFoster a greater impact on your success\nNetworking opportunity to meet other like-minded business owners
URL:https://gorainmakers.com/event/rainmakers-impact-orientation/
LOCATION:Nexus Impact Center\, 9511 Angola Ct\, Indianapolis\, 46268
CATEGORIES:Orientation
ATTACH;FMTTYPE=image/png:https://gorainmakers.com/wp-content/uploads/2020/02/orientation.png
END:VEVENT
END:VCALENDAR