BEGIN:VCALENDAR
VERSION:2.0
PRODID:-//Rainmakers - ECPv6.15.17.1//NONSGML v1.0//EN
CALSCALE:GREGORIAN
METHOD:PUBLISH
X-WR-CALNAME:Rainmakers
X-ORIGINAL-URL:https://gorainmakers.com
X-WR-CALDESC:Events for Rainmakers
REFRESH-INTERVAL;VALUE=DURATION:PT1H
X-Robots-Tag:noindex
X-PUBLISHED-TTL:PT1H
BEGIN:VTIMEZONE
TZID:America/Indiana/Indianapolis
BEGIN:DAYLIGHT
TZOFFSETFROM:-0500
TZOFFSETTO:-0400
TZNAME:EDT
DTSTART:20190310T070000
END:DAYLIGHT
BEGIN:STANDARD
TZOFFSETFROM:-0400
TZOFFSETTO:-0500
TZNAME:EST
DTSTART:20191103T060000
END:STANDARD
BEGIN:DAYLIGHT
TZOFFSETFROM:-0500
TZOFFSETTO:-0400
TZNAME:EDT
DTSTART:20200308T070000
END:DAYLIGHT
BEGIN:STANDARD
TZOFFSETFROM:-0400
TZOFFSETTO:-0500
TZNAME:EST
DTSTART:20201101T060000
END:STANDARD
BEGIN:DAYLIGHT
TZOFFSETFROM:-0500
TZOFFSETTO:-0400
TZNAME:EDT
DTSTART:20210314T070000
END:DAYLIGHT
BEGIN:STANDARD
TZOFFSETFROM:-0400
TZOFFSETTO:-0500
TZNAME:EST
DTSTART:20211107T060000
END:STANDARD
END:VTIMEZONE
BEGIN:VEVENT
DTSTART;TZID=America/Indiana/Indianapolis:20200227T120000
DTEND;TZID=America/Indiana/Indianapolis:20200227T130000
DTSTAMP:20260421T191030
CREATED:20200208T215225Z
LAST-MODIFIED:20200219T133152Z
UID:122904-1582804800-1582808400@gorainmakers.com
SUMMARY:Virtual Roundtable
DESCRIPTION:February Topic: A Celebration of Black History \nJoining the discussion: Dr. Patricia Payne\, IPS Racial Equity Initiative and Aleesia Johnson\, IPS Superintendent \n \n\n\n \nDr. Patricia Payne\, IPS Racial Equity Initiative \n\nPatricia (Pat) Payne began her employment with the Indianapolis Public Schools in 1962.  She taught second grade until 1987 when she was appointed to design and direct the IPS Crispus Attucks Center\, which comprised the Office of Multicultural Education and the Crispus Attucks Museum of African/African American History. Following retirement in 2014\, she returned to IPS and transitioned to an IPS Administrator on Special Assignment.  Presently. Pat directs the IPS Racial Equity Initiative. She has served IPS for almost 58 years. \n \nAleesia Johnson\, IPS Superintendent \nAleesia Johnson has served as the superintendent of Indianapolis Public Schools (IPS)\, Indiana’s largest public school district\, since July 2019. She is a dynamic and collaborative leader who has demonstrated an uncompromising commitment to educational quality and equity over the course of her career. \n  \n\nOur Facilitator: \nMike Simmons \nBridge Builder Strategies \n\n\n\nBridge Builder Strategies partners with non-profits\, businesses\, and government agencies to bring transformational change and lasting impact to bear on the people\, organizations\, and communities they serve. BBS helps their partners to build relationships through shared experiences that lead to engaged communities and lasting impact.
URL:https://gorainmakers.com/event/virtual-roundtable-2/
LOCATION:Webinar
CATEGORIES:Roundtable,Webinar
ATTACH;FMTTYPE=image/png:https://gorainmakers.com/wp-content/uploads/2019/09/VIRTUAL-roundtable.png
END:VEVENT
END:VCALENDAR