BEGIN:VCALENDAR
VERSION:2.0
PRODID:-//Rainmakers - ECPv6.15.17.1//NONSGML v1.0//EN
CALSCALE:GREGORIAN
METHOD:PUBLISH
X-ORIGINAL-URL:https://gorainmakers.com
X-WR-CALDESC:Events for Rainmakers
REFRESH-INTERVAL;VALUE=DURATION:PT1H
X-Robots-Tag:noindex
X-PUBLISHED-TTL:PT1H
BEGIN:VTIMEZONE
TZID:America/Indiana/Indianapolis
BEGIN:DAYLIGHT
TZOFFSETFROM:-0500
TZOFFSETTO:-0400
TZNAME:EDT
DTSTART:20190310T070000
END:DAYLIGHT
BEGIN:STANDARD
TZOFFSETFROM:-0400
TZOFFSETTO:-0500
TZNAME:EST
DTSTART:20191103T060000
END:STANDARD
BEGIN:DAYLIGHT
TZOFFSETFROM:-0500
TZOFFSETTO:-0400
TZNAME:EDT
DTSTART:20200308T070000
END:DAYLIGHT
BEGIN:STANDARD
TZOFFSETFROM:-0400
TZOFFSETTO:-0500
TZNAME:EST
DTSTART:20201101T060000
END:STANDARD
BEGIN:DAYLIGHT
TZOFFSETFROM:-0500
TZOFFSETTO:-0400
TZNAME:EDT
DTSTART:20210314T070000
END:DAYLIGHT
BEGIN:STANDARD
TZOFFSETFROM:-0400
TZOFFSETTO:-0500
TZNAME:EST
DTSTART:20211107T060000
END:STANDARD
END:VTIMEZONE
BEGIN:VEVENT
DTSTART;TZID=America/Indiana/Indianapolis:20200228T080000
DTEND;TZID=America/Indiana/Indianapolis:20200228T100000
DTSTAMP:20260421T191337
CREATED:20200108T150454Z
LAST-MODIFIED:20200131T172215Z
UID:122811-1582876800-1582884000@gorainmakers.com
SUMMARY:Psychology Behind The Sale
DESCRIPTION:Psychology Behind The Sale \nFebruary Topic: Consultative Selling: What Does It Really Mean? Am I Truly Selling Consultatively? \n \n“I make too many proposals and bids\, and give too many presentations that do not lead to closed business.” \n“I waste too much time with prospects because I propose or present then discover that there are other hidden decision-makers\, they were not compelled to fix their problem\, or they lied about their reason for seeing me.” \n“I accept ‘think it over’ as an answer.” \n“I’m not closing like I should.” \n“I’m not in control.” \nAs a sales professional\, you’re often subjected to the games prospects play. But what if you were able to disarm your prospects’ objections upfront\, without being “pushy?” How would this impact your current results? Join Rob Lime on Friday\, February 28th to gain insight into the challenges you face\, and how they relate to questioning strategy. Bring your real-life challenges and examples for us to work through and help you find solutions that you can put into place immediately. \n  \n8 a.m. – 8:30 a.m. Networking \n8:30 a.m. – 10 a.m. Workshop \n This workshop will be facilitated by Rob Lime with Lushin and Associates.
URL:https://gorainmakers.com/event/psychology-behind-the-sale-4/
LOCATION:Lushin & Associates\, 5655 Castle Creek Pkwy N Dr\, Indianapolis\, 46250\, United States
GEO:39.9148242;-86.071145
X-APPLE-STRUCTURED-LOCATION;VALUE=URI;X-ADDRESS=Lushin & Associates 5655 Castle Creek Pkwy N Dr Indianapolis 46250 United States;X-APPLE-RADIUS=500;X-TITLE=5655 Castle Creek Pkwy N Dr:geo:-86.071145,39.9148242
END:VEVENT
END:VCALENDAR