BEGIN:VCALENDAR
VERSION:2.0
PRODID:-//Rainmakers - ECPv6.15.17.1//NONSGML v1.0//EN
CALSCALE:GREGORIAN
METHOD:PUBLISH
X-WR-CALNAME:Rainmakers
X-ORIGINAL-URL:https://gorainmakers.com
X-WR-CALDESC:Events for Rainmakers
REFRESH-INTERVAL;VALUE=DURATION:PT1H
X-Robots-Tag:noindex
X-PUBLISHED-TTL:PT1H
BEGIN:VTIMEZONE
TZID:America/Indiana/Indianapolis
BEGIN:DAYLIGHT
TZOFFSETFROM:-0500
TZOFFSETTO:-0400
TZNAME:EDT
DTSTART:20190310T070000
END:DAYLIGHT
BEGIN:STANDARD
TZOFFSETFROM:-0400
TZOFFSETTO:-0500
TZNAME:EST
DTSTART:20191103T060000
END:STANDARD
BEGIN:DAYLIGHT
TZOFFSETFROM:-0500
TZOFFSETTO:-0400
TZNAME:EDT
DTSTART:20200308T070000
END:DAYLIGHT
BEGIN:STANDARD
TZOFFSETFROM:-0400
TZOFFSETTO:-0500
TZNAME:EST
DTSTART:20201101T060000
END:STANDARD
BEGIN:DAYLIGHT
TZOFFSETFROM:-0500
TZOFFSETTO:-0400
TZNAME:EDT
DTSTART:20210314T070000
END:DAYLIGHT
BEGIN:STANDARD
TZOFFSETFROM:-0400
TZOFFSETTO:-0500
TZNAME:EST
DTSTART:20211107T060000
END:STANDARD
END:VTIMEZONE
BEGIN:VEVENT
DTSTART;TZID=America/Indiana/Indianapolis:20200312T083000
DTEND;TZID=America/Indiana/Indianapolis:20200312T100000
DTSTAMP:20260415T104519
CREATED:20191202T161600Z
LAST-MODIFIED:20200226T165941Z
UID:122730-1584001800-1584007200@gorainmakers.com
SUMMARY:Building Employees
DESCRIPTION:Rainmakers is excited to offer a monthly roundtable for small business leaders to convene on workplace talent topics. It is more important than ever to be strategic in attracting\, engaging and developing employees in order to build a healthy company.\n\n\nIdeal attendees for this session are small business owners or human resource managers. \nSessions are 90 minutes and include introductions and networking along with a workplace talent learning topic and interactive roundtable discussion. All participants share their key takeaways in action steps prior to the conclusion of the session. \n\n\nMarch Topic: How to create and sustain a culture of growth inside your organization\n\nThe truth is your people are made for more. Their appetite for growth and development extends well beyond the rote skills of their job – it’s in their DNA. They’re looking for organizations that know how to create and sustain cultures of holistic growth within their people. \nYet most organizations worldwide still aren’t developing their employees effectively. More than 77 billion spent on training in 2018 was ineffective\, and it’s costing businesses even more than the lost ROI on the basic training programs. It also comes with a cost each year to businesses of 355 billion in lost productivity due to disengagement (people leaving mentally and emotionally)\, 1 trillion each year from unwanted turnover (people leaving physically)\, and 24% lower profit margins. These impacts are crippling organizations worldwide from fulfilling their missions. \nWe’ll explore the underlying drivers creating this issue in human development and then discuss  3 steps for creating and sustaining a culture of growth inside your organization. \nParticipants will establish the Core Identity (Why\, How\, What) for their organization\, select their most important values and traits from the iAspire culture DNA framework\, and organize them into a culture calendar to establish the focus and rhythms for the quarter/year. We’ll then answer that nagging question of “What do I do next?”. \n\n  \nOur Speaker: Jason Cochran \n \nI started my career as an educational psychologist in 2005 and devoted 12 years to helping teachers\, educational leaders\, parents and students in Indiana better understand the psychology of learning and development. This included designing and implementing systems of support for all learners\, as well as group and individual interventions. By working in this field\, I developed an expertise in understanding the requisite cognitive skills for specific task demands\, allowing for rapid identification and delivery of appropriate learning and behavioral strategies. \nWhile I absolutely loved what I was doing\, I also had an innate feeling that there was more out there for me. This is what led me to find my calling for equipping organizations outside the world of education in also understanding and applying these principles for growth and development. \nThis all culminated into becoming a Co-Founder of iAspire\, a company forged in the belief that people are made for more.  Everyone has a calling and a desire to fulfill their mission in the world\, and much of that is shaped by the work they do in their organizations. My mission at iAspire is to help organizations build the culture of growth they’ve always wanted! \nOn a personal level\, my wife\, Rachel\, and I live in Noblesville with our two young sons who are lively\, energetic\, and lots of fun! We’re also expecting twin boys in May\, so our world is about to get pretty wild! To help us keep up with our boys\, Rachel and I each teach BodyPump classes at the Fishers and Jordan Y every week. \n_________________________________________ \n\nSessions will be facilitated by Rainmakers CEO and employee engagement expert\, Nikki Lewallen. \n \nAs reflected in her leadership style\, Nikki is an avid proponent of robust company culture. She believes that for people to succeed in business and life\, it is necessary for them to find meaning in their work. Today\, Nikki works nationally alongside CEOs\, Presidents and key executives to build highly engaged employers. She has built a national network of the best HR and talent solutions to tie her gift of connecting to the resources leaders need to move the needle on employee engagement\, ultimately helping more people “Love Mondays.” \n\n_________________________________________ \nTHANK YOU TO OUR SPONSOR \n \nSince 1986\, Insperity has been showing companies how to harness the power of HR to improve business success. We’ve grown from two people sharing a one-room office to a $3.3 billion company with more than 70 offices across the U.S \nWe love helping clients strengthen and streamline their businesses. Our proven approach helps you better manage costs and minimize risk. You’ll get the ready-to-use HR infrastructure that your business needs to be more efficient and profitable. \nTo bring out the best in your people\, we’ll show you how to maximize their performance and productivity. That’s our inspiration and purpose.
URL:https://gorainmakers.com/event/building-employees-2020-02-13-2020-03-12/
LOCATION:Insperity\, 8801 River Crossing Blvd - Suite 160\, Indianapolis \, IN\, 46240\, United States
CATEGORIES:Roundtable
GEO:39.9148161;-86.1064974
X-APPLE-STRUCTURED-LOCATION;VALUE=URI;X-ADDRESS=Insperity 8801 River Crossing Blvd - Suite 160 Indianapolis  IN 46240 United States;X-APPLE-RADIUS=500;X-TITLE=8801 River Crossing Blvd - Suite 160:geo:-86.1064974,39.9148161
END:VEVENT
END:VCALENDAR