BEGIN:VCALENDAR
VERSION:2.0
PRODID:-//Rainmakers - ECPv6.15.17.1//NONSGML v1.0//EN
CALSCALE:GREGORIAN
METHOD:PUBLISH
X-WR-CALNAME:Rainmakers
X-ORIGINAL-URL:https://gorainmakers.com
X-WR-CALDESC:Events for Rainmakers
REFRESH-INTERVAL;VALUE=DURATION:PT1H
X-Robots-Tag:noindex
X-PUBLISHED-TTL:PT1H
BEGIN:VTIMEZONE
TZID:America/Indiana/Indianapolis
BEGIN:DAYLIGHT
TZOFFSETFROM:-0500
TZOFFSETTO:-0400
TZNAME:EDT
DTSTART:20190310T070000
END:DAYLIGHT
BEGIN:STANDARD
TZOFFSETFROM:-0400
TZOFFSETTO:-0500
TZNAME:EST
DTSTART:20191103T060000
END:STANDARD
BEGIN:DAYLIGHT
TZOFFSETFROM:-0500
TZOFFSETTO:-0400
TZNAME:EDT
DTSTART:20200308T070000
END:DAYLIGHT
BEGIN:STANDARD
TZOFFSETFROM:-0400
TZOFFSETTO:-0500
TZNAME:EST
DTSTART:20201101T060000
END:STANDARD
BEGIN:DAYLIGHT
TZOFFSETFROM:-0500
TZOFFSETTO:-0400
TZNAME:EDT
DTSTART:20210314T070000
END:DAYLIGHT
BEGIN:STANDARD
TZOFFSETFROM:-0400
TZOFFSETTO:-0500
TZNAME:EST
DTSTART:20211107T060000
END:STANDARD
END:VTIMEZONE
BEGIN:VEVENT
DTSTART;TZID=America/Indiana/Indianapolis:20200319T083000
DTEND;TZID=America/Indiana/Indianapolis:20200319T103000
DTSTAMP:20260421T191035
CREATED:20191009T131945Z
LAST-MODIFIED:20200317T173409Z
UID:122601-1584606600-1584613800@gorainmakers.com
SUMMARY:Business Leader Roundtable
DESCRIPTION:Each month\, the Business Leader Roundtable helps you identify top-of-mind business challenges and helps you learn innovative and foundational solutions. Tommy Richardson\, Rainmakers Director of Training and Development\, features a new discussion topic at each event\, which addresses people\, processes\, leadership\, and relevant general business topics. This is your opportunity to build relationships while gaining insights into key topics that affect you and your business.  This roundtable is intended for Business Leaders. \nWe are taking precautions due to COVID-19. This event has been changed to a VIRTUAL SESSION via Zoom. Thank you for your understanding. \n  \nMarch Topics:  \n1.  Emotional Intelligence in the Work Place  \n2.  How to Make deposits in the Emotional Bank Account (six ways).  What are the Benefits in our Business and Personal Life? \n3.  High-Performance Habit Generating ENERGY.  Why is it so important to our Success?  \n4.  STRESS – A Curse or a BLESSING?  You may be surprised by what Research says.\n    \nJoin us Guaranteed to Stretch you Knowledge Skill and Attitude  \nYOU MISS ON THE SHOTS YOU DON’T TAKE.\n  \n\nThe purpose of the Business Leader Roundtable is to:  Learn & Plan in an Accelerated Environment (Growth Minded) to Increase your Business and Personal Growth.\n\n\n\n\nDon’t miss this session! Guaranteed to stretch your business and personal growth!\n\nBe The Exception!!!\n\n\n\nDon’t miss the 3rd Thursday every month!
URL:https://gorainmakers.com/event/business-leader-roundtable-2020-03-19/
LOCATION:Zoom Webinar\, Indianapolis\, IN
CATEGORIES:Roundtable
END:VEVENT
BEGIN:VEVENT
DTSTART;TZID=America/Indiana/Indianapolis:20200319T110000
DTEND;TZID=America/Indiana/Indianapolis:20200319T113000
DTSTAMP:20260421T191035
CREATED:20200318T170727Z
LAST-MODIFIED:20200318T170727Z
UID:123005-1584615600-1584617400@gorainmakers.com
SUMMARY:Rainmakers Virtual Discussion: Self Care Ideas
DESCRIPTION:Self-care is more important than ever right now. Nikki Lewallen would like to offer a virtual session to share her ideas on taking care of our physical\, mental and emotional self during these chaotic times. There will be an opportunity for you to share your ideas too. Want to join us? Register for this Zoom session and we’d love for you to be able to use audio and visual to maximize the experience. \nRegister in advance for this meeting.\nAfter registering\, you will receive a confirmation email containing information about joining the meeting.
URL:https://gorainmakers.com/event/rainmakers-virtual-discussion-self-care-ideas/
LOCATION:Zoom Webinar\, Indianapolis\, IN
ATTACH;FMTTYPE=image/png:https://gorainmakers.com/wp-content/uploads/2020/03/VIRTUAL-ROUNDTABLE-LOGO.png
END:VEVENT
END:VCALENDAR