BEGIN:VCALENDAR
VERSION:2.0
PRODID:-//Rainmakers - ECPv6.15.17.1//NONSGML v1.0//EN
CALSCALE:GREGORIAN
METHOD:PUBLISH
X-WR-CALNAME:Rainmakers
X-ORIGINAL-URL:https://gorainmakers.com
X-WR-CALDESC:Events for Rainmakers
REFRESH-INTERVAL;VALUE=DURATION:PT1H
X-Robots-Tag:noindex
X-PUBLISHED-TTL:PT1H
BEGIN:VTIMEZONE
TZID:America/Indiana/Indianapolis
BEGIN:DAYLIGHT
TZOFFSETFROM:-0500
TZOFFSETTO:-0400
TZNAME:EDT
DTSTART:20190310T070000
END:DAYLIGHT
BEGIN:STANDARD
TZOFFSETFROM:-0400
TZOFFSETTO:-0500
TZNAME:EST
DTSTART:20191103T060000
END:STANDARD
BEGIN:DAYLIGHT
TZOFFSETFROM:-0500
TZOFFSETTO:-0400
TZNAME:EDT
DTSTART:20200308T070000
END:DAYLIGHT
BEGIN:STANDARD
TZOFFSETFROM:-0400
TZOFFSETTO:-0500
TZNAME:EST
DTSTART:20201101T060000
END:STANDARD
BEGIN:DAYLIGHT
TZOFFSETFROM:-0500
TZOFFSETTO:-0400
TZNAME:EDT
DTSTART:20210314T070000
END:DAYLIGHT
BEGIN:STANDARD
TZOFFSETFROM:-0400
TZOFFSETTO:-0500
TZNAME:EST
DTSTART:20211107T060000
END:STANDARD
END:VTIMEZONE
BEGIN:VEVENT
DTSTART;TZID=America/Indiana/Indianapolis:20200326T083000
DTEND;TZID=America/Indiana/Indianapolis:20200326T100000
DTSTAMP:20260421T191035
CREATED:20200320T131257Z
LAST-MODIFIED:20200323T133556Z
UID:123012-1585211400-1585216800@gorainmakers.com
SUMMARY:Revamping Your Digital Marketing and Communication in Light of This
DESCRIPTION:While this crisis is truly unique\, there are proven opportunities to revamp your marketing communications. Companies are reacting to news and markets by freezing or canceling engagements. However\, they’re also looking to a questionable future to identify ways to automate\, optimize\, and build value with the businesses and consumers they’re working with. In this call\, I’m going to discuss how you can position yourself to help them. Douglas will discuss how this crisis impacted his business\, with 2/3rds of his clients impacted… and how he’s already turning them around. We’ll discuss messaging\, inbound\, and outbound strategies that you can use to drive more business. \n  \nOur Facilitator: Doug Karr \nDouglas Karr is a digital transformation consultant\, assisting small companies through Fortune 100 companies to leverage their technology investments to gain market share and improve customer experience. He’s the co-founder and Vice President of Highbridge\, a Salesforce Partner.
URL:https://gorainmakers.com/event/revamping-your-digital-marketing-and-communication-in-light-of-this/
LOCATION:Zoom Webinar\, Indianapolis\, IN
CATEGORIES:Training,Webinar
ATTACH;FMTTYPE=image/png:https://gorainmakers.com/wp-content/uploads/2020/03/VIRTUAL-ROUNDTABLE-LOGO.png
END:VEVENT
BEGIN:VEVENT
DTSTART;TZID=America/Indiana/Indianapolis:20200326T120000
DTEND;TZID=America/Indiana/Indianapolis:20200326T130000
DTSTAMP:20260421T191035
CREATED:20200221T204827Z
LAST-MODIFIED:20200221T205035Z
UID:122937-1585224000-1585227600@gorainmakers.com
SUMMARY:Leverage LinkedIn To Grow Your Business
DESCRIPTION:Learn how to start leveraging LinkedIn to grow your business in 2020.\n\nProvided by Kennected.org\n \n\nWe are going to teach you how to start leveraging LinkedIn to grow your business in 2020. \n\n\nHow To Find And Target Your Dream Clients On LinkedIn\n How To Craft Your Messaging Scripts. \nHow We Optimize A LinkedIn Profile.\n\nBonus: Free Profile Optimization Guide. \n\n\n\n\nAbout Kennected: \n \nKennected is a software / consulting company based out of Indianapolis\, Indiana. They help businesses capture hard-to-reach\, ideal leads through LinkedIn automation and marketing strategies. Currently serving six thousand clients worldwide\, their mission is to help 1 million business owners simplify and automate lead generation.\n\nFind Kennected on social media: YouTube | Instagram\n\n\nOur Facilitator:\n\nElliot Drake\nCMO/Co-Founder\, Kennected\n\nElliot is a 21-year-old entrepreneur who has founded multiple successful companies that help businesses grow. He has experience working with some of the largest enterprise and personal brands in the world. From an early age\, Elliot dealt with the struggles of drug addiction within a family\, which is where he found his love for mentorship and serving others. Through his four years of business\, he developed the purpose of helping 1 million entrepreneurs take their life and business to where they want to be. He co-founder of Kennected\, which is a LinkedIn based software that simplifies and automates lead generation to help entrepreneurs get back there most valuable asset\, which is time.\n\nFind Elliot on social media: YouTube | Instagram
URL:https://gorainmakers.com/event/leverage-linkedin-to-grow-your-business-2/
LOCATION:Zoom Webinar\, Indianapolis\, IN
CATEGORIES:Webinar
END:VEVENT
END:VCALENDAR