BEGIN:VCALENDAR
VERSION:2.0
PRODID:-//Rainmakers - ECPv6.15.17.1//NONSGML v1.0//EN
CALSCALE:GREGORIAN
METHOD:PUBLISH
X-WR-CALNAME:Rainmakers
X-ORIGINAL-URL:https://gorainmakers.com
X-WR-CALDESC:Events for Rainmakers
REFRESH-INTERVAL;VALUE=DURATION:PT1H
X-Robots-Tag:noindex
X-PUBLISHED-TTL:PT1H
BEGIN:VTIMEZONE
TZID:America/Indiana/Indianapolis
BEGIN:DAYLIGHT
TZOFFSETFROM:-0500
TZOFFSETTO:-0400
TZNAME:EDT
DTSTART:20190310T070000
END:DAYLIGHT
BEGIN:STANDARD
TZOFFSETFROM:-0400
TZOFFSETTO:-0500
TZNAME:EST
DTSTART:20191103T060000
END:STANDARD
BEGIN:DAYLIGHT
TZOFFSETFROM:-0500
TZOFFSETTO:-0400
TZNAME:EDT
DTSTART:20200308T070000
END:DAYLIGHT
BEGIN:STANDARD
TZOFFSETFROM:-0400
TZOFFSETTO:-0500
TZNAME:EST
DTSTART:20201101T060000
END:STANDARD
BEGIN:DAYLIGHT
TZOFFSETFROM:-0500
TZOFFSETTO:-0400
TZNAME:EDT
DTSTART:20210314T070000
END:DAYLIGHT
BEGIN:STANDARD
TZOFFSETFROM:-0400
TZOFFSETTO:-0500
TZNAME:EST
DTSTART:20211107T060000
END:STANDARD
END:VTIMEZONE
BEGIN:VEVENT
DTSTART;TZID=America/Indiana/Indianapolis:20200327T100000
DTEND;TZID=America/Indiana/Indianapolis:20200327T110000
DTSTAMP:20260418T100845
CREATED:20200325T153902Z
LAST-MODIFIED:20200325T153902Z
UID:123021-1585303200-1585306800@gorainmakers.com
SUMMARY:Rainmakers Virtual Roundtable
DESCRIPTION:Join Rob Lime and fellow Rainmakers for the practical strategic and tactic advice on how to sell through the lockdown. \nThis session will not be about: \n\nHow to keep your head up\nHow to be mindful\nHow to stay positive\n\nDon’t get me wrong – those topics are important. But there are plenty of outlets for that information. \nThis session will be about: \n\nDiffusing the COVID19 objection before you encounter it\nHow to handle the objection if you counter it\nWhy this is a great time to prospect\nHow your prospecting should change\n\n  \nThis workshop will be facilitated by Rob Lime with Lushin and Associates.
URL:https://gorainmakers.com/event/rainmakers-virtual-roundtable/
LOCATION:Zoom Webinar\, Indianapolis\, IN
CATEGORIES:Training,Webinar
ATTACH;FMTTYPE=image/png:https://gorainmakers.com/wp-content/uploads/2020/03/VIRTUAL-ROUNDTABLE-LOGO.png
END:VEVENT
END:VCALENDAR