BEGIN:VCALENDAR
VERSION:2.0
PRODID:-//Rainmakers - ECPv6.15.17.1//NONSGML v1.0//EN
CALSCALE:GREGORIAN
METHOD:PUBLISH
X-WR-CALNAME:Rainmakers
X-ORIGINAL-URL:https://gorainmakers.com
X-WR-CALDESC:Events for Rainmakers
REFRESH-INTERVAL;VALUE=DURATION:PT1H
X-Robots-Tag:noindex
X-PUBLISHED-TTL:PT1H
BEGIN:VTIMEZONE
TZID:America/Indiana/Indianapolis
BEGIN:DAYLIGHT
TZOFFSETFROM:-0500
TZOFFSETTO:-0400
TZNAME:EDT
DTSTART:20190310T070000
END:DAYLIGHT
BEGIN:STANDARD
TZOFFSETFROM:-0400
TZOFFSETTO:-0500
TZNAME:EST
DTSTART:20191103T060000
END:STANDARD
BEGIN:DAYLIGHT
TZOFFSETFROM:-0500
TZOFFSETTO:-0400
TZNAME:EDT
DTSTART:20200308T070000
END:DAYLIGHT
BEGIN:STANDARD
TZOFFSETFROM:-0400
TZOFFSETTO:-0500
TZNAME:EST
DTSTART:20201101T060000
END:STANDARD
BEGIN:DAYLIGHT
TZOFFSETFROM:-0500
TZOFFSETTO:-0400
TZNAME:EDT
DTSTART:20210314T070000
END:DAYLIGHT
BEGIN:STANDARD
TZOFFSETFROM:-0400
TZOFFSETTO:-0500
TZNAME:EST
DTSTART:20211107T060000
END:STANDARD
END:VTIMEZONE
BEGIN:VEVENT
DTSTART;TZID=America/Indiana/Indianapolis:20200402T120000
DTEND;TZID=America/Indiana/Indianapolis:20200402T133000
DTSTAMP:20260421T174602
CREATED:20200327T194258Z
LAST-MODIFIED:20200327T194353Z
UID:123023-1585828800-1585834200@gorainmakers.com
SUMMARY:1\,000 Words to Engage a Remote Workforce
DESCRIPTION:In this unprecedented time that companies are in today\, a leading question to address is how to keep your workforce connected when you are no longer in the same office.  Christina Zerfas\, Managing Executive of Ohana- a virtual platform that optimizes communication and engages employees within organizations across the US- will be sharing the importance of visuals in remote communication.  \n \nJoin us for an engaging workshop that will address: \n\n\nHow to construct a company narrative \nThe importance of images in business communication\n\nWays you can connect with a workforce that is geographically separated \n\n  \nOur Facilitator: Christina Zerfas \n \n \nChristina Zerfas is the Managing Executive of Ohana Software. Christina’s entrepreneurial spirit combined with her passion to create community in the workplace makes her a natural fit for her role with Ohana\, a virtual platform that optimizes communication and engages employees within organizations across the US.  After noticing current systems engage only 15% of the workforce on average\, it’s become her personal mission to increase engagement\, communication\, and ultimately ROI\, by building community within business. \n\n \nChristina earned a Bachelor of Science in Business from Indiana University’s Kelley School of Business where she majored in Entrepreneurship and Corporate Innovation.  Her Ohana and nonprofit work alike have led her to speak across Indiana\, be featured on multiple podcasts\, and be nominated as a 2019 finalist for the ELEVATE Awards. In her spare time\, you can find her hiking\, dancing\, or volunteering in the Indianapolis community.
URL:https://gorainmakers.com/event/1000-words-to-engage-a-remote-workforce/
LOCATION:Zoom Webinar\, Indianapolis\, IN
CATEGORIES:Training,Webinar
ATTACH;FMTTYPE=image/png:https://gorainmakers.com/wp-content/uploads/2020/03/Workshop-Logo.png
END:VEVENT
END:VCALENDAR