BEGIN:VCALENDAR
VERSION:2.0
PRODID:-//Rainmakers - ECPv6.15.17.1//NONSGML v1.0//EN
CALSCALE:GREGORIAN
METHOD:PUBLISH
X-WR-CALNAME:Rainmakers
X-ORIGINAL-URL:https://gorainmakers.com
X-WR-CALDESC:Events for Rainmakers
REFRESH-INTERVAL;VALUE=DURATION:PT1H
X-Robots-Tag:noindex
X-PUBLISHED-TTL:PT1H
BEGIN:VTIMEZONE
TZID:America/Indiana/Indianapolis
BEGIN:DAYLIGHT
TZOFFSETFROM:-0500
TZOFFSETTO:-0400
TZNAME:EDT
DTSTART:20190310T070000
END:DAYLIGHT
BEGIN:STANDARD
TZOFFSETFROM:-0400
TZOFFSETTO:-0500
TZNAME:EST
DTSTART:20191103T060000
END:STANDARD
BEGIN:DAYLIGHT
TZOFFSETFROM:-0500
TZOFFSETTO:-0400
TZNAME:EDT
DTSTART:20200308T070000
END:DAYLIGHT
BEGIN:STANDARD
TZOFFSETFROM:-0400
TZOFFSETTO:-0500
TZNAME:EST
DTSTART:20201101T060000
END:STANDARD
BEGIN:DAYLIGHT
TZOFFSETFROM:-0500
TZOFFSETTO:-0400
TZNAME:EDT
DTSTART:20210314T070000
END:DAYLIGHT
BEGIN:STANDARD
TZOFFSETFROM:-0400
TZOFFSETTO:-0500
TZNAME:EST
DTSTART:20211107T060000
END:STANDARD
END:VTIMEZONE
BEGIN:VEVENT
DTSTART;TZID=America/Indiana/Indianapolis:20200407T080000
DTEND;TZID=America/Indiana/Indianapolis:20200407T100000
DTSTAMP:20260418T180337
CREATED:20200220T162012Z
LAST-MODIFIED:20200317T202953Z
UID:122916-1586246400-1586253600@gorainmakers.com
SUMMARY:Rainmakers Christian Leaders Roundtable
DESCRIPTION:We are taking precautions due to COVID-19. This event has been changed to a VIRTUAL SESSION via Zoom. Thank you for your understanding. \n  \nCan You Answer the Question: Is Christianity a Hoax? \nJoin us and hear Nancy’s testimony of looking for truth. She did not see true Christianity being lived out by her Christian friends nor were they able to answer questions concerning the authenticity of Christianity. \nThe answer to this question hinges on the reliability of the Scriptures. Unless we know WHY the Bible is the Christian’s source of truth\, not only historically\, but by the proofs that confirm God’s thumbprints\, we will have no confidence of who God is nor who we are. \nLearn and appreciate the Bible to a greater extent and be motivated to spend more time in the word. Gain the confidence to answer questions the skeptic has about the Christian faith. \n  \nOur Facilitator: \n \nNancy S Fitzgerald\, Founder and Executive Director of Anchorsaway\nNancy teaches several different Bible studies and speaks to youth and adults throughout the country.  She has taught at Summit Ministries in Colorado and speaks at numerous women’s groups and retreats.  She has served and continues to serve on several community boards.  For several years\, Nancy was president of AGAPE\, a therapeutic horseback riding program for special needs children.  She served on the FCA state and national conference boards.  She has also served for several years on the Heartland Film Festival board in Indianapolis. She founded the Indiana Family Institute and served as President for several years.  She also received the prestigious Angel Award for maintaining moral\, ethical and spiritual values in the field of education. \nToday\, Nancy is currently Chairman of Rock Organization\, Inc. and founder and executive director of Anchorsaway. The Anchorsaway ministry has constructed a curriculum\, Anchorsaway Christian Worldveiw Curriculum that prepares seniors in high school and college students to live out and to share the truths of the Christian worldview.  It equips this younger generation for personal regeneration\, moral revival and cultural restoration. She also developed a book and a small group discussion guide with a DVD\, for adults and families to study together called\, “Unanswered: Smoke\, Mirrors and God”. These curriculums are being studied across our country and beyond. \n  \n  \nOur Featured Non-Profit: \n \nThe mission of Anchorsaway is to instruct\, challenge and inspire students and adults to think Christianly in all areas of life\, live their faith passionately\, and love others unconditionally to the glory of God. \nAnchorsaway is a college-level Christian worldview educational experience targeting high school juniors and seniors and college students. The purpose is to encourage each student’s biblical and spiritual growth as they confidently live out their faith in every area of life. There is absolutely no doubt that an Anchorsaway student will learn how to build an authentic faith in Christ and will be prepared to give an answer to others as to what they believe to be true about God\, Jesus Christ and the Bible.
URL:https://gorainmakers.com/event/rainmakers-christian-leaders-roundtable/
LOCATION:Zoom Webinar\, Indianapolis\, IN
CATEGORIES:Faith Based,Roundtable
END:VEVENT
END:VCALENDAR