BEGIN:VCALENDAR
VERSION:2.0
PRODID:-//Rainmakers - ECPv6.15.17.1//NONSGML v1.0//EN
CALSCALE:GREGORIAN
METHOD:PUBLISH
X-WR-CALNAME:Rainmakers
X-ORIGINAL-URL:https://gorainmakers.com
X-WR-CALDESC:Events for Rainmakers
REFRESH-INTERVAL;VALUE=DURATION:PT1H
X-Robots-Tag:noindex
X-PUBLISHED-TTL:PT1H
BEGIN:VTIMEZONE
TZID:America/Indiana/Indianapolis
BEGIN:DAYLIGHT
TZOFFSETFROM:-0500
TZOFFSETTO:-0400
TZNAME:EDT
DTSTART:20190310T070000
END:DAYLIGHT
BEGIN:STANDARD
TZOFFSETFROM:-0400
TZOFFSETTO:-0500
TZNAME:EST
DTSTART:20191103T060000
END:STANDARD
BEGIN:DAYLIGHT
TZOFFSETFROM:-0500
TZOFFSETTO:-0400
TZNAME:EDT
DTSTART:20200308T070000
END:DAYLIGHT
BEGIN:STANDARD
TZOFFSETFROM:-0400
TZOFFSETTO:-0500
TZNAME:EST
DTSTART:20201101T060000
END:STANDARD
BEGIN:DAYLIGHT
TZOFFSETFROM:-0500
TZOFFSETTO:-0400
TZNAME:EDT
DTSTART:20210314T070000
END:DAYLIGHT
BEGIN:STANDARD
TZOFFSETFROM:-0400
TZOFFSETTO:-0500
TZNAME:EST
DTSTART:20211107T060000
END:STANDARD
END:VTIMEZONE
BEGIN:VEVENT
DTSTART;TZID=America/Indiana/Indianapolis:20200421T083000
DTEND;TZID=America/Indiana/Indianapolis:20200421T103000
DTSTAMP:20260418T135939
CREATED:20200224T203820Z
LAST-MODIFIED:20200323T023206Z
UID:122940-1587457800-1587465000@gorainmakers.com
SUMMARY:Close the GAP and Design a Path to Your Dreams
DESCRIPTION:Close the GAP and Design a Path to Your Dreams \nWe are taking precautions due to COVID-19. This event has been changed to a VIRTUAL SESSION via Zoom. Thank you for your understanding. \n“Change” for many business owners\, is their greatest fear.  But it’s not the dream that is scary\, it’s the “everything in between” that scares us.  It’s the GAP.  That area between where you are now and where you desire to be.  And the change\, or the gap\, encompasses all the time\, work\, energy\, and unfamiliarity in between today and what you desire.  This is the one FEAR that keeps entrepreneurs stuck EVERY DAY. \nYou are all too familiar with where you are now\, but at least that is “known.”  Which is why it makes it so dangerously easy to do nothing and “hope” for the best.  But what is on the other side is everything you desire: happiness\, feeling valued\, healthy relationships\, and a business you love and is successful. \nThe only way to get there with less pain is to intentionally design your path.  Because otherwise\, you won’t get to the other side and achieve what you really want. \nThe benefits of this workshop include: \n\nGreater awareness of the opportunities available to you\nClarity on your vision and goals\nTechniques you can use to ensure your success\nNetworking opportunity to meet other like-minded business owners\n\n  \nOur Facilitator: Kimberle Seale  \n \nKim is a success coach focused on creating a lasting legacy of wealth\, health\, and happiness for professionals and business owners.  She is an experienced and credentialed coach\, has won multiple leadership awards\, an author\, and a patent inventor for a product developed for Uber. Kim has achieved some amazing and transformative results with her clients and in her past as a corporate executive before she started her own practice three years ago.  What is inspiring and unique about her approach is the level of motivation and passion she brings out of her clients and their employees\, including those that had not been performing at their best.
URL:https://gorainmakers.com/event/close-the-gap-and-design-a-path-to-your-dreams/
LOCATION:Zoom Webinar\, Indianapolis\, IN
CATEGORIES:Roundtable
END:VEVENT
END:VCALENDAR