BEGIN:VCALENDAR
VERSION:2.0
PRODID:-//Rainmakers - ECPv6.15.17.1//NONSGML v1.0//EN
CALSCALE:GREGORIAN
METHOD:PUBLISH
X-ORIGINAL-URL:https://gorainmakers.com
X-WR-CALDESC:Events for Rainmakers
REFRESH-INTERVAL;VALUE=DURATION:PT1H
X-Robots-Tag:noindex
X-PUBLISHED-TTL:PT1H
BEGIN:VTIMEZONE
TZID:America/Indiana/Indianapolis
BEGIN:DAYLIGHT
TZOFFSETFROM:-0500
TZOFFSETTO:-0400
TZNAME:EDT
DTSTART:20190310T070000
END:DAYLIGHT
BEGIN:STANDARD
TZOFFSETFROM:-0400
TZOFFSETTO:-0500
TZNAME:EST
DTSTART:20191103T060000
END:STANDARD
BEGIN:DAYLIGHT
TZOFFSETFROM:-0500
TZOFFSETTO:-0400
TZNAME:EDT
DTSTART:20200308T070000
END:DAYLIGHT
BEGIN:STANDARD
TZOFFSETFROM:-0400
TZOFFSETTO:-0500
TZNAME:EST
DTSTART:20201101T060000
END:STANDARD
BEGIN:DAYLIGHT
TZOFFSETFROM:-0500
TZOFFSETTO:-0400
TZNAME:EDT
DTSTART:20210314T070000
END:DAYLIGHT
BEGIN:STANDARD
TZOFFSETFROM:-0400
TZOFFSETTO:-0500
TZNAME:EST
DTSTART:20211107T060000
END:STANDARD
END:VTIMEZONE
BEGIN:VEVENT
DTSTART;TZID=America/Indiana/Indianapolis:20200422T083000
DTEND;TZID=America/Indiana/Indianapolis:20200422T100000
DTSTAMP:20260421T175850
CREATED:20191212T170908Z
LAST-MODIFIED:20200417T130611Z
UID:122766-1587544200-1587549600@gorainmakers.com
SUMMARY:Rainmakers 8X Virtual
DESCRIPTION:We are taking precautions due to COVID-19. This event has been changed to a VIRTUAL SESSION via Zoom. Thank you for your understanding. \n8X is a monthly personal development Rainmakers offering that promotes holistic human development by taking time to reflect and grow in the eight core areas of our lives. Each session will provide a dedicated learning topic that fits into one of the key areas of our lives and will include tactical application concepts. Aside from the dedicated topic of the session\, time will be allotted for participants to reflect on each of the eight areas of the Life Wheel\, pinpointing strengths and action planning around opportunities for growth. At Rainmakers\, we believe that in order to be our best in leading and serving others\, we have to be the best version of us\, first. 8X is a system to help us lead ourselves well. \n  \nApril Topic: How to use this time to ELEVATE your life using one simple tool. \n\nThis month we’ll take a deep dive into a tool that will elevate your self-awareness\, how you show up at work\, and how you show up at home.\n\nThe DISC assessment is the most widely used tool in businesses to build strong teams. It can also be used to build a strong family. There are 4 unique styles.\n\nD =Dominant & Direct\nI  = Influential & Inspirational\nS = Steady & Supportive\nC = Compliant & Conscientious\n\nYou will:\n– Discover what your style is\n– How to identify someone else’s style\n– What are the strengths and limitations of each style\n– The common fear of each style\n– What motivates each style\n– How to best communicate with those who are different than you\n– See how these attributes are strengths within teams in both business and family\n\nUse this unique time of pause in your life to invest in your personal development\, and connect better with people both at work and at home. We’ll never have this time in history again. Don’t miss this opportunity to strengthen yourself and come out better than ever.\n\nWe’ll see you on the 22nd!\n\nOur Facilitator: Anna Kantzavelos\n \nAnna Kantzavelos is a mom\, wife\, business owner\, and entrepreneur whose “why” is service\, faith\, and impact. She runs an independent pharmacy with her husband\, loves her three awesome (and sometimes crazy) kids\, and launched Elevate 122 to help small-business owners elevate their business\, family\, and health. She starts every day with coffee\, the Bible App\, and if we’re being honest\, a few games of Candy Crush. Anna loves seeing the possibility in everything and is committed to helping others live a fully abundant life with purpose and impact.
URL:https://gorainmakers.com/event/rainmakers-8x-2020-03-25-2020-04-22/
LOCATION:Zoom Webinar\, Indianapolis\, IN
END:VEVENT
END:VCALENDAR