BEGIN:VCALENDAR
VERSION:2.0
PRODID:-//Rainmakers - ECPv6.15.17.1//NONSGML v1.0//EN
CALSCALE:GREGORIAN
METHOD:PUBLISH
X-ORIGINAL-URL:https://gorainmakers.com
X-WR-CALDESC:Events for Rainmakers
REFRESH-INTERVAL;VALUE=DURATION:PT1H
X-Robots-Tag:noindex
X-PUBLISHED-TTL:PT1H
BEGIN:VTIMEZONE
TZID:America/Indiana/Indianapolis
BEGIN:DAYLIGHT
TZOFFSETFROM:-0500
TZOFFSETTO:-0400
TZNAME:EDT
DTSTART:20190310T070000
END:DAYLIGHT
BEGIN:STANDARD
TZOFFSETFROM:-0400
TZOFFSETTO:-0500
TZNAME:EST
DTSTART:20191103T060000
END:STANDARD
BEGIN:DAYLIGHT
TZOFFSETFROM:-0500
TZOFFSETTO:-0400
TZNAME:EDT
DTSTART:20200308T070000
END:DAYLIGHT
BEGIN:STANDARD
TZOFFSETFROM:-0400
TZOFFSETTO:-0500
TZNAME:EST
DTSTART:20201101T060000
END:STANDARD
BEGIN:DAYLIGHT
TZOFFSETFROM:-0500
TZOFFSETTO:-0400
TZNAME:EDT
DTSTART:20210314T070000
END:DAYLIGHT
BEGIN:STANDARD
TZOFFSETFROM:-0400
TZOFFSETTO:-0500
TZNAME:EST
DTSTART:20211107T060000
END:STANDARD
END:VTIMEZONE
BEGIN:VEVENT
DTSTART;TZID=America/Indiana/Indianapolis:20200429T090000
DTEND;TZID=America/Indiana/Indianapolis:20200429T100000
DTSTAMP:20260421T174828
CREATED:20200408T132425Z
LAST-MODIFIED:20200421T144852Z
UID:123051-1588150800-1588154400@gorainmakers.com
SUMMARY:Leverage LinkedIn to Grow Your Business
DESCRIPTION:Learn how to start leveraging LinkedIn to grow your business in 2020.\n\nProvided by Kennected.org\n\nApril 9th Topic: How Use LinkedIn To Find Your Target Prospects \n\n\nWhat version of LinkedIn should you be using?\nHow To Use Boolean Search.\nHow To Use LinkedIn’s Reporting To Find Interested Prospects.\n\n\n\n\n\nAbout Kennected: \n \nKennected is a software / consulting company based out of Indianapolis\, Indiana. They help businesses capture hard-to-reach\, ideal leads through LinkedIn automation and marketing strategies. Currently serving six thousand clients worldwide\, their mission is to help 1 million business owners simplify and automate lead generation.\n\nFind Kennected on social media: YouTube | Instagram\n\n\n\n\nOur Facilitator:\n\nElliot Drake\nCMO/Co-Founder\, Kennected\n\nElliot is a 21-year-old entrepreneur who has founded multiple successful companies that help businesses grow. He has experience working with some of the largest enterprise and personal brands in the world. From an early age\, Elliot dealt with the struggles of drug addiction within a family\, which is where he found his love for mentorship and serving others. Through his four years of business\, he developed the purpose of helping 1 million entrepreneurs take their life and business to where they want to be. He co-founder of Kennected\, which is a LinkedIn based software that simplifies and automates lead generation to help entrepreneurs get back there most valuable asset\, which is time.\n\nFind Elliot on social media: YouTube | Instagram
URL:https://gorainmakers.com/event/leverage-linkedin-to-grow-your-business-3-2020-04-29/
LOCATION:Zoom Webinar\, Indianapolis\, IN
CATEGORIES:LinkedIn Roundtable,Training,Webinar
END:VEVENT
END:VCALENDAR