BEGIN:VCALENDAR
VERSION:2.0
PRODID:-//Rainmakers - ECPv6.15.17.1//NONSGML v1.0//EN
CALSCALE:GREGORIAN
METHOD:PUBLISH
X-WR-CALNAME:Rainmakers
X-ORIGINAL-URL:https://gorainmakers.com
X-WR-CALDESC:Events for Rainmakers
REFRESH-INTERVAL;VALUE=DURATION:PT1H
X-Robots-Tag:noindex
X-PUBLISHED-TTL:PT1H
BEGIN:VTIMEZONE
TZID:America/Indiana/Indianapolis
BEGIN:DAYLIGHT
TZOFFSETFROM:-0500
TZOFFSETTO:-0400
TZNAME:EDT
DTSTART:20190310T070000
END:DAYLIGHT
BEGIN:STANDARD
TZOFFSETFROM:-0400
TZOFFSETTO:-0500
TZNAME:EST
DTSTART:20191103T060000
END:STANDARD
BEGIN:DAYLIGHT
TZOFFSETFROM:-0500
TZOFFSETTO:-0400
TZNAME:EDT
DTSTART:20200308T070000
END:DAYLIGHT
BEGIN:STANDARD
TZOFFSETFROM:-0400
TZOFFSETTO:-0500
TZNAME:EST
DTSTART:20201101T060000
END:STANDARD
BEGIN:DAYLIGHT
TZOFFSETFROM:-0500
TZOFFSETTO:-0400
TZNAME:EDT
DTSTART:20210314T070000
END:DAYLIGHT
BEGIN:STANDARD
TZOFFSETFROM:-0400
TZOFFSETTO:-0500
TZNAME:EST
DTSTART:20211107T060000
END:STANDARD
END:VTIMEZONE
BEGIN:VEVENT
DTSTART;TZID=America/Indiana/Indianapolis:20200508T103000
DTEND;TZID=America/Indiana/Indianapolis:20200508T120000
DTSTAMP:20260421T191024
CREATED:20191009T140116Z
LAST-MODIFIED:20200507T161953Z
UID:122615-1588933800-1588939200@gorainmakers.com
SUMMARY:Empowering Women Roundtable
DESCRIPTION:Rainmakers Empowering Women Roundtable is for women to meet\, develop and strengthen relationships. Rainmakers\, as an organization\, is passionate about helping professionals build authentic relationships that enable them to reach new levels of success in their business and personal lives. This session is for women of all ages and stages of professional accomplishment. Each month we will spend time getting to know each other and our business needs while engaging in a meaningful discussion topic. \nOur Facilitator: Kimberle Seale  \n \nKim is a success coach focused on creating a lasting legacy of wealth\, health\, and happiness for professionals and business owners.  She is an experienced and credentialed coach\, has won multiple leadership awards\, an author\, and a patent inventor for a product developed for Uber. Kim has achieved some amazing and transformative results with her clients and in her past as a corporate executive before she started her own practice three years ago.  What is inspiring and unique about her approach is the level of motivation and passion she brings out of her clients and their employees\, including those that had not been performing at their best. \nThis event occurs monthly on the 2nd Friday
URL:https://gorainmakers.com/event/empowering-women-roundtable-5-2020-02-14-2020-03-13-2020-05-08/
LOCATION:Zoom Webinar\, Indianapolis\, IN
CATEGORIES:Empowering Women Roundtable,Roundtable
ATTACH;FMTTYPE=image/png:https://gorainmakers.com/wp-content/uploads/2019/10/EWR.png
END:VEVENT
END:VCALENDAR