BEGIN:VCALENDAR
VERSION:2.0
PRODID:-//Rainmakers - ECPv6.15.17.1//NONSGML v1.0//EN
CALSCALE:GREGORIAN
METHOD:PUBLISH
X-WR-CALNAME:Rainmakers
X-ORIGINAL-URL:https://gorainmakers.com
X-WR-CALDESC:Events for Rainmakers
REFRESH-INTERVAL;VALUE=DURATION:PT1H
X-Robots-Tag:noindex
X-PUBLISHED-TTL:PT1H
BEGIN:VTIMEZONE
TZID:America/Indiana/Indianapolis
BEGIN:DAYLIGHT
TZOFFSETFROM:-0500
TZOFFSETTO:-0400
TZNAME:EDT
DTSTART:20190310T070000
END:DAYLIGHT
BEGIN:STANDARD
TZOFFSETFROM:-0400
TZOFFSETTO:-0500
TZNAME:EST
DTSTART:20191103T060000
END:STANDARD
BEGIN:DAYLIGHT
TZOFFSETFROM:-0500
TZOFFSETTO:-0400
TZNAME:EDT
DTSTART:20200308T070000
END:DAYLIGHT
BEGIN:STANDARD
TZOFFSETFROM:-0400
TZOFFSETTO:-0500
TZNAME:EST
DTSTART:20201101T060000
END:STANDARD
BEGIN:DAYLIGHT
TZOFFSETFROM:-0500
TZOFFSETTO:-0400
TZNAME:EDT
DTSTART:20210314T070000
END:DAYLIGHT
BEGIN:STANDARD
TZOFFSETFROM:-0400
TZOFFSETTO:-0500
TZNAME:EST
DTSTART:20211107T060000
END:STANDARD
END:VTIMEZONE
BEGIN:VEVENT
DTSTART;TZID=America/Indiana/Indianapolis:20200514T083000
DTEND;TZID=America/Indiana/Indianapolis:20200514T100000
DTSTAMP:20260421T191032
CREATED:20191202T161600Z
LAST-MODIFIED:20200507T165606Z
UID:122732-1589445000-1589450400@gorainmakers.com
SUMMARY:Building Employees
DESCRIPTION:Rainmakers is excited to offer a monthly roundtable for small business leaders to convene on workplace talent topics. It is more important than ever to be strategic in attracting\, engaging and developing employees in order to build a healthy company.\n\n\nIdeal attendees for this session are small business owners or human resource managers. \nSessions are 90 minutes and include introductions and networking along with a workplace talent learning topic and interactive roundtable discussion. All participants share their key takeaways in action steps prior to the conclusion of the session. \n\n\n\nMay Topic: Leading and Growing in Challenging Times \nOur current situation has impacted every HR and People Leader in many ways. We are being pulled in a variety of directions as we strive to support our business\, our employees\, and our personal lives. How are you balancing this pull? \nAs business and people leaders\, how we respond to a challenge is more important now than ever before. How are you responding and serving your company\, employees\, and yourself right now? \nJoin Vanessa Brown\, Vice President of Talent and Client Service with ML Talent Strategies\, to discuss the importance of stepping up as a leader to ensure everyone is informed\, well-connected\, and engaged. \nVanessa will share 5 Strategies to Help You Lead & Grow through a Crisis and leverage this opportunity to rise above the chaos.  Great leaders\, teams\, and organizations emerge from a crisis stronger and more ready to thrive than ever before. Will you? \n  \nOur Speaker: Vanessa Brown \n \nVanessa’s professional career spans twenty-plus years in Human Resources leadership\, talent development\, engagement\, and business growth strategies. As a strategic\, passionate\, and servant-focused leader\, she pours energy into balancing the ever-evolving needs of people with the overall business plan. \nVanessa is known and well-respected for her dedication to Servant Leadership\, commitment to building upon people’s strengths\, and simply doing what is right for others. Her strengths are Learner\, Maximizer\, Relator\, Individualization\, and Arranger. She can recite her strengths in a moment’s notice and don’t be surprised if she asks you to do the same! \nVanessa lives on the northside of Indianapolis with her husband Scott and two teens\, Emmy and Ethan. She stays active playing tennis and spending time with her family and is passionate about serving others through her church\, The O’Connor House and her children’s school activities. \n\n\n_________________________________\n\n\nSessions will be facilitated by Rainmakers CEO and employee engagement expert\, Nikki Lewallen. \n \nAs reflected in her leadership style\, Nikki is an avid proponent of robust company culture. She believes that for people to succeed in business and life\, it is necessary for them to find meaning in their work. Today\, Nikki works nationally alongside CEOs\, Presidents and key executives to build highly engaged employers. She has built a national network of the best HR and talent solutions to tie her gift of connecting to the resources leaders need to move the needle on employee engagement\, ultimately helping more people “Love Mondays.” \n\n_________________________________________ \nTHANK YOU TO OUR SPONSOR \n \nSince 1986\, Insperity has been showing companies how to harness the power of HR to improve business success. We’ve grown from two people sharing a one-room office to a $3.3 billion company with more than 70 offices across the U.S \nWe love helping clients strengthen and streamline their businesses. Our proven approach helps you better manage costs and minimize risk. You’ll get the ready-to-use HR infrastructure that your business needs to be more efficient and profitable. \nTo bring out the best in your people\, we’ll show you how to maximize their performance and productivity. That’s our inspiration and purpose.
URL:https://gorainmakers.com/event/building-employees-2020-02-13-2020-03-12-2020-05-14/
LOCATION:Zoom Webinar\, Indianapolis\, IN
CATEGORIES:Roundtable
ATTACH;FMTTYPE=image/png:https://gorainmakers.com/wp-content/uploads/2019/12/RRBTL_1200x600.png
END:VEVENT
BEGIN:VEVENT
DTSTART;TZID=America/Indiana/Indianapolis:20200514T160000
DTEND;TZID=America/Indiana/Indianapolis:20200514T170000
DTSTAMP:20260421T191032
CREATED:20200417T223807Z
LAST-MODIFIED:20200507T164926Z
UID:123073-1589472000-1589475600@gorainmakers.com
SUMMARY:Virtual Networking
DESCRIPTION:Network and meet others without leaving your home or office. It’s simple: sign up for a 60-minute session and network via your webcam. This is a moderated networking session. Share your name\, elevator pitch\, ideal client profile and something unique about yourself. If you have a specific ask\, mention that too! \nMeet up to 6 people per session. After the session\, we’ll send the contact information of the participants so you can follow up. Cheers to efficiency in the game of helping others! \nParticipation is limited to 6 people. You must have a webcam to participate. \n  \n\n\n\nWhy Do Rainmakers Love Virtual Networking?
URL:https://gorainmakers.com/event/virtual-networking-10-2020-05-14/
LOCATION:Zoom Webinar\, Indianapolis\, IN
CATEGORIES:Virtual Networking
ATTACH;FMTTYPE=image/png:https://gorainmakers.com/wp-content/uploads/2020/04/VN_1200x600.png
END:VEVENT
END:VCALENDAR