BEGIN:VCALENDAR
VERSION:2.0
PRODID:-//Rainmakers - ECPv6.15.17.1//NONSGML v1.0//EN
CALSCALE:GREGORIAN
METHOD:PUBLISH
X-WR-CALNAME:Rainmakers
X-ORIGINAL-URL:https://gorainmakers.com
X-WR-CALDESC:Events for Rainmakers
REFRESH-INTERVAL;VALUE=DURATION:PT1H
X-Robots-Tag:noindex
X-PUBLISHED-TTL:PT1H
BEGIN:VTIMEZONE
TZID:America/Indiana/Indianapolis
BEGIN:DAYLIGHT
TZOFFSETFROM:-0500
TZOFFSETTO:-0400
TZNAME:EDT
DTSTART:20190310T070000
END:DAYLIGHT
BEGIN:STANDARD
TZOFFSETFROM:-0400
TZOFFSETTO:-0500
TZNAME:EST
DTSTART:20191103T060000
END:STANDARD
BEGIN:DAYLIGHT
TZOFFSETFROM:-0500
TZOFFSETTO:-0400
TZNAME:EDT
DTSTART:20200308T070000
END:DAYLIGHT
BEGIN:STANDARD
TZOFFSETFROM:-0400
TZOFFSETTO:-0500
TZNAME:EST
DTSTART:20201101T060000
END:STANDARD
BEGIN:DAYLIGHT
TZOFFSETFROM:-0500
TZOFFSETTO:-0400
TZNAME:EDT
DTSTART:20210314T070000
END:DAYLIGHT
BEGIN:STANDARD
TZOFFSETFROM:-0400
TZOFFSETTO:-0500
TZNAME:EST
DTSTART:20211107T060000
END:STANDARD
END:VTIMEZONE
BEGIN:VEVENT
DTSTART;TZID=America/Indiana/Indianapolis:20200515T093000
DTEND;TZID=America/Indiana/Indianapolis:20200515T110000
DTSTAMP:20260421T191151
CREATED:20200416T154523Z
LAST-MODIFIED:20200507T163928Z
UID:123067-1589535000-1589540400@gorainmakers.com
SUMMARY:Psychology Behind The Sale
DESCRIPTION:Don’t Stop Selling\, Just Sell Differently \nIn this uncertain time\, the tendency for most is to hunker down and wait it out. However\, the reality is that we should never stop prospecting and selling\, and this uncertain market offers certain advantages to the prepared. \nJoin us for an interactive sales workshop where we will cover: \n\nThe new rules for selling\nHow to prospect effectively\nHow to craft the right message\n\nYou will leave this 90-minute webinar with a new sales process to sell and prospect during the lockdown. \n  \nThis workshop will be facilitated by Rob Lime with Lushin and Associates.
URL:https://gorainmakers.com/event/psychology-behind-the-sale-5/
LOCATION:Zoom Webinar\, Indianapolis\, IN
CATEGORIES:Training,Webinar
ATTACH;FMTTYPE=image/png:https://gorainmakers.com/wp-content/uploads/2020/04/PHYCH_1200x600.png
END:VEVENT
END:VCALENDAR