BEGIN:VCALENDAR
VERSION:2.0
PRODID:-//Rainmakers - ECPv6.15.17.1//NONSGML v1.0//EN
CALSCALE:GREGORIAN
METHOD:PUBLISH
X-WR-CALNAME:Rainmakers
X-ORIGINAL-URL:https://gorainmakers.com
X-WR-CALDESC:Events for Rainmakers
REFRESH-INTERVAL;VALUE=DURATION:PT1H
X-Robots-Tag:noindex
X-PUBLISHED-TTL:PT1H
BEGIN:VTIMEZONE
TZID:America/Indiana/Indianapolis
BEGIN:DAYLIGHT
TZOFFSETFROM:-0500
TZOFFSETTO:-0400
TZNAME:EDT
DTSTART:20190310T070000
END:DAYLIGHT
BEGIN:STANDARD
TZOFFSETFROM:-0400
TZOFFSETTO:-0500
TZNAME:EST
DTSTART:20191103T060000
END:STANDARD
BEGIN:DAYLIGHT
TZOFFSETFROM:-0500
TZOFFSETTO:-0400
TZNAME:EDT
DTSTART:20200308T070000
END:DAYLIGHT
BEGIN:STANDARD
TZOFFSETFROM:-0400
TZOFFSETTO:-0500
TZNAME:EST
DTSTART:20201101T060000
END:STANDARD
BEGIN:DAYLIGHT
TZOFFSETFROM:-0500
TZOFFSETTO:-0400
TZNAME:EDT
DTSTART:20210314T070000
END:DAYLIGHT
BEGIN:STANDARD
TZOFFSETFROM:-0400
TZOFFSETTO:-0500
TZNAME:EST
DTSTART:20211107T060000
END:STANDARD
END:VTIMEZONE
BEGIN:VEVENT
DTSTART;TZID=America/Indiana/Indianapolis:20200521T083000
DTEND;TZID=America/Indiana/Indianapolis:20200521T103000
DTSTAMP:20260421T191026
CREATED:20191009T131945Z
LAST-MODIFIED:20200507T162657Z
UID:122603-1590049800-1590057000@gorainmakers.com
SUMMARY:Business Leader Roundtable
DESCRIPTION:Each month\, the Business Leader Roundtable helps you identify top-of-mind business challenges and helps you learn innovative and foundational solutions. Tommy Richardson\, Rainmakers Director of Training and Development\, features a new discussion topic at each event\, which addresses people\, processes\, leadership\, and relevant general business topics. This is your opportunity to build relationships while gaining insights into key topics that affect you and your business.  This roundtable is intended for Business Leaders. \nAll of us are in one of the 4 zones during this crisis. Which are you? Why?\n\n1. Fear\n2. Learning\n3. Growth\n4. Leadership\n\nHow can you maximize your learning?\n\n1. Do you feel your brain is much too slow for your age?\n2. Are you frustrated because you can’t learn things fast enough?\n3. Do you struggle to retain information? How is your recall?\n\nMindset\nDo you have a resilient mindset? Let’s learn from the Navy Seals how they develop theirs.\n  \n\nThe purpose of the Business Leader Roundtable is to:  Learn & Plan in an Accelerated Environment (Growth Minded) to Increase your Business and Personal Growth.\n\n\n\n\nDon’t miss this session! Guaranteed to stretch your business and personal growth!\n\nBe The Exception!!!\n\n\n\nDon’t miss the 3rd Thursday every month!
URL:https://gorainmakers.com/event/business-leader-roundtable-2020-03-19-2020-05-21/
LOCATION:Zoom Webinar\, Indianapolis\, IN
CATEGORIES:Roundtable,Webinar
ATTACH;FMTTYPE=image/png:https://gorainmakers.com/wp-content/uploads/2019/10/BLR_1200x600.png
END:VEVENT
END:VCALENDAR