BEGIN:VCALENDAR
VERSION:2.0
PRODID:-//Rainmakers - ECPv6.15.17.1//NONSGML v1.0//EN
CALSCALE:GREGORIAN
METHOD:PUBLISH
X-WR-CALNAME:Rainmakers
X-ORIGINAL-URL:https://gorainmakers.com
X-WR-CALDESC:Events for Rainmakers
REFRESH-INTERVAL;VALUE=DURATION:PT1H
X-Robots-Tag:noindex
X-PUBLISHED-TTL:PT1H
BEGIN:VTIMEZONE
TZID:America/Indiana/Indianapolis
BEGIN:DAYLIGHT
TZOFFSETFROM:-0500
TZOFFSETTO:-0400
TZNAME:EDT
DTSTART:20190310T070000
END:DAYLIGHT
BEGIN:STANDARD
TZOFFSETFROM:-0400
TZOFFSETTO:-0500
TZNAME:EST
DTSTART:20191103T060000
END:STANDARD
BEGIN:DAYLIGHT
TZOFFSETFROM:-0500
TZOFFSETTO:-0400
TZNAME:EDT
DTSTART:20200308T070000
END:DAYLIGHT
BEGIN:STANDARD
TZOFFSETFROM:-0400
TZOFFSETTO:-0500
TZNAME:EST
DTSTART:20201101T060000
END:STANDARD
BEGIN:DAYLIGHT
TZOFFSETFROM:-0500
TZOFFSETTO:-0400
TZNAME:EDT
DTSTART:20210314T070000
END:DAYLIGHT
BEGIN:STANDARD
TZOFFSETFROM:-0400
TZOFFSETTO:-0500
TZNAME:EST
DTSTART:20211107T060000
END:STANDARD
END:VTIMEZONE
BEGIN:VEVENT
DTSTART;TZID=America/Indiana/Indianapolis:20200527T083000
DTEND;TZID=America/Indiana/Indianapolis:20200527T100000
DTSTAMP:20260421T191038
CREATED:20191212T170908Z
LAST-MODIFIED:20200518T161310Z
UID:122767-1590568200-1590573600@gorainmakers.com
SUMMARY:The 5 P’s of Business in These Unprecedented Times
DESCRIPTION:Rainmakers 8X Virtual \n8X is a monthly personal development Rainmakers offering that promotes holistic human development by taking time to reflect and grow in the eight core areas of our lives. Each session will provide a dedicated learning topic that fits into one of the key areas of our lives and will include tactical application concepts. Aside from the dedicated topic of the session\, time will be allotted for participants to reflect on each of the eight areas of the Life Wheel\, pinpointing strengths and action planning around opportunities for growth. At Rainmakers\, we believe that in order to be our best in leading and serving others\, we have to be the best version of us\, first. 8X is a system to help us lead ourselves well. \n  \nTopic: The 5 P’s of Business in These Unprecedented Times \n\n\nPIVOT\nPAUSE\nPURGE\nPROVIDE\nPLAN\n\n\n\nThese are the 5 critical steps you need to make in these unprecedented times. I’ll walk you through what they mean and how to use them in your business to come through stronger than before.\n\nPlus\, new this month! When you register\, you’ll be able to describe an area where you feel stuck\, unsure\, or could use advice in your business.  As a group\, we’ll provide fresh perspective\, insights\, and solutions. Come away with answers and clarity on your next steps.\n  \nOur Facilitator: Anna Kantzavelos \n \nAnna Kantzavelos is a mom\, wife\, business owner\, and entrepreneur whose “why” is service\, faith\, and impact. She runs an independent pharmacy with her husband\, loves her three awesome (and sometimes crazy) kids\, and launched Elevate 122 to help small-business owners elevate their business\, family\, and health. She starts every day with coffee\, the Bible App\, and if we’re being honest\, a few games of Candy Crush. Anna loves seeing the possibility in everything and is committed to helping others live a fully abundant life with purpose and impact.
URL:https://gorainmakers.com/event/rainmakers-8x-2020-03-25-2020-05-27/
LOCATION:Nexus Impact Center\, 9511 Angola Ct\, Indianapolis\, 46268
ATTACH;FMTTYPE=image/png:https://gorainmakers.com/wp-content/uploads/2019/12/8X_1200x600.png
END:VEVENT
END:VCALENDAR