BEGIN:VCALENDAR
VERSION:2.0
PRODID:-//Rainmakers - ECPv6.15.17.1//NONSGML v1.0//EN
CALSCALE:GREGORIAN
METHOD:PUBLISH
X-WR-CALNAME:Rainmakers
X-ORIGINAL-URL:https://gorainmakers.com
X-WR-CALDESC:Events for Rainmakers
REFRESH-INTERVAL;VALUE=DURATION:PT1H
X-Robots-Tag:noindex
X-PUBLISHED-TTL:PT1H
BEGIN:VTIMEZONE
TZID:America/Indiana/Indianapolis
BEGIN:DAYLIGHT
TZOFFSETFROM:-0500
TZOFFSETTO:-0400
TZNAME:EDT
DTSTART:20190310T070000
END:DAYLIGHT
BEGIN:STANDARD
TZOFFSETFROM:-0400
TZOFFSETTO:-0500
TZNAME:EST
DTSTART:20191103T060000
END:STANDARD
BEGIN:DAYLIGHT
TZOFFSETFROM:-0500
TZOFFSETTO:-0400
TZNAME:EDT
DTSTART:20200308T070000
END:DAYLIGHT
BEGIN:STANDARD
TZOFFSETFROM:-0400
TZOFFSETTO:-0500
TZNAME:EST
DTSTART:20201101T060000
END:STANDARD
BEGIN:DAYLIGHT
TZOFFSETFROM:-0500
TZOFFSETTO:-0400
TZNAME:EDT
DTSTART:20210314T070000
END:DAYLIGHT
BEGIN:STANDARD
TZOFFSETFROM:-0400
TZOFFSETTO:-0500
TZNAME:EST
DTSTART:20211107T060000
END:STANDARD
END:VTIMEZONE
BEGIN:VEVENT
DTSTART;TZID=America/Indiana/Indianapolis:20200529T110000
DTEND;TZID=America/Indiana/Indianapolis:20200529T120000
DTSTAMP:20260421T191024
CREATED:20200520T150651Z
LAST-MODIFIED:20200520T150651Z
UID:123167-1590750000-1590753600@gorainmakers.com
SUMMARY:Virtual Networking
DESCRIPTION:Network and meet others without leaving your home or office. It’s simple: sign up for a 60-minute session and network via your webcam. This is a moderated networking session. Share your name\, elevator pitch\, ideal client profile\, and something unique about yourself. If you have a specific ask\, mention that too! \nAfter the session\, we’ll send the contact information of the participants so you can follow up. Cheers to efficiency in the game of helping others! \nYou must have a webcam to participate. \n  \n\n\n\nWhy Do Rainmakers Love Virtual Networking?
URL:https://gorainmakers.com/event/virtual-networking-11/
LOCATION:Zoom Webinar\, Indianapolis\, IN
CATEGORIES:Virtual Networking
ATTACH;FMTTYPE=image/png:https://gorainmakers.com/wp-content/uploads/2020/04/VN_1200x600.png
END:VEVENT
END:VCALENDAR